Package: GOSim Version: 1.30.0 Command: /home/biocbuild/bbs-3.13-bioc/R/bin/R CMD INSTALL GOSim StartedAt: 2021-10-14 06:16:01 -0400 (Thu, 14 Oct 2021) EndedAt: 2021-10-14 06:16:26 -0400 (Thu, 14 Oct 2021) EllapsedTime: 24.2 seconds RetCode: 0 Status: OK