Package: GAPGOM Version: 1.8.0 Command: /Library/Frameworks/R.framework/Versions/Current/Resources/bin/R CMD build --keep-empty-dirs --no-resave-data GAPGOM StartedAt: 2021-10-14 12:10:31 -0400 (Thu, 14 Oct 2021) EndedAt: 2021-10-14 12:12:49 -0400 (Thu, 14 Oct 2021) EllapsedTime: 138.8 seconds RetCode: 0 Status: OK PackageFile: GAPGOM_1.8.0.tar.gz PackageFileSize: 1.038 MiB