Package: FGNet Version: 3.26.0 Command: chmod a+r FGNet -R && C:\Users\biocbuild\bbs-3.13-bioc\R\bin\R.exe CMD build --keep-empty-dirs --no-resave-data FGNet StartedAt: 2021-10-14 14:08:36 -0400 (Thu, 14 Oct 2021) EndedAt: 2021-10-14 14:08:59 -0400 (Thu, 14 Oct 2021) EllapsedTime: 23.3 seconds RetCode: 0 Status: OK PackageFile: FGNet_3.26.0.tar.gz PackageFileSize: 2.718 MiB