Package: ExperimentSubset Version: 1.2.0 Command: rm -rf ExperimentSubset.buildbin-libdir && mkdir ExperimentSubset.buildbin-libdir && C:\Users\biocbuild\bbs-3.13-bioc\R\bin\R.exe CMD INSTALL --merge-multiarch --build --library=ExperimentSubset.buildbin-libdir ExperimentSubset_1.2.0.tar.gz StartedAt: 2021-10-15 09:13:55 -0400 (Fri, 15 Oct 2021) EndedAt: 2021-10-15 09:16:06 -0400 (Fri, 15 Oct 2021) EllapsedTime: 130.7 seconds RetCode: 0 Status: OK PackageFile: ExperimentSubset_1.2.0.zip PackageFileSize: 786 KiB