Package: EnhancedVolcano Version: 1.10.0 Command: /Library/Frameworks/R.framework/Versions/Current/Resources/bin/R CMD INSTALL EnhancedVolcano StartedAt: 2021-10-14 09:44:30 -0400 (Thu, 14 Oct 2021) EndedAt: 2021-10-14 09:45:26 -0400 (Thu, 14 Oct 2021) EllapsedTime: 55.3 seconds RetCode: 0 Status: OK