git_url: https://git.bioconductor.org/packages/EnhancedVolcano git_branch: RELEASE_3_13 git_last_commit: f229674 git_last_commit_date: 2021-05-19 12:37:28 -0400 (Wed, 19 May 2021) Package: EnhancedVolcano Version: 1.10.0 Maintainer: Kevin Blighe MaintainerEmail: kevin at clinicalbioinformatics.co.uk