Package: EWCE Version: 1.0.1 Command: chmod a+r EWCE -R && C:\Users\biocbuild\bbs-3.13-bioc\R\bin\R.exe CMD build --keep-empty-dirs --no-resave-data EWCE StartedAt: 2021-10-14 14:01:39 -0400 (Thu, 14 Oct 2021) EndedAt: 2021-10-14 14:08:36 -0400 (Thu, 14 Oct 2021) EllapsedTime: 416.9 seconds RetCode: 0 Status: OK PackageFile: EWCE_1.0.1.tar.gz PackageFileSize: 541.8 KiB