Package: EGAD Version: 1.20.0 Command: C:\Users\biocbuild\bbs-3.13-bioc\R\bin\R.exe CMD check --force-multiarch --install=check:EGAD.install-out.txt --library=C:\Users\biocbuild\bbs-3.13-bioc\R\library --no-vignettes --timings EGAD_1.20.0.tar.gz StartedAt: 2021-10-14 22:40:21 -0400 (Thu, 14 Oct 2021) EndedAt: 2021-10-14 22:42:34 -0400 (Thu, 14 Oct 2021) EllapsedTime: 132.9 seconds RetCode: 0 Status: WARNINGS CheckDir: EGAD.Rcheck Warnings: 1