Package: EGAD Version: 1.20.0 Command: chmod a+r EGAD -R && C:\Users\biocbuild\bbs-3.13-bioc\R\bin\R.exe CMD build --keep-empty-dirs --no-resave-data EGAD StartedAt: 2021-10-14 13:39:19 -0400 (Thu, 14 Oct 2021) EndedAt: 2021-10-14 13:39:36 -0400 (Thu, 14 Oct 2021) EllapsedTime: 16.2 seconds RetCode: 0 Status: OK PackageFile: EGAD_1.20.0.tar.gz PackageFileSize: 14.57 MiB