Package: EGAD Version: 1.20.0 Command: /Library/Frameworks/R.framework/Versions/Current/Resources/bin/R CMD check --install=check:EGAD.install-out.txt --library=/Library/Frameworks/R.framework/Versions/Current/Resources/library --no-vignettes --timings EGAD_1.20.0.tar.gz StartedAt: 2021-10-14 18:40:42 -0400 (Thu, 14 Oct 2021) EndedAt: 2021-10-14 18:42:19 -0400 (Thu, 14 Oct 2021) EllapsedTime: 96.7 seconds RetCode: 0 Status: WARNINGS CheckDir: EGAD.Rcheck Warnings: 1