Package: EDASeq Version: 2.26.1 Command: rm -rf EDASeq.buildbin-libdir && mkdir EDASeq.buildbin-libdir && C:\Users\biocbuild\bbs-3.13-bioc\R\bin\R.exe CMD INSTALL --merge-multiarch --build --library=EDASeq.buildbin-libdir EDASeq_2.26.1.tar.gz StartedAt: 2021-10-15 09:06:33 -0400 (Fri, 15 Oct 2021) EndedAt: 2021-10-15 09:08:09 -0400 (Fri, 15 Oct 2021) EllapsedTime: 95.9 seconds RetCode: 0 Status: OK PackageFile: EDASeq_2.26.1.zip PackageFileSize: 826.1 KiB