Package: EBarrays Version: 2.56.0 Command: chmod a+r EBarrays -R && C:\Users\biocbuild\bbs-3.13-bioc\R\bin\R.exe CMD build --keep-empty-dirs --no-resave-data EBarrays StartedAt: 2021-10-14 13:37:17 -0400 (Thu, 14 Oct 2021) EndedAt: 2021-10-14 13:37:47 -0400 (Thu, 14 Oct 2021) EllapsedTime: 29.5 seconds RetCode: 0 Status: OK PackageFile: EBarrays_2.56.0.tar.gz PackageFileSize: 935.7 KiB