git_url: https://git.bioconductor.org/packages/EBSeq git_branch: RELEASE_3_13 git_last_commit: c92c0b9 git_last_commit_date: 2021-05-19 11:59:00 -0400 (Wed, 19 May 2021) Package: EBSeq Version: 1.32.0 Maintainer: Ning Leng MaintainerEmail: lengning1 at gmail.com