Package: DiscoRhythm Version: 1.8.0 Command: chmod a+r DiscoRhythm -R && C:\Users\biocbuild\bbs-3.13-bioc\R\bin\R.exe CMD build --keep-empty-dirs --no-resave-data DiscoRhythm StartedAt: 2021-10-14 13:29:43 -0400 (Thu, 14 Oct 2021) EndedAt: 2021-10-14 13:30:32 -0400 (Thu, 14 Oct 2021) EllapsedTime: 49.1 seconds RetCode: 0 Status: OK PackageFile: DiscoRhythm_1.8.0.tar.gz PackageFileSize: 2.504 MiB