Package: DNAcopy Version: 1.66.0 Command: chmod a+r DNAcopy -R && C:\Users\biocbuild\bbs-3.13-bioc\R\bin\R.exe CMD build --keep-empty-dirs --no-resave-data DNAcopy StartedAt: 2021-10-14 13:32:41 -0400 (Thu, 14 Oct 2021) EndedAt: 2021-10-14 13:33:01 -0400 (Thu, 14 Oct 2021) EllapsedTime: 20.5 seconds RetCode: 0 Status: OK PackageFile: DNAcopy_1.66.0.tar.gz PackageFileSize: 327.2 KiB