Package: DEsingle Version: 1.12.0 Command: C:\cygwin\bin\curl.exe -O http://155.52.207.165/BBS/3.13/bioc/src/contrib/DEsingle_1.12.0.tar.gz && rm -rf DEsingle.buildbin-libdir && mkdir DEsingle.buildbin-libdir && C:\Users\biocbuild\bbs-3.13-bioc\R\bin\R.exe CMD INSTALL --merge-multiarch --build --library=DEsingle.buildbin-libdir DEsingle_1.12.0.tar.gz && C:\Users\biocbuild\bbs-3.13-bioc\R\bin\R.exe CMD INSTALL DEsingle_1.12.0.zip && rm DEsingle_1.12.0.tar.gz DEsingle_1.12.0.zip StartedAt: 2021-10-14 09:26:04 -0400 (Thu, 14 Oct 2021) EndedAt: 2021-10-14 09:27:24 -0400 (Thu, 14 Oct 2021) EllapsedTime: 79.7 seconds RetCode: 0 Status: OK