Package: DEsingle Version: 1.12.0 Command: /Library/Frameworks/R.framework/Versions/Current/Resources/bin/R CMD INSTALL DEsingle StartedAt: 2021-10-14 09:30:07 -0400 (Thu, 14 Oct 2021) EndedAt: 2021-10-14 09:31:05 -0400 (Thu, 14 Oct 2021) EllapsedTime: 58.3 seconds RetCode: 0 Status: OK