Package: ClusterSignificance Version: 1.20.0 Command: C:\cygwin\bin\curl.exe -O http://155.52.207.165/BBS/3.13/bioc/src/contrib/ClusterSignificance_1.20.0.tar.gz && rm -rf ClusterSignificance.buildbin-libdir && mkdir ClusterSignificance.buildbin-libdir && C:\Users\biocbuild\bbs-3.13-bioc\R\bin\R.exe CMD INSTALL --merge-multiarch --build --library=ClusterSignificance.buildbin-libdir ClusterSignificance_1.20.0.tar.gz && C:\Users\biocbuild\bbs-3.13-bioc\R\bin\R.exe CMD INSTALL ClusterSignificance_1.20.0.zip && rm ClusterSignificance_1.20.0.tar.gz ClusterSignificance_1.20.0.zip StartedAt: 2021-10-14 07:05:18 -0400 (Thu, 14 Oct 2021) EndedAt: 2021-10-14 07:06:06 -0400 (Thu, 14 Oct 2021) EllapsedTime: 48.2 seconds RetCode: 0 Status: OK