Package: CiteFuse Version: 1.4.0 Command: /Library/Frameworks/R.framework/Versions/Current/Resources/bin/R CMD INSTALL CiteFuse StartedAt: 2021-10-14 10:20:50 -0400 (Thu, 14 Oct 2021) EndedAt: 2021-10-14 10:21:27 -0400 (Thu, 14 Oct 2021) EllapsedTime: 37.1 seconds RetCode: 0 Status: OK