Package: ChemmineOB Version: 1.30.0 Command: /home/biocbuild/bbs-3.13-bioc/R/bin/R CMD build --keep-empty-dirs --no-resave-data ChemmineOB StartedAt: 2021-10-14 06:54:46 -0400 (Thu, 14 Oct 2021) EndedAt: 2021-10-14 06:56:46 -0400 (Thu, 14 Oct 2021) EllapsedTime: 120.0 seconds RetCode: 0 Status: OK PackageFile: ChemmineOB_1.30.0.tar.gz PackageFileSize: 1.288 MiB