Package: ChIPexoQual Version: 1.16.0 Command: /Library/Frameworks/R.framework/Versions/Current/Resources/bin/R CMD build --keep-empty-dirs --no-resave-data ChIPexoQual StartedAt: 2021-10-14 11:11:30 -0400 (Thu, 14 Oct 2021) EndedAt: 2021-10-14 11:14:26 -0400 (Thu, 14 Oct 2021) EllapsedTime: 175.8 seconds RetCode: 0 Status: OK PackageFile: ChIPexoQual_1.16.0.tar.gz PackageFileSize: 2.245 MiB