git_url: https://git.bioconductor.org/packages/CellTrails git_branch: RELEASE_3_13 git_last_commit: 2aa606f git_last_commit_date: 2021-05-19 12:36:25 -0400 (Wed, 19 May 2021) Package: CellTrails Version: 1.10.0 Maintainer: Daniel Ellwanger MaintainerEmail: dc.ellwanger.dev at gmail.com