Package: CellNOptR Version: 1.38.0 Command: C:\Users\biocbuild\bbs-3.13-bioc\R\bin\R.exe CMD check --force-multiarch --install=check:CellNOptR.install-out.txt --library=C:\Users\biocbuild\bbs-3.13-bioc\R\library --no-vignettes --timings CellNOptR_1.38.0.tar.gz StartedAt: 2021-10-14 20:47:47 -0400 (Thu, 14 Oct 2021) EndedAt: 2021-10-14 20:53:50 -0400 (Thu, 14 Oct 2021) EllapsedTime: 362.3 seconds RetCode: 0 Status: WARNINGS CheckDir: CellNOptR.Rcheck Warnings: 5