Package: CancerInSilico Version: 2.12.0 Command: /home/biocbuild/bbs-3.13-bioc/R/bin/R CMD build --keep-empty-dirs --no-resave-data CancerInSilico StartedAt: 2021-10-14 06:51:39 -0400 (Thu, 14 Oct 2021) EndedAt: 2021-10-14 06:53:39 -0400 (Thu, 14 Oct 2021) EllapsedTime: 119.8 seconds RetCode: 0 Status: OK PackageFile: CancerInSilico_2.12.0.tar.gz PackageFileSize: 2.282 MiB