Package: CODEX Version: 1.24.0 Command: /home/biocbuild/bbs-3.13-bioc/R/bin/R CMD INSTALL CODEX StartedAt: 2021-10-14 06:26:41 -0400 (Thu, 14 Oct 2021) EndedAt: 2021-10-14 06:27:08 -0400 (Thu, 14 Oct 2021) EllapsedTime: 27.4 seconds RetCode: 0 Status: OK