Package: CNORfeeder Version: 1.32.0 Command: chmod a+r CNORfeeder -R && C:\Users\biocbuild\bbs-3.13-bioc\R\bin\R.exe CMD build --keep-empty-dirs --no-resave-data CNORfeeder StartedAt: 2021-10-14 12:54:43 -0400 (Thu, 14 Oct 2021) EndedAt: 2021-10-14 12:55:27 -0400 (Thu, 14 Oct 2021) EllapsedTime: 44.3 seconds RetCode: 0 Status: OK PackageFile: CNORfeeder_1.32.0.tar.gz PackageFileSize: 3.357 MiB