Package: CNORdt Version: 1.34.0 Command: /Library/Frameworks/R.framework/Versions/Current/Resources/bin/R CMD check --install=check:CNORdt.install-out.txt --library=/Library/Frameworks/R.framework/Versions/Current/Resources/library --no-vignettes --timings CNORdt_1.34.0.tar.gz StartedAt: 2021-10-14 17:34:39 -0400 (Thu, 14 Oct 2021) EndedAt: 2021-10-14 17:36:56 -0400 (Thu, 14 Oct 2021) EllapsedTime: 137.3 seconds RetCode: 0 Status: OK CheckDir: CNORdt.Rcheck Warnings: 0