Package: CATALYST Version: 1.16.2 Command: C:\Users\biocbuild\bbs-3.13-bioc\R\bin\R.exe CMD check --force-multiarch --install=check:CATALYST.install-out.txt --library=C:\Users\biocbuild\bbs-3.13-bioc\R\library --no-vignettes --timings CATALYST_1.16.2.tar.gz StartedAt: 2021-10-14 20:39:07 -0400 (Thu, 14 Oct 2021) EndedAt: 2021-10-14 21:00:26 -0400 (Thu, 14 Oct 2021) EllapsedTime: 1279.1 seconds RetCode: 0 Status: OK CheckDir: CATALYST.Rcheck Warnings: 0