Package: BiocSklearn Version: 1.14.1 Command: /home/biocbuild/bbs-3.13-bioc/R/bin/R CMD check --install=check:BiocSklearn.install-out.txt --library=/home/biocbuild/bbs-3.13-bioc/R/library --no-vignettes --timings BiocSklearn_1.14.1.tar.gz StartedAt: 2021-10-14 09:02:02 -0400 (Thu, 14 Oct 2021) EndedAt: 2021-10-14 09:04:00 -0400 (Thu, 14 Oct 2021) EllapsedTime: 118.2 seconds RetCode: 0 Status: OK CheckDir: BiocSklearn.Rcheck Warnings: 0