Package: BiocSklearn Version: 1.14.1 Command: /home/biocbuild/bbs-3.13-bioc/R/bin/R CMD build --keep-empty-dirs --no-resave-data BiocSklearn StartedAt: 2021-10-14 06:47:38 -0400 (Thu, 14 Oct 2021) EndedAt: 2021-10-14 06:48:02 -0400 (Thu, 14 Oct 2021) EllapsedTime: 23.4 seconds RetCode: 0 Status: OK PackageFile: BiocSklearn_1.14.1.tar.gz PackageFileSize: 32.52 MiB