Package: BiRewire Version: 3.24.0 Command: /home/biocbuild/bbs-3.13-bioc/R/bin/R CMD check --install=check:BiRewire.install-out.txt --library=/home/biocbuild/bbs-3.13-bioc/R/library --no-vignettes --timings BiRewire_3.24.0.tar.gz StartedAt: 2021-10-14 09:03:54 -0400 (Thu, 14 Oct 2021) EndedAt: 2021-10-14 09:06:46 -0400 (Thu, 14 Oct 2021) EllapsedTime: 172.2 seconds RetCode: 0 Status: WARNINGS CheckDir: BiRewire.Rcheck Warnings: 1