Package: BiRewire Version: 3.24.0 Command: rm -rf BiRewire.buildbin-libdir && mkdir BiRewire.buildbin-libdir && /Users/biocbuild/BBS/utils/build-universal.sh BiRewire_3.24.0.tar.gz /Library/Frameworks/R.framework/Versions/Current/Resources/bin/R BiRewire.buildbin-libdir StartedAt: 2021-10-15 01:46:13 -0400 (Fri, 15 Oct 2021) EndedAt: 2021-10-15 01:47:23 -0400 (Fri, 15 Oct 2021) EllapsedTime: 70.1 seconds RetCode: 0 Status: OK PackageFile: BiRewire_3.24.0.tgz PackageFileSize: 633.8 KiB