Package: BayesKnockdown Version: 1.18.0 Command: /Library/Frameworks/R.framework/Versions/Current/Resources/bin/R CMD INSTALL BayesKnockdown StartedAt: 2021-10-14 08:27:57 -0400 (Thu, 14 Oct 2021) EndedAt: 2021-10-14 08:28:46 -0400 (Thu, 14 Oct 2021) EllapsedTime: 48.6 seconds RetCode: 0 Status: OK