Package: BayesKnockdown Version: 1.18.0 Command: rm -rf BayesKnockdown.buildbin-libdir && mkdir BayesKnockdown.buildbin-libdir && /Users/biocbuild/BBS/utils/build-universal.sh BayesKnockdown_1.18.0.tar.gz /Library/Frameworks/R.framework/Versions/Current/Resources/bin/R BayesKnockdown.buildbin-libdir StartedAt: 2021-10-15 01:40:13 -0400 (Fri, 15 Oct 2021) EndedAt: 2021-10-15 01:41:16 -0400 (Fri, 15 Oct 2021) EllapsedTime: 62.4 seconds RetCode: 0 Status: OK PackageFile: BayesKnockdown_1.18.0.tgz PackageFileSize: 137.9 KiB