Package: AssessORF Version: 1.10.0 Command: chmod a+r AssessORF -R && C:\Users\biocbuild\bbs-3.13-bioc\R\bin\R.exe CMD build --keep-empty-dirs --no-resave-data AssessORF StartedAt: 2021-10-14 11:48:48 -0400 (Thu, 14 Oct 2021) EndedAt: 2021-10-14 11:49:52 -0400 (Thu, 14 Oct 2021) EllapsedTime: 63.4 seconds RetCode: 0 Status: OK PackageFile: AssessORF_1.10.0.tar.gz PackageFileSize: 4.696 MiB