Package: AnnotationDbi Version: 1.54.1 Command: C:\Users\biocbuild\bbs-3.13-bioc\R\bin\R.exe CMD check --force-multiarch --install=check:AnnotationDbi.install-out.txt --library=C:\Users\biocbuild\bbs-3.13-bioc\R\library --no-vignettes --timings AnnotationDbi_1.54.1.tar.gz StartedAt: 2021-10-14 19:31:56 -0400 (Thu, 14 Oct 2021) EndedAt: 2021-10-14 19:39:11 -0400 (Thu, 14 Oct 2021) EllapsedTime: 435.1 seconds RetCode: 0 Status: OK CheckDir: AnnotationDbi.Rcheck Warnings: 0