Package: AgiMicroRna Version: 2.42.0 Command: /Library/Frameworks/R.framework/Versions/Current/Resources/bin/R CMD check --install=check:AgiMicroRna.install-out.txt --library=/Library/Frameworks/R.framework/Versions/Current/Resources/library --no-vignettes --timings AgiMicroRna_2.42.0.tar.gz StartedAt: 2021-10-14 16:09:47 -0400 (Thu, 14 Oct 2021) EndedAt: 2021-10-14 16:17:31 -0400 (Thu, 14 Oct 2021) EllapsedTime: 463.9 seconds RetCode: 0 Status: OK CheckDir: AgiMicroRna.Rcheck Warnings: 0