Package: AGDEX Version: 1.40.0 Command: rm -rf AGDEX.buildbin-libdir && mkdir AGDEX.buildbin-libdir && /Users/biocbuild/BBS/utils/build-universal.sh AGDEX_1.40.0.tar.gz /Library/Frameworks/R.framework/Versions/Current/Resources/bin/R AGDEX.buildbin-libdir StartedAt: 2021-10-15 01:32:24 -0400 (Fri, 15 Oct 2021) EndedAt: 2021-10-15 01:33:28 -0400 (Fri, 15 Oct 2021) EllapsedTime: 63.7 seconds RetCode: 0 Status: OK PackageFile: AGDEX_1.40.0.tgz PackageFileSize: 603.6 KiB