Package: ADAMgui Version: 1.8.0 Command: chmod a+r ADAMgui -R && C:\Users\biocbuild\bbs-3.13-bioc\R\bin\R.exe CMD build --keep-empty-dirs --no-resave-data ADAMgui StartedAt: 2021-10-14 11:33:13 -0400 (Thu, 14 Oct 2021) EndedAt: 2021-10-14 11:34:21 -0400 (Thu, 14 Oct 2021) EllapsedTime: 68.1 seconds RetCode: 0 Status: OK PackageFile: ADAMgui_1.8.0.tar.gz PackageFileSize: 1.951 MiB