| Back to Multiple platform build/check report for BioC 3.12 |
|
This page was generated on 2021-05-06 12:28:21 -0400 (Thu, 06 May 2021).
|
To the developers/maintainers of the muscat package: Please make sure to use the following settings in order to reproduce any error or warning you see on this page. |
| Package 1186/1974 | Hostname | OS / Arch | INSTALL | BUILD | CHECK | BUILD BIN | ||||||||
| muscat 1.4.0 (landing page) Helena L. Crowell
| malbec1 | Linux (Ubuntu 18.04.5 LTS) / x86_64 | OK | OK | OK | |||||||||
| tokay1 | Windows Server 2012 R2 Standard / x64 | OK | OK | WARNINGS | OK | |||||||||
| merida1 | macOS 10.14.6 Mojave / x86_64 | OK | OK | OK | OK | |||||||||
| Package: muscat |
| Version: 1.4.0 |
| Command: /home/biocbuild/bbs-3.12-bioc/R/bin/R CMD check --install=check:muscat.install-out.txt --library=/home/biocbuild/bbs-3.12-bioc/R/library --no-vignettes --timings muscat_1.4.0.tar.gz |
| StartedAt: 2021-05-06 03:51:54 -0400 (Thu, 06 May 2021) |
| EndedAt: 2021-05-06 04:00:16 -0400 (Thu, 06 May 2021) |
| EllapsedTime: 501.6 seconds |
| RetCode: 0 |
| Status: OK |
| CheckDir: muscat.Rcheck |
| Warnings: 0 |
##############################################################################
##############################################################################
###
### Running command:
###
### /home/biocbuild/bbs-3.12-bioc/R/bin/R CMD check --install=check:muscat.install-out.txt --library=/home/biocbuild/bbs-3.12-bioc/R/library --no-vignettes --timings muscat_1.4.0.tar.gz
###
##############################################################################
##############################################################################
* using log directory ‘/home/biocbuild/bbs-3.12-bioc/meat/muscat.Rcheck’
* using R version 4.0.5 (2021-03-31)
* using platform: x86_64-pc-linux-gnu (64-bit)
* using session charset: UTF-8
* using option ‘--no-vignettes’
* checking for file ‘muscat/DESCRIPTION’ ... OK
* checking extension type ... Package
* this is package ‘muscat’ version ‘1.4.0’
* package encoding: UTF-8
* checking package namespace information ... OK
* checking package dependencies ... OK
* checking if this is a source package ... OK
* checking if there is a namespace ... OK
* checking for hidden files and directories ... OK
* checking for portable file names ... OK
* checking for sufficient/correct file permissions ... OK
* checking whether package ‘muscat’ can be installed ... OK
* checking installed package size ... OK
* checking package directory ... OK
* checking ‘build’ directory ... OK
* checking DESCRIPTION meta-information ... OK
* checking top-level files ... OK
* checking for left-over files ... OK
* checking index information ... OK
* checking package subdirectories ... OK
* checking R files for non-ASCII characters ... OK
* checking R files for syntax errors ... OK
* checking whether the package can be loaded ... OK
* checking whether the package can be loaded with stated dependencies ... OK
* checking whether the package can be unloaded cleanly ... OK
* checking whether the namespace can be loaded with stated dependencies ... OK
* checking whether the namespace can be unloaded cleanly ... OK
* checking dependencies in R code ... OK
* checking S3 generic/method consistency ... OK
* checking replacement functions ... OK
* checking foreign function calls ... OK
* checking R code for possible problems ... OK
* checking Rd files ... OK
* checking Rd metadata ... OK
* checking Rd cross-references ... OK
* checking for missing documentation entries ... OK
* checking for code/documentation mismatches ... OK
* checking Rd \usage sections ... OK
* checking Rd contents ... OK
* checking for unstated dependencies in examples ... OK
* checking contents of ‘data’ directory ... OK
* checking data for non-ASCII characters ... OK
* checking data for ASCII and uncompressed saves ... OK
* checking files in ‘vignettes’ ... OK
* checking examples ... OK
Examples with CPU (user + system) or elapsed time > 5s
user system elapsed
mmDS 12.484 0.492 12.858
simData 12.036 0.016 12.204
pbHeatmap 8.592 0.088 8.703
prepSim 6.848 0.020 6.872
* checking for unstated dependencies in ‘tests’ ... OK
* checking tests ...
Running ‘testthat.R’
OK
* checking for unstated dependencies in vignettes ... OK
* checking package vignettes in ‘inst/doc’ ... OK
* checking running R code from vignettes ... SKIPPED
* checking re-building of vignette outputs ... SKIPPED
* checking PDF version of manual ... OK
* DONE
Status: OK
muscat.Rcheck/00install.out
##############################################################################
##############################################################################
###
### Running command:
###
### /home/biocbuild/bbs-3.12-bioc/R/bin/R CMD INSTALL muscat
###
##############################################################################
##############################################################################
* installing to library ‘/home/biocbuild/bbs-3.12-bioc/R/library’
* installing *source* package ‘muscat’ ...
** using staged installation
** R
** data
*** moving datasets to lazyload DB
** inst
** byte-compile and prepare package for lazy loading
Warning in checkMatrixPackageVersion() :
Package version inconsistency detected.
TMB was built with Matrix version 1.3.2
Current Matrix version is 1.3.3
Please re-install 'TMB' from source using install.packages('TMB', type = 'source') or ask CRAN for a binary version of 'TMB' matching CRAN's 'Matrix' package
** help
*** installing help indices
** building package indices
** installing vignettes
** testing if installed package can be loaded from temporary location
Warning in checkMatrixPackageVersion() :
Package version inconsistency detected.
TMB was built with Matrix version 1.3.2
Current Matrix version is 1.3.3
Please re-install 'TMB' from source using install.packages('TMB', type = 'source') or ask CRAN for a binary version of 'TMB' matching CRAN's 'Matrix' package
** testing if installed package can be loaded from final location
Warning in checkMatrixPackageVersion() :
Package version inconsistency detected.
TMB was built with Matrix version 1.3.2
Current Matrix version is 1.3.3
Please re-install 'TMB' from source using install.packages('TMB', type = 'source') or ask CRAN for a binary version of 'TMB' matching CRAN's 'Matrix' package
** testing if installed package keeps a record of temporary installation path
* DONE (muscat)
muscat.Rcheck/tests/testthat.Rout
R version 4.0.5 (2021-03-31) -- "Shake and Throw"
Copyright (C) 2021 The R Foundation for Statistical Computing
Platform: x86_64-pc-linux-gnu (64-bit)
R is free software and comes with ABSOLUTELY NO WARRANTY.
You are welcome to redistribute it under certain conditions.
Type 'license()' or 'licence()' for distribution details.
R is a collaborative project with many contributors.
Type 'contributors()' for more information and
'citation()' on how to cite R or R packages in publications.
Type 'demo()' for some demos, 'help()' for on-line help, or
'help.start()' for an HTML browser interface to help.
Type 'q()' to quit R.
> library(testthat)
> library(muscat)
Warning message:
In checkMatrixPackageVersion() : Package version inconsistency detected.
TMB was built with Matrix version 1.3.2
Current Matrix version is 1.3.3
Please re-install 'TMB' from source using install.packages('TMB', type = 'source') or ask CRAN for a binary version of 'TMB' matching CRAN's 'Matrix' package
>
> test_check("muscat")
[ FAIL 0 | WARN 5 | SKIP 0 | PASS 436 ]
>
> proc.time()
user system elapsed
162.596 0.748 163.572
muscat.Rcheck/muscat-Ex.timings
| name | user | system | elapsed | |
| aggregateData | 4.212 | 0.104 | 4.322 | |
| calcExprFreqs | 0.440 | 0.016 | 0.454 | |
| data | 0 | 0 | 0 | |
| mmDS | 12.484 | 0.492 | 12.858 | |
| pbDS | 1.588 | 0.096 | 1.684 | |
| pbFlatten | 1.568 | 0.016 | 1.584 | |
| pbHeatmap | 8.592 | 0.088 | 8.703 | |
| pbMDS | 1.268 | 0.020 | 1.288 | |
| prepSCE | 0.464 | 0.012 | 0.477 | |
| prepSim | 6.848 | 0.020 | 6.872 | |
| resDS | 3.080 | 0.004 | 3.089 | |
| simData | 12.036 | 0.016 | 12.204 | |