| Back to Multiple platform build/check report for BioC 3.12 |
|
This page was generated on 2021-05-06 12:32:18 -0400 (Thu, 06 May 2021).
|
To the developers/maintainers of the missMethyl package: Please make sure to use the following settings in order to reproduce any error or warning you see on this page. |
| Package 1119/1974 | Hostname | OS / Arch | INSTALL | BUILD | CHECK | BUILD BIN | ||||||||
| missMethyl 1.24.0 (landing page) Belinda Phipson
| malbec1 | Linux (Ubuntu 18.04.5 LTS) / x86_64 | OK | OK | OK | |||||||||
| tokay1 | Windows Server 2012 R2 Standard / x64 | OK | OK | OK | OK | |||||||||
| merida1 | macOS 10.14.6 Mojave / x86_64 | OK | OK | OK | OK | |||||||||
| Package: missMethyl |
| Version: 1.24.0 |
| Command: C:\cygwin\bin\curl.exe -O http://172.29.0.3/BBS/3.12/bioc/src/contrib/missMethyl_1.24.0.tar.gz && rm -rf missMethyl.buildbin-libdir && mkdir missMethyl.buildbin-libdir && C:\Users\biocbuild\bbs-3.12-bioc\R\bin\R.exe CMD INSTALL --merge-multiarch --build --library=missMethyl.buildbin-libdir missMethyl_1.24.0.tar.gz && C:\Users\biocbuild\bbs-3.12-bioc\R\bin\R.exe CMD INSTALL missMethyl_1.24.0.zip && rm missMethyl_1.24.0.tar.gz missMethyl_1.24.0.zip |
| StartedAt: 2021-05-05 19:04:29 -0400 (Wed, 05 May 2021) |
| EndedAt: 2021-05-05 19:10:11 -0400 (Wed, 05 May 2021) |
| EllapsedTime: 342.2 seconds |
| RetCode: 0 |
| Status: OK |
##############################################################################
##############################################################################
###
### Running command:
###
### C:\cygwin\bin\curl.exe -O http://172.29.0.3/BBS/3.12/bioc/src/contrib/missMethyl_1.24.0.tar.gz && rm -rf missMethyl.buildbin-libdir && mkdir missMethyl.buildbin-libdir && C:\Users\biocbuild\bbs-3.12-bioc\R\bin\R.exe CMD INSTALL --merge-multiarch --build --library=missMethyl.buildbin-libdir missMethyl_1.24.0.tar.gz && C:\Users\biocbuild\bbs-3.12-bioc\R\bin\R.exe CMD INSTALL missMethyl_1.24.0.zip && rm missMethyl_1.24.0.tar.gz missMethyl_1.24.0.zip
###
##############################################################################
##############################################################################
% Total % Received % Xferd Average Speed Time Time Time Current
Dload Upload Total Spent Left Speed
0 0 0 0 0 0 0 0 --:--:-- --:--:-- --:--:-- 0
100 72930 100 72930 0 0 2012k 0 --:--:-- --:--:-- --:--:-- 2094k
install for i386
* installing *source* package 'missMethyl' ...
** using staged installation
** R
** inst
** byte-compile and prepare package for lazy loading
** help
*** installing help indices
converting help for package 'missMethyl'
finding HTML links ... done
RUVadj html
finding level-2 HTML links ... done
RUVfit html
SWAN html
contrasts.varFit html
densityByProbeType html
getAdj html
getINCs html
getLeveneResiduals html
getMappedEntrezIDs html
gometh html
goregion html
gsameth html
gsaregion html
gsaseq html
missMethyl-package html
topGSA html
topRUV html
topVar html
varFit html
** building package indices
** installing vignettes
** testing if installed package can be loaded from temporary location
** testing if installed package can be loaded from final location
** testing if installed package keeps a record of temporary installation path
install for x64
* installing *source* package 'missMethyl' ...
** testing if installed package can be loaded
* MD5 sums
packaged installation of 'missMethyl' as missMethyl_1.24.0.zip
* DONE (missMethyl)
* installing to library 'C:/Users/biocbuild/bbs-3.12-bioc/R/library'
package 'missMethyl' successfully unpacked and MD5 sums checked