| Back to Multiple platform build/check report for BioC 3.12 |
|
This page was generated on 2021-05-06 12:31:47 -0400 (Thu, 06 May 2021).
|
To the developers/maintainers of the iASeq package: Please make sure to use the following settings in order to reproduce any error or warning you see on this page. |
| Package 858/1974 | Hostname | OS / Arch | INSTALL | BUILD | CHECK | BUILD BIN | ||||||||
| iASeq 1.34.0 (landing page) Yingying Wei
| malbec1 | Linux (Ubuntu 18.04.5 LTS) / x86_64 | OK | OK | OK | |||||||||
| tokay1 | Windows Server 2012 R2 Standard / x64 | OK | OK | OK | OK | |||||||||
| merida1 | macOS 10.14.6 Mojave / x86_64 | OK | OK | OK | OK | |||||||||
| Package: iASeq |
| Version: 1.34.0 |
| Command: C:\cygwin\bin\curl.exe -O http://172.29.0.3/BBS/3.12/bioc/src/contrib/iASeq_1.34.0.tar.gz && rm -rf iASeq.buildbin-libdir && mkdir iASeq.buildbin-libdir && C:\Users\biocbuild\bbs-3.12-bioc\R\bin\R.exe CMD INSTALL --merge-multiarch --build --library=iASeq.buildbin-libdir iASeq_1.34.0.tar.gz && C:\Users\biocbuild\bbs-3.12-bioc\R\bin\R.exe CMD INSTALL iASeq_1.34.0.zip && rm iASeq_1.34.0.tar.gz iASeq_1.34.0.zip |
| StartedAt: 2021-05-05 16:38:44 -0400 (Wed, 05 May 2021) |
| EndedAt: 2021-05-05 16:39:04 -0400 (Wed, 05 May 2021) |
| EllapsedTime: 20.0 seconds |
| RetCode: 0 |
| Status: OK |
##############################################################################
##############################################################################
###
### Running command:
###
### C:\cygwin\bin\curl.exe -O http://172.29.0.3/BBS/3.12/bioc/src/contrib/iASeq_1.34.0.tar.gz && rm -rf iASeq.buildbin-libdir && mkdir iASeq.buildbin-libdir && C:\Users\biocbuild\bbs-3.12-bioc\R\bin\R.exe CMD INSTALL --merge-multiarch --build --library=iASeq.buildbin-libdir iASeq_1.34.0.tar.gz && C:\Users\biocbuild\bbs-3.12-bioc\R\bin\R.exe CMD INSTALL iASeq_1.34.0.zip && rm iASeq_1.34.0.tar.gz iASeq_1.34.0.zip
###
##############################################################################
##############################################################################
% Total % Received % Xferd Average Speed Time Time Time Current
Dload Upload Total Spent Left Speed
0 0 0 0 0 0 0 0 --:--:-- --:--:-- --:--:-- 0
100 34472 100 34472 0 0 4787k 0 --:--:-- --:--:-- --:--:-- 5610k
install for i386
* installing *source* package 'iASeq' ...
** using staged installation
** R
** data
** inst
** byte-compile and prepare package for lazy loading
** help
*** installing help indices
converting help for package 'iASeq'
finding HTML links ... done
ASErawfit html
iASeq-internal html
iASeq-package html
iASeqmotif html
plotBIC html
plotMotif html
sampleASE html
singleEMfit html
** building package indices
** installing vignettes
** testing if installed package can be loaded from temporary location
** testing if installed package can be loaded from final location
** testing if installed package keeps a record of temporary installation path
install for x64
* installing *source* package 'iASeq' ...
** testing if installed package can be loaded
* MD5 sums
packaged installation of 'iASeq' as iASeq_1.34.0.zip
* DONE (iASeq)
* installing to library 'C:/Users/biocbuild/bbs-3.12-bioc/R/library'
package 'iASeq' successfully unpacked and MD5 sums checked