| Back to Multiple platform build/check report for BioC 3.12 |
|
This page was generated on 2021-05-06 12:29:50 -0400 (Thu, 06 May 2021).
|
To the developers/maintainers of the affyPara package: Please make sure to use the following settings in order to reproduce any error or warning you see on this page. |
| Package 33/1974 | Hostname | OS / Arch | INSTALL | BUILD | CHECK | BUILD BIN | ||||||||
| affyPara 1.50.0 (landing page) Markus Schmidberger
| malbec1 | Linux (Ubuntu 18.04.5 LTS) / x86_64 | OK | OK | OK | |||||||||
| tokay1 | Windows Server 2012 R2 Standard / x64 | OK | OK | OK | OK | |||||||||
| merida1 | macOS 10.14.6 Mojave / x86_64 | OK | OK | OK | OK | |||||||||
| Package: affyPara |
| Version: 1.50.0 |
| Command: C:\cygwin\bin\curl.exe -O http://172.29.0.3/BBS/3.12/bioc/src/contrib/affyPara_1.50.0.tar.gz && rm -rf affyPara.buildbin-libdir && mkdir affyPara.buildbin-libdir && C:\Users\biocbuild\bbs-3.12-bioc\R\bin\R.exe CMD INSTALL --merge-multiarch --build --library=affyPara.buildbin-libdir affyPara_1.50.0.tar.gz && C:\Users\biocbuild\bbs-3.12-bioc\R\bin\R.exe CMD INSTALL affyPara_1.50.0.zip && rm affyPara_1.50.0.tar.gz affyPara_1.50.0.zip |
| StartedAt: 2021-05-05 17:28:38 -0400 (Wed, 05 May 2021) |
| EndedAt: 2021-05-05 17:29:19 -0400 (Wed, 05 May 2021) |
| EllapsedTime: 41.6 seconds |
| RetCode: 0 |
| Status: OK |
##############################################################################
##############################################################################
###
### Running command:
###
### C:\cygwin\bin\curl.exe -O http://172.29.0.3/BBS/3.12/bioc/src/contrib/affyPara_1.50.0.tar.gz && rm -rf affyPara.buildbin-libdir && mkdir affyPara.buildbin-libdir && C:\Users\biocbuild\bbs-3.12-bioc\R\bin\R.exe CMD INSTALL --merge-multiarch --build --library=affyPara.buildbin-libdir affyPara_1.50.0.tar.gz && C:\Users\biocbuild\bbs-3.12-bioc\R\bin\R.exe CMD INSTALL affyPara_1.50.0.zip && rm affyPara_1.50.0.tar.gz affyPara_1.50.0.zip
###
##############################################################################
##############################################################################
% Total % Received % Xferd Average Speed Time Time Time Current
Dload Upload Total Spent Left Speed
0 0 0 0 0 0 0 0 --:--:-- --:--:-- --:--:-- 0
100 261k 100 261k 0 0 14.5M 0 --:--:-- --:--:-- --:--:-- 15.0M
install for i386
* installing *source* package 'affyPara' ...
** using staged installation
** R
** byte-compile and prepare package for lazy loading
** help
*** installing help indices
converting help for package 'affyPara'
finding HTML links ... done
MAplotPara html
bgcPara html
boxplotPara html
class.vsnInputPara html
computeExprSetPara html
distributeFiles html
mergeSplitObjects html
normalizeAffyBatchConstantPara html
normalizeAffyBatchInvariantsetPara html
normalizeAffyBatchLoessPara html
normalizeAffyBatchLoessParaIter html
normalizeAffyBatchQuantilesPara html
preproPara html
qa html
readAffybatchPara html
removeDistributedFiles html
rmaPara html
snowReplace html
split html
vsnPara html
finding level-2 HTML links ... done
** building package indices
** installing vignettes
** testing if installed package can be loaded from temporary location
** testing if installed package can be loaded from final location
** testing if installed package keeps a record of temporary installation path
install for x64
* installing *source* package 'affyPara' ...
** testing if installed package can be loaded
* MD5 sums
packaged installation of 'affyPara' as affyPara_1.50.0.zip
* DONE (affyPara)
* installing to library 'C:/Users/biocbuild/bbs-3.12-bioc/R/library'
package 'affyPara' successfully unpacked and MD5 sums checked