| Back to Multiple platform build/check report for BioC 3.12 |
|
This page was generated on 2021-05-06 12:29:54 -0400 (Thu, 06 May 2021).
|
To the developers/maintainers of the AnVILBilling package: Please make sure to use the following settings in order to reproduce any error or warning you see on this page. |
| Package 74/1974 | Hostname | OS / Arch | INSTALL | BUILD | CHECK | BUILD BIN | ||||||||
| AnVILBilling 1.0.1 (landing page) Vince Carey
| malbec1 | Linux (Ubuntu 18.04.5 LTS) / x86_64 | OK | OK | OK | |||||||||
| tokay1 | Windows Server 2012 R2 Standard / x64 | OK | OK | OK | OK | |||||||||
| merida1 | macOS 10.14.6 Mojave / x86_64 | OK | OK | OK | OK | |||||||||
| Package: AnVILBilling |
| Version: 1.0.1 |
| Command: C:\Users\biocbuild\bbs-3.12-bioc\R\bin\R.exe CMD check --force-multiarch --install=check:AnVILBilling.install-out.txt --library=C:\Users\biocbuild\bbs-3.12-bioc\R\library --no-vignettes --timings AnVILBilling_1.0.1.tar.gz |
| StartedAt: 2021-05-06 00:26:50 -0400 (Thu, 06 May 2021) |
| EndedAt: 2021-05-06 00:28:12 -0400 (Thu, 06 May 2021) |
| EllapsedTime: 81.8 seconds |
| RetCode: 0 |
| Status: OK |
| CheckDir: AnVILBilling.Rcheck |
| Warnings: 0 |
##############################################################################
##############################################################################
###
### Running command:
###
### C:\Users\biocbuild\bbs-3.12-bioc\R\bin\R.exe CMD check --force-multiarch --install=check:AnVILBilling.install-out.txt --library=C:\Users\biocbuild\bbs-3.12-bioc\R\library --no-vignettes --timings AnVILBilling_1.0.1.tar.gz
###
##############################################################################
##############################################################################
* using log directory 'C:/Users/biocbuild/bbs-3.12-bioc/meat/AnVILBilling.Rcheck'
* using R version 4.0.5 (2021-03-31)
* using platform: x86_64-w64-mingw32 (64-bit)
* using session charset: ISO8859-1
* using option '--no-vignettes'
* checking for file 'AnVILBilling/DESCRIPTION' ... OK
* this is package 'AnVILBilling' version '1.0.1'
* package encoding: UTF-8
* checking package namespace information ... OK
* checking package dependencies ... OK
* checking if this is a source package ... OK
* checking if there is a namespace ... OK
* checking for hidden files and directories ... OK
* checking for portable file names ... OK
* checking whether package 'AnVILBilling' can be installed ... OK
* checking installed package size ... OK
* checking package directory ... OK
* checking 'build' directory ... OK
* checking DESCRIPTION meta-information ... NOTE
Malformed Title field: should not end in a period.
* checking top-level files ... OK
* checking for left-over files ... OK
* checking index information ... OK
* checking package subdirectories ... OK
* checking R files for non-ASCII characters ... OK
* checking R files for syntax errors ... OK
* loading checks for arch 'i386'
** checking whether the package can be loaded ... OK
** checking whether the package can be loaded with stated dependencies ... OK
** checking whether the package can be unloaded cleanly ... OK
** checking whether the namespace can be loaded with stated dependencies ... OK
** checking whether the namespace can be unloaded cleanly ... OK
* loading checks for arch 'x64'
** checking whether the package can be loaded ... OK
** checking whether the package can be loaded with stated dependencies ... OK
** checking whether the package can be unloaded cleanly ... OK
** checking whether the namespace can be loaded with stated dependencies ... OK
** checking whether the namespace can be unloaded cleanly ... OK
* checking dependencies in R code ... NOTE
There are ::: calls to the package's namespace in its code. A package
almost never needs to use ::: for its own objects:
'kvpivot'
* checking S3 generic/method consistency ... OK
* checking replacement functions ... OK
* checking foreign function calls ... OK
* checking R code for possible problems ... NOTE
brec_server: no visible binding for global variable 'usage_start_time'
brec_server: no visible binding for global variable 'cost'
brec_server: no visible binding for global variable 'res'
brec_server: no visible global function definition for 'sessionInfo'
getBilling: no visible binding for global variable 'usage_start_time'
getBilling: no visible binding for global variable 'usage_end_time'
oldbrowse_reck : server: no visible binding for global variable
'usage_start_time'
oldbrowse_reck : server: no visible binding for global variable 'cost'
oldbrowse_reck : server: no visible binding for global variable 'res'
oldbrowse_reck : server: no visible global function definition for
'sessionInfo'
Undefined global functions or variables:
cost res sessionInfo usage_end_time usage_start_time
Consider adding
importFrom("utils", "sessionInfo")
to your NAMESPACE file.
* checking Rd files ... OK
* checking Rd metadata ... OK
* checking Rd cross-references ... OK
* checking for missing documentation entries ... OK
* checking for code/documentation mismatches ... OK
* checking Rd \usage sections ... OK
* checking Rd contents ... OK
* checking for unstated dependencies in examples ... OK
* checking contents of 'data' directory ... OK
* checking data for non-ASCII characters ... OK
* checking data for ASCII and uncompressed saves ... OK
* checking files in 'vignettes' ... OK
* checking examples ...
** running examples for arch 'i386' ... OK
** running examples for arch 'x64' ... OK
* checking for unstated dependencies in 'tests' ... OK
* checking tests ...
** running tests for arch 'i386' ...
Running 'testthat.R'
OK
** running tests for arch 'x64' ...
Running 'testthat.R'
OK
* checking for unstated dependencies in vignettes ... OK
* checking package vignettes in 'inst/doc' ... OK
* checking running R code from vignettes ... SKIPPED
* checking re-building of vignette outputs ... SKIPPED
* checking PDF version of manual ... OK
* DONE
Status: 3 NOTEs
See
'C:/Users/biocbuild/bbs-3.12-bioc/meat/AnVILBilling.Rcheck/00check.log'
for details.
AnVILBilling.Rcheck/00install.out
##############################################################################
##############################################################################
###
### Running command:
###
### C:\cygwin\bin\curl.exe -O http://172.29.0.3/BBS/3.12/bioc/src/contrib/AnVILBilling_1.0.1.tar.gz && rm -rf AnVILBilling.buildbin-libdir && mkdir AnVILBilling.buildbin-libdir && C:\Users\biocbuild\bbs-3.12-bioc\R\bin\R.exe CMD INSTALL --merge-multiarch --build --library=AnVILBilling.buildbin-libdir AnVILBilling_1.0.1.tar.gz && C:\Users\biocbuild\bbs-3.12-bioc\R\bin\R.exe CMD INSTALL AnVILBilling_1.0.1.zip && rm AnVILBilling_1.0.1.tar.gz AnVILBilling_1.0.1.zip
###
##############################################################################
##############################################################################
% Total % Received % Xferd Average Speed Time Time Time Current
Dload Upload Total Spent Left Speed
0 0 0 0 0 0 0 0 --:--:-- --:--:-- --:--:-- 0
100 529k 100 529k 0 0 8993k 0 --:--:-- --:--:-- --:--:-- 9131k
install for i386
Warning in untar2(tarfile, files, list, exdir, restore_times) :
failed to copy 'AnVILBilling/vignettes/billing.Rmd' to 'AnVILBilling/README.md'
* installing *source* package 'AnVILBilling' ...
** using staged installation
** R
** data
*** moving datasets to lazyload DB
** byte-compile and prepare package for lazy loading
** help
*** installing help indices
converting help for package 'AnVILBilling'
finding HTML links ... done
ab_reckoning html
browse_reck html
demo_rec html
getBilling html
getKeys html
getSkus html
getValues html
reckon html
reckoning-avReckoning-method html
reckoning html
setup_billing_request html
subsetByKeyValue html
subsetBySku html
** building package indices
** installing vignettes
** testing if installed package can be loaded from temporary location
** testing if installed package can be loaded from final location
** testing if installed package keeps a record of temporary installation path
install for x64
Warning in untar2(tarfile, files, list, exdir, restore_times) :
failed to copy 'AnVILBilling/vignettes/billing.Rmd' to 'AnVILBilling/README.md'
* installing *source* package 'AnVILBilling' ...
** testing if installed package can be loaded
* MD5 sums
packaged installation of 'AnVILBilling' as AnVILBilling_1.0.1.zip
* DONE (AnVILBilling)
* installing to library 'C:/Users/biocbuild/bbs-3.12-bioc/R/library'
package 'AnVILBilling' successfully unpacked and MD5 sums checked
|
AnVILBilling.Rcheck/tests_i386/testthat.Rout
R version 4.0.5 (2021-03-31) -- "Shake and Throw"
Copyright (C) 2021 The R Foundation for Statistical Computing
Platform: i386-w64-mingw32/i386 (32-bit)
R is free software and comes with ABSOLUTELY NO WARRANTY.
You are welcome to redistribute it under certain conditions.
Type 'license()' or 'licence()' for distribution details.
R is a collaborative project with many contributors.
Type 'contributors()' for more information and
'citation()' on how to cite R or R packages in publications.
Type 'demo()' for some demos, 'help()' for on-line help, or
'help.start()' for an HTML browser interface to help.
Type 'q()' to quit R.
> library(testthat)
> library(AnVILBilling)
>
> test_check("AnVILBilling")
[ FAIL 0 | WARN 0 | SKIP 0 | PASS 1 ]
>
> proc.time()
user system elapsed
2.56 0.26 2.81
|
AnVILBilling.Rcheck/tests_x64/testthat.Rout
R version 4.0.5 (2021-03-31) -- "Shake and Throw"
Copyright (C) 2021 The R Foundation for Statistical Computing
Platform: x86_64-w64-mingw32/x64 (64-bit)
R is free software and comes with ABSOLUTELY NO WARRANTY.
You are welcome to redistribute it under certain conditions.
Type 'license()' or 'licence()' for distribution details.
R is a collaborative project with many contributors.
Type 'contributors()' for more information and
'citation()' on how to cite R or R packages in publications.
Type 'demo()' for some demos, 'help()' for on-line help, or
'help.start()' for an HTML browser interface to help.
Type 'q()' to quit R.
> library(testthat)
> library(AnVILBilling)
>
> test_check("AnVILBilling")
[ FAIL 0 | WARN 0 | SKIP 0 | PASS 1 ]
>
> proc.time()
user system elapsed
3.04 0.25 3.28
|
|
AnVILBilling.Rcheck/examples_i386/AnVILBilling-Ex.timings
|
AnVILBilling.Rcheck/examples_x64/AnVILBilling-Ex.timings
|