Welcome to mirrors.dotsrc.org

All our mirrors of open source software are available via http, https, ftp and an onion service. More information about our mirrors including statistics and contact information is available on our mirror info pages.

For information about dotsrc.org and our other services please go to our website.

Index of /bioconductor/checkResults/3.11/bioc-LATEST/

File Name  ↓ File Size  ↓ Date  ↓ 
--
-2020-10-17 15:54:10
-2020-10-17 15:54:39
-2020-10-17 15:54:57
-2020-10-17 15:55:15
-2020-10-17 15:56:02
-2020-10-17 15:56:08
-2020-10-17 15:56:33
-2020-10-17 15:56:49
-2020-10-17 15:56:50
-2020-10-17 15:57:42
-2020-10-17 15:57:45
-2020-10-17 15:58:00
-2020-10-17 15:58:00
-2020-10-17 15:58:00
-2020-10-17 15:58:01
-2020-10-17 15:58:01
-2020-10-17 15:58:01
-2020-10-17 15:58:01
-2020-10-17 15:58:01
-2020-10-17 15:58:01
-2020-10-17 15:58:01
-2020-10-17 15:58:01
-2020-10-17 15:58:01
-2020-10-17 15:58:01
-2020-10-17 15:58:01
-2020-10-17 15:58:01
-2020-10-17 15:58:01
-2020-10-17 15:58:01
-2020-10-17 15:58:01
-2020-10-17 15:58:01
-2020-10-17 15:58:01
-2020-10-17 15:58:01
-2020-10-17 15:58:01
-2020-10-17 15:58:01
-2020-10-17 15:58:01
-2020-10-17 15:58:01
-2020-10-17 15:58:01
-2020-10-17 15:58:01
-2020-10-17 15:58:01
-2020-10-17 15:58:01
-2020-10-17 15:58:01
-2020-10-17 15:58:01
-2020-10-17 15:58:01
-2020-10-17 15:58:01
-2020-10-17 15:58:02
-2020-10-17 15:58:02
-2020-10-17 15:58:02
-2020-10-17 15:58:02
-2020-10-17 15:58:02
-2020-10-17 15:58:02
-2020-10-17 15:58:02
-2020-10-17 15:58:02
-2020-10-17 15:58:02
-2020-10-17 15:58:02
-2020-10-17 15:58:02
-2020-10-17 15:58:02
-2020-10-17 15:58:02
-2020-10-17 15:58:02
-2020-10-17 15:58:02
-2020-10-17 15:58:02
-2020-10-17 15:58:02
-2020-10-17 15:58:02
-2020-10-17 15:58:02
-2020-10-17 15:58:02
-2020-10-17 15:58:02
-2020-10-17 15:58:02
-2020-10-17 15:58:02
-2020-10-17 15:58:02
-2020-10-17 15:58:03
-2020-10-17 15:58:03
-2020-10-17 15:58:03
-2020-10-17 15:58:03
-2020-10-17 15:58:03
-2020-10-17 15:58:03
-2020-10-17 15:58:03
-2020-10-17 15:58:03
-2020-10-17 15:58:03
-2020-10-17 15:58:03
-2020-10-17 15:58:03
-2020-10-17 15:58:03
-2020-10-17 15:58:03
-2020-10-17 15:58:03
-2020-10-17 15:58:03
-2020-10-17 15:58:03
-2020-10-17 15:58:03
-2020-10-17 15:58:03
-2020-10-17 15:58:03
-2020-10-17 15:58:03
-2020-10-17 15:58:03
-2020-10-17 15:58:03
-2020-10-17 15:58:03
-2020-10-17 15:58:03
-2020-10-17 15:58:03
-2020-10-17 15:58:04
-2020-10-17 15:58:04
-2020-10-17 15:58:04
-2020-10-17 15:58:04
-2020-10-17 15:58:04
-2020-10-17 15:58:04
-2020-10-17 15:58:04
-2020-10-17 15:58:04
-2020-10-17 15:58:04
-2020-10-17 15:58:04
-2020-10-17 15:58:04
-2020-10-17 15:58:04
-2020-10-17 15:58:04
-2020-10-17 15:58:04
-2020-10-17 15:58:04
-2020-10-17 15:58:04
-2020-10-17 15:58:04
-2020-10-17 15:58:04
-2020-10-17 15:58:04
-2020-10-17 15:58:04
-2020-10-17 15:58:04
-2020-10-17 15:58:04
-2020-10-17 15:58:04
-2020-10-17 15:58:04
-2020-10-17 15:58:05
-2020-10-17 15:58:05
-2020-10-17 15:58:05
-2020-10-17 15:58:05
-2020-10-17 15:58:05
-2020-10-17 15:58:05
-2020-10-17 15:58:05
-2020-10-17 15:58:05
-2020-10-17 15:58:05
-2020-10-17 15:58:05
-2020-10-17 15:58:05
-2020-10-17 15:58:05
-2020-10-17 15:58:05
-2020-10-17 15:58:05
-2020-10-17 15:58:05
-2020-10-17 15:58:05
-2020-10-17 15:58:05
-2020-10-17 15:58:05
-2020-10-17 15:58:05
-2020-10-17 15:58:05
-2020-10-17 15:58:05
-2020-10-17 15:58:05
-2020-10-17 15:58:05
-2020-10-17 15:58:06
-2020-10-17 15:58:06
-2020-10-17 15:58:06
-2020-10-17 15:58:06
-2020-10-17 15:58:06
-2020-10-17 15:58:06
-2020-10-17 15:58:06
-2020-10-17 15:58:06
-2020-10-17 15:58:06
-2020-10-17 15:58:06
-2020-10-17 15:58:06
-2020-10-17 15:58:06
-2020-10-17 15:58:06
-2020-10-17 15:58:06
-2020-10-17 15:58:06
-2020-10-17 15:58:06
-2020-10-17 15:58:06
-2020-10-17 15:58:06
-2020-10-17 15:58:06
-2020-10-17 15:58:06
-2020-10-17 15:58:06
-2020-10-17 15:58:06
-2020-10-17 15:58:06
-2020-10-17 15:58:06
-2020-10-17 15:58:07
-2020-10-17 15:58:07
-2020-10-17 15:58:07
-2020-10-17 15:58:07
-2020-10-17 15:58:07
-2020-10-17 15:58:07
-2020-10-17 15:58:07
-2020-10-17 15:58:07
-2020-10-17 15:58:07
-2020-10-17 15:58:07
-2020-10-17 15:58:07
-2020-10-17 15:58:07
-2020-10-17 15:58:07
-2020-10-17 15:58:07
-2020-10-17 15:58:07
-2020-10-17 15:58:07
-2020-10-17 15:58:07
-2020-10-17 15:58:07
-2020-10-17 15:58:07
-2020-10-17 15:58:07
-2020-10-17 15:58:07
-2020-10-17 15:58:07
-2020-10-17 15:58:07
-2020-10-17 15:58:07
-2020-10-17 15:58:07
-2020-10-17 15:58:07
-2020-10-17 15:58:08
-2020-10-17 15:58:08
-2020-10-17 15:58:08
-2020-10-17 15:58:08
-2020-10-17 15:58:08
-2020-10-17 15:58:08
-2020-10-17 15:58:08
-2020-10-17 15:58:08
-2020-10-17 15:58:08
-2020-10-17 15:58:08
-2020-10-17 15:58:08
-2020-10-17 15:58:08
-2020-10-17 15:58:08
-2020-10-17 15:58:08
-2020-10-17 15:58:08
-2020-10-17 15:58:08
-2020-10-17 15:58:08
-2020-10-17 15:58:08
-2020-10-17 15:58:08
-2020-10-17 15:58:08
-2020-10-17 15:58:08
-2020-10-17 15:58:08
-2020-10-17 15:58:08
-2020-10-17 15:58:08
-2020-10-17 15:58:08
-2020-10-17 15:58:08
-2020-10-17 15:58:08
-2020-10-17 15:58:08
-2020-10-17 15:58:09
-2020-10-17 15:58:09
-2020-10-17 15:58:09
-2020-10-17 15:58:09
-2020-10-17 15:58:09
-2020-10-17 15:58:09
-2020-10-17 15:58:09
-2020-10-17 15:58:09
-2020-10-17 15:58:09
-2020-10-17 15:58:09
-2020-10-17 15:58:09
-2020-10-17 15:58:09
-2020-10-17 15:58:09
-2020-10-17 15:58:09
-2020-10-17 15:58:09
-2020-10-17 15:58:09
-2020-10-17 15:58:09
-2020-10-17 15:58:09
-2020-10-17 15:58:09
-2020-10-17 15:58:09
-2020-10-17 15:58:09
-2020-10-17 15:58:09
-2020-10-17 15:58:09
-2020-10-17 15:58:09
-2020-10-17 15:58:10
-2020-10-17 15:58:10
-2020-10-17 15:58:10
-2020-10-17 15:58:10
-2020-10-17 15:58:10
-2020-10-17 15:58:10
-2020-10-17 15:58:10
-2020-10-17 15:58:10
-2020-10-17 15:58:10
-2020-10-17 15:58:10
-2020-10-17 15:58:10
-2020-10-17 15:58:10
-2020-10-17 15:58:10
-2020-10-17 15:58:10
-2020-10-17 15:58:10
-2020-10-17 15:58:10
-2020-10-17 15:58:10
-2020-10-17 15:58:10
-2020-10-17 15:58:10
-2020-10-17 15:58:10
-2020-10-17 15:58:10
-2020-10-17 15:58:10
-2020-10-17 15:58:10
-2020-10-17 15:58:11
-2020-10-17 15:58:11
-2020-10-17 15:58:11
-2020-10-17 15:58:11
-2020-10-17 15:58:11
-2020-10-17 15:58:11
-2020-10-17 15:58:11
-2020-10-17 15:58:11
-2020-10-17 15:58:11
-2020-10-17 15:58:11
-2020-10-17 15:58:11
-2020-10-17 15:58:11
-2020-10-17 15:58:11
-2020-10-17 15:58:11
-2020-10-17 15:58:11
-2020-10-17 15:58:11
-2020-10-17 15:58:11
-2020-10-17 15:58:11
-2020-10-17 15:58:11
-2020-10-17 15:58:11
-2020-10-17 15:58:11
-2020-10-17 15:58:11
-2020-10-17 15:58:11
-2020-10-17 15:58:12
-2020-10-17 15:58:12
-2020-10-17 15:58:12
-2020-10-17 15:58:12
-2020-10-17 15:58:12
-2020-10-17 15:58:12
-2020-10-17 15:58:12
-2020-10-17 15:58:12
-2020-10-17 15:58:12
-2020-10-17 15:58:12
-2020-10-17 15:58:12
-2020-10-17 15:58:12
-2020-10-17 15:58:12
-2020-10-17 15:58:12
-2020-10-17 15:58:12
-2020-10-17 15:58:12
-2020-10-17 15:58:12
-2020-10-17 15:58:12
-2020-10-17 15:58:12
-2020-10-17 15:58:12
-2020-10-17 15:58:12
-2020-10-17 15:58:12
-2020-10-17 15:58:13
-2020-10-17 15:58:13
-2020-10-17 15:58:13
-2020-10-17 15:58:13
-2020-10-17 15:58:13
-2020-10-17 15:58:13
-2020-10-17 15:58:13
-2020-10-17 15:58:13
-2020-10-17 15:58:14
-2020-10-17 15:58:14
-2020-10-17 15:58:14
-2020-10-17 15:58:14
-2020-10-17 15:58:14
-2020-10-17 15:58:14
-2020-10-17 15:58:14
-2020-10-17 15:58:14
-2020-10-17 15:58:15
-2020-10-17 15:58:15
-2020-10-17 15:58:15
-2020-10-17 15:58:15
-2020-10-17 15:58:15
-2020-10-17 15:58:15
-2020-10-17 15:58:15
-2020-10-17 15:58:15
-2020-10-17 15:58:15
-2020-10-17 15:58:15
-2020-10-17 15:58:16
-2020-10-17 15:58:16
-2020-10-17 15:58:16
-2020-10-17 15:58:16
-2020-10-17 15:58:16
-2020-10-17 15:58:16
-2020-10-17 15:58:16
-2020-10-17 15:58:16
-2020-10-17 15:58:16
-2020-10-17 15:58:16
-2020-10-17 15:58:16
-2020-10-17 15:58:16
-2020-10-17 15:58:16
-2020-10-17 15:58:16
-2020-10-17 15:58:16
-2020-10-17 15:58:17
-2020-10-17 15:58:17
-2020-10-17 15:58:17
-2020-10-17 15:58:17
-2020-10-17 15:58:17
-2020-10-17 15:58:17
-2020-10-17 15:58:17
-2020-10-17 15:58:17
-2020-10-17 15:58:17
-2020-10-17 15:58:17
-2020-10-17 15:58:17
-2020-10-17 15:58:17
-2020-10-17 15:58:17
-2020-10-17 15:58:17
-2020-10-17 15:58:17
-2020-10-17 15:58:17
-2020-10-17 15:58:17
-2020-10-17 15:58:17
-2020-10-17 15:58:17
-2020-10-17 15:58:17
-2020-10-17 15:58:17
-2020-10-17 15:58:18
-2020-10-17 15:58:18
-2020-10-17 15:58:18
-2020-10-17 15:58:18
-2020-10-17 15:58:18
-2020-10-17 15:58:18
-2020-10-17 15:58:18
-2020-10-17 15:58:18
-2020-10-17 15:58:18
-2020-10-17 15:58:18
-2020-10-17 15:58:18
-2020-10-17 15:58:18
-2020-10-17 15:58:18
-2020-10-17 15:58:18
-2020-10-17 15:58:18
-2020-10-17 15:58:18
-2020-10-17 15:58:18
-2020-10-17 15:58:18
-2020-10-17 15:58:18
-2020-10-17 15:58:18
-2020-10-17 15:58:18
-2020-10-17 15:58:19
-2020-10-17 15:58:19
-2020-10-17 15:58:19
-2020-10-17 15:58:19
-2020-10-17 15:58:19
-2020-10-17 15:58:19
-2020-10-17 15:58:19
-2020-10-17 15:58:19
-2020-10-17 15:58:19
-2020-10-17 15:58:19
-2020-10-17 15:58:19
-2020-10-17 15:58:19
-2020-10-17 15:58:19
-2020-10-17 15:58:19
-2020-10-17 15:58:19
-2020-10-17 15:58:19
-2020-10-17 15:58:19
-2020-10-17 15:58:19
-2020-10-17 15:58:19
-2020-10-17 15:58:19
-2020-10-17 15:58:20
-2020-10-17 15:58:20
-2020-10-17 15:58:20
-2020-10-17 15:58:20
-2020-10-17 15:58:20
-2020-10-17 15:58:20
-2020-10-17 15:58:20
-2020-10-17 15:58:20
-2020-10-17 15:58:20
-2020-10-17 15:58:20
-2020-10-17 15:58:20
-2020-10-17 15:58:20
-2020-10-17 15:58:20
-2020-10-17 15:58:20
-2020-10-17 15:58:20
-2020-10-17 15:58:20
-2020-10-17 15:58:20
-2020-10-17 15:58:20
-2020-10-17 15:58:20
-2020-10-17 15:58:21
-2020-10-17 15:58:21
-2020-10-17 15:58:21
-2020-10-17 15:58:21
-2020-10-17 15:58:21
-2020-10-17 15:58:21
-2020-10-17 15:58:21
-2020-10-17 15:58:21
-2020-10-17 15:58:21
-2020-10-17 15:58:21
-2020-10-17 15:58:21
-2020-10-17 15:58:21
-2020-10-17 15:58:21
-2020-10-17 15:58:21
-2020-10-17 15:58:21
-2020-10-17 15:58:21
-2020-10-17 15:58:21
-2020-10-17 15:58:21
-2020-10-17 15:58:21
-2020-10-17 15:58:21
-2020-10-17 15:58:21
-2020-10-17 15:58:21
-2020-10-17 15:58:21
-2020-10-17 15:58:22
-2020-10-17 15:58:22
-2020-10-17 15:58:22
-2020-10-17 15:58:22
-2020-10-17 15:58:22
-2020-10-17 15:58:22
-2020-10-17 15:58:22
-2020-10-17 15:58:22
-2020-10-17 15:58:22
-2020-10-17 15:58:22
-2020-10-17 15:58:22
-2020-10-17 15:58:22
-2020-10-17 15:58:22
-2020-10-17 15:58:22
-2020-10-17 15:58:22
-2020-10-17 15:58:22
-2020-10-17 15:58:22
-2020-10-17 15:58:22
-2020-10-17 15:58:22
-2020-10-17 15:58:22
-2020-10-17 15:58:22
-2020-10-17 15:58:22
-2020-10-17 15:58:22
-2020-10-17 15:58:23
-2020-10-17 15:58:23
-2020-10-17 15:58:23
-2020-10-17 15:58:23
-2020-10-17 15:58:23
-2020-10-17 15:58:23
-2020-10-17 15:58:23
-2020-10-17 15:58:23
-2020-10-17 15:58:23
-2020-10-17 15:58:23
-2020-10-17 15:58:23
-2020-10-17 15:58:23
-2020-10-17 15:58:23
-2020-10-17 15:58:23
-2020-10-17 15:58:23
-2020-10-17 15:58:23
-2020-10-17 15:58:23
-2020-10-17 15:58:23
-2020-10-17 15:58:23
-2020-10-17 15:58:23
-2020-10-17 15:58:23
-2020-10-17 15:58:24
-2020-10-17 15:58:24
-2020-10-17 15:58:24
-2020-10-17 15:58:24
-2020-10-17 15:58:24
-2020-10-17 15:58:24
-2020-10-17 15:58:24
-2020-10-17 15:58:24
-2020-10-17 15:58:24
-2020-10-17 15:58:24
-2020-10-17 15:58:24
-2020-10-17 15:58:24
-2020-10-17 15:58:24
-2020-10-17 15:58:24
-2020-10-17 15:58:24
-2020-10-17 15:58:24
-2020-10-17 15:58:24
-2020-10-17 15:58:24
-2020-10-17 15:58:24
-2020-10-17 15:58:24
-2020-10-17 15:58:24
-2020-10-17 15:58:24
-2020-10-17 15:58:24
-2020-10-17 15:58:25
-2020-10-17 15:58:25
-2020-10-17 15:58:25
-2020-10-17 15:58:25
-2020-10-17 15:58:25
-2020-10-17 15:58:25
-2020-10-17 15:58:25
-2020-10-17 15:58:25
-2020-10-17 15:58:25
-2020-10-17 15:58:25
-2020-10-17 15:58:25
-2020-10-17 15:58:25
-2020-10-17 15:58:25
-2020-10-17 15:58:25
-2020-10-17 15:58:25
-2020-10-17 15:58:25
-2020-10-17 15:58:25
-2020-10-17 15:58:25
-2020-10-17 15:58:25
-2020-10-17 15:58:25
-2020-10-17 15:58:26
-2020-10-17 15:58:26
-2020-10-17 15:58:26
-2020-10-17 15:58:26
-2020-10-17 15:58:26
-2020-10-17 15:58:26
-2020-10-17 15:58:26
-2020-10-17 15:58:26
-2020-10-17 15:58:26
-2020-10-17 15:58:26
-2020-10-17 15:58:26
-2020-10-17 15:58:26
-2020-10-17 15:58:26
-2020-10-17 15:58:26
-2020-10-17 15:58:26
-2020-10-17 15:58:26
-2020-10-17 15:58:26
-2020-10-17 15:58:26
-2020-10-17 15:58:26
-2020-10-17 15:58:26
-2020-10-17 15:58:27
-2020-10-17 15:58:27
-2020-10-17 15:58:27
-2020-10-17 15:58:27
-2020-10-17 15:58:27
-2020-10-17 15:58:27
-2020-10-17 15:58:27
-2020-10-17 15:58:27
-2020-10-17 15:58:27
-2020-10-17 15:58:27
-2020-10-17 15:58:27
-2020-10-17 15:58:27
-2020-10-17 15:58:27
-2020-10-17 15:58:27
-2020-10-17 15:58:27
-2020-10-17 15:58:27
-2020-10-17 15:58:27
-2020-10-17 15:58:27
-2020-10-17 15:58:27
-2020-10-17 15:58:27
-2020-10-17 15:58:27
-2020-10-17 15:58:27
-2020-10-17 15:58:28
-2020-10-17 15:58:28
-2020-10-17 15:58:28
-2020-10-17 15:58:28
-2020-10-17 15:58:28
-2020-10-17 15:58:28
-2020-10-17 15:58:28
-2020-10-17 15:58:28
-2020-10-17 15:58:28
-2020-10-17 15:58:28
-2020-10-17 15:58:28
-2020-10-17 15:58:28
-2020-10-17 15:58:28
-2020-10-17 15:58:28
-2020-10-17 15:58:28
-2020-10-17 15:58:28
-2020-10-17 15:58:28
-2020-10-17 15:58:28
-2020-10-17 15:58:28
-2020-10-17 15:58:28
-2020-10-17 15:58:28
-2020-10-17 15:58:28
-2020-10-17 15:58:28
-2020-10-17 15:58:29
-2020-10-17 15:58:29
-2020-10-17 15:58:29
-2020-10-17 15:58:29
-2020-10-17 15:58:29
-2020-10-17 15:58:29
-2020-10-17 15:58:29
-2020-10-17 15:58:29
-2020-10-17 15:58:29
-2020-10-17 15:58:29
-2020-10-17 15:58:29
-2020-10-17 15:58:29
-2020-10-17 15:58:29
-2020-10-17 15:58:29
-2020-10-17 15:58:29
-2020-10-17 15:58:29
-2020-10-17 15:58:29
-2020-10-17 15:58:29
-2020-10-17 15:58:29
-2020-10-17 15:58:29
-2020-10-17 15:58:29
-2020-10-17 15:58:29
-2020-10-17 15:58:29
-2020-10-17 15:58:29
-2020-10-17 15:58:30
-2020-10-17 15:58:30
-2020-10-17 15:58:30
-2020-10-17 15:58:30
-2020-10-17 15:58:30
-2020-10-17 15:58:30
-2020-10-17 15:58:30
-2020-10-17 15:58:30
-2020-10-17 15:58:30
-2020-10-17 15:58:30
-2020-10-17 15:58:30
-2020-10-17 15:58:30
-2020-10-17 15:58:30
-2020-10-17 15:58:30
-2020-10-17 15:58:30
-2020-10-17 15:58:30
-2020-10-17 15:58:30
-2020-10-17 15:58:30
-2020-10-17 15:58:30
-2020-10-17 15:58:30
-2020-10-17 15:58:30
-2020-10-17 15:58:30
-2020-10-17 15:58:31
-2020-10-17 15:58:31
-2020-10-17 15:58:31
-2020-10-17 15:58:31
-2020-10-17 15:58:31
-2020-10-17 15:58:31
-2020-10-17 15:58:31
-2020-10-17 15:58:31
-2020-10-17 15:58:31
-2020-10-17 15:58:31
-2020-10-17 15:58:31
-2020-10-17 15:58:31
-2020-10-17 15:58:31
-2020-10-17 15:58:31
-2020-10-17 15:58:31
-2020-10-17 15:58:31
-2020-10-17 15:58:31
-2020-10-17 15:58:31
-2020-10-17 15:58:31
-2020-10-17 15:58:31
-2020-10-17 15:58:31
-2020-10-17 15:58:31
-2020-10-17 15:58:31
-2020-10-17 15:58:32
-2020-10-17 15:58:32
-2020-10-17 15:58:32
-2020-10-17 15:58:32
-2020-10-17 15:58:32
-2020-10-17 15:58:32
-2020-10-17 15:58:32
-2020-10-17 15:58:32
-2020-10-17 15:58:32
-2020-10-17 15:58:32
-2020-10-17 15:58:32
-2020-10-17 15:58:32
-2020-10-17 15:58:32
-2020-10-17 15:58:32
-2020-10-17 15:58:32
-2020-10-17 15:58:32
-2020-10-17 15:58:32
-2020-10-17 15:58:32
-2020-10-17 15:58:32
-2020-10-17 15:58:32
-2020-10-17 15:58:33
-2020-10-17 15:58:33
-2020-10-17 15:58:33
-2020-10-17 15:58:33
-2020-10-17 15:58:33
-2020-10-17 15:58:33
-2020-10-17 15:58:33
-2020-10-17 15:58:33
-2020-10-17 15:58:34
-2020-10-17 15:58:34
-2020-10-17 15:58:34
-2020-10-17 15:58:34
-2020-10-17 15:58:34
-2020-10-17 15:58:34
-2020-10-17 15:58:34
-2020-10-17 15:58:35
-2020-10-17 15:58:35
-2020-10-17 15:58:35
-2020-10-17 15:58:35
-2020-10-17 15:58:35
-2020-10-17 15:58:35
-2020-10-17 15:58:35
-2020-10-17 15:58:35
-2020-10-17 15:58:35
-2020-10-17 15:58:35
-2020-10-17 15:58:35
-2020-10-17 15:58:35
-2020-10-17 15:58:35
-2020-10-17 15:58:35
-2020-10-17 15:58:35
-2020-10-17 15:58:35
-2020-10-17 15:58:35
-2020-10-17 15:58:35
-2020-10-17 15:58:35
-2020-10-17 15:58:35
-2020-10-17 15:58:35
-2020-10-17 15:58:36
-2020-10-17 15:58:36
-2020-10-17 15:58:36
-2020-10-17 15:58:36
-2020-10-17 15:58:36
-2020-10-17 15:58:36
-2020-10-17 15:58:36
-2020-10-17 15:58:36
-2020-10-17 15:58:36
-2020-10-17 15:58:36
-2020-10-17 15:58:36
-2020-10-17 15:58:36
-2020-10-17 15:58:36
-2020-10-17 15:58:36
-2020-10-17 15:58:36
-2020-10-17 15:58:36
-2020-10-17 15:58:36
-2020-10-17 15:58:36
-2020-10-17 15:58:37
-2020-10-17 15:58:37
-2020-10-17 15:58:37
-2020-10-17 15:58:37
-2020-10-17 15:58:37
-2020-10-17 15:58:37
-2020-10-17 15:58:37
-2020-10-17 15:58:37
-2020-10-17 15:58:37
-2020-10-17 15:58:37
-2020-10-17 15:58:37
-2020-10-17 15:58:37
-2020-10-17 15:58:37
-2020-10-17 15:58:37
-2020-10-17 15:58:37
-2020-10-17 15:58:37
-2020-10-17 15:58:37
-2020-10-17 15:58:37
-2020-10-17 15:58:38
-2020-10-17 15:58:38
-2020-10-17 15:58:38
-2020-10-17 15:58:38
-2020-10-17 15:58:38
-2020-10-17 15:58:38
-2020-10-17 15:58:38
-2020-10-17 15:58:38
-2020-10-17 15:58:38
-2020-10-17 15:58:38
-2020-10-17 15:58:38
-2020-10-17 15:58:38
-2020-10-17 15:58:38
-2020-10-17 15:58:38
-2020-10-17 15:58:38
-2020-10-17 15:58:38
-2020-10-17 15:58:38
-2020-10-17 15:58:38
-2020-10-17 15:58:38
-2020-10-17 15:58:38
-2020-10-17 15:58:38
-2020-10-17 15:58:39
-2020-10-17 15:58:39
-2020-10-17 15:58:39
-2020-10-17 15:58:39
-2020-10-17 15:58:39
-2020-10-17 15:58:39
-2020-10-17 15:58:39
-2020-10-17 15:58:39
-2020-10-17 15:58:39
-2020-10-17 15:58:39
-2020-10-17 15:58:39
-2020-10-17 15:58:40
-2020-10-17 15:58:40
-2020-10-17 15:58:40
-2020-10-17 15:58:40
-2020-10-17 15:58:40
-2020-10-17 15:58:40
-2020-10-17 15:58:40
-2020-10-17 15:58:40
-2020-10-17 15:58:40
-2020-10-17 15:58:40
-2020-10-17 15:58:40
-2020-10-17 15:58:40
-2020-10-17 15:58:40
-2020-10-17 15:58:40
-2020-10-17 15:58:40
-2020-10-17 15:58:40
-2020-10-17 15:58:40
-2020-10-17 15:58:40
-2020-10-17 15:58:41
-2020-10-17 15:58:41
-2020-10-17 15:58:41
-2020-10-17 15:58:41
-2020-10-17 15:58:41
-2020-10-17 15:58:41
-2020-10-17 15:58:41
-2020-10-17 15:58:41
-2020-10-17 15:58:41
-2020-10-17 15:58:41
-2020-10-17 15:58:41
-2020-10-17 15:58:41
-2020-10-17 15:58:41
-2020-10-17 15:58:41
-2020-10-17 15:58:41
-2020-10-17 15:58:41
-2020-10-17 15:58:41
-2020-10-17 15:58:42
-2020-10-17 15:58:42
-2020-10-17 15:58:42
-2020-10-17 15:58:42
-2020-10-17 15:58:42
-2020-10-17 15:58:42
-2020-10-17 15:58:42
-2020-10-17 15:58:42
-2020-10-17 15:58:42
-2020-10-17 15:58:42
-2020-10-17 15:58:42
-2020-10-17 15:58:42
-2020-10-17 15:58:42
-2020-10-17 15:58:42
-2020-10-17 15:58:42
-2020-10-17 15:58:42
-2020-10-17 15:58:42
-2020-10-17 15:58:43
-2020-10-17 15:58:43
-2020-10-17 15:58:43
-2020-10-17 15:58:43
-2020-10-17 15:58:43
-2020-10-17 15:58:43
-2020-10-17 15:58:43
-2020-10-17 15:58:43
-2020-10-17 15:58:43
-2020-10-17 15:58:43
-2020-10-17 15:58:43
-2020-10-17 15:58:43
-2020-10-17 15:58:43
-2020-10-17 15:58:43
-2020-10-17 15:58:44
-2020-10-17 15:58:44
-2020-10-17 15:58:44
-2020-10-17 15:58:44
-2020-10-17 15:58:44
-2020-10-17 15:58:44
-2020-10-17 15:58:44
-2020-10-17 15:58:44
-2020-10-17 15:58:44
-2020-10-17 15:58:44
-2020-10-17 15:58:44
-2020-10-17 15:58:44
-2020-10-17 15:58:44
-2020-10-17 15:58:44
-2020-10-17 15:58:44
-2020-10-17 15:58:44
-2020-10-17 15:58:44
-2020-10-17 15:58:44
-2020-10-17 15:58:44
-2020-10-17 15:58:44
-2020-10-17 15:58:44
-2020-10-17 15:58:44
-2020-10-17 15:58:44
-2020-10-17 15:58:44
-2020-10-17 15:58:45
-2020-10-17 15:58:45
-2020-10-17 15:58:45
-2020-10-17 15:58:45
-2020-10-17 15:58:45
-2020-10-17 15:58:45
-2020-10-17 15:58:45
-2020-10-17 15:58:45
-2020-10-17 15:58:45
-2020-10-17 15:58:45
-2020-10-17 15:58:45
-2020-10-17 15:58:45
-2020-10-17 15:58:45
-2020-10-17 15:58:45
-2020-10-17 15:58:45
-2020-10-17 15:58:45
-2020-10-17 15:58:45
-2020-10-17 15:58:45
-2020-10-17 15:58:46
-2020-10-17 15:58:46
-2020-10-17 15:58:46
-2020-10-17 15:58:46
-2020-10-17 15:58:46
-2020-10-17 15:58:46
-2020-10-17 15:58:46
-2020-10-17 15:58:46
-2020-10-17 15:58:46
-2020-10-17 15:58:46
-2020-10-17 15:58:46
-2020-10-17 15:58:46
-2020-10-17 15:58:46
-2020-10-17 15:58:46
-2020-10-17 15:58:46
-2020-10-17 15:58:46
-2020-10-17 15:58:47
-2020-10-17 15:58:47
-2020-10-17 15:58:47
-2020-10-17 15:58:47
-2020-10-17 15:58:47
-2020-10-17 15:58:47
-2020-10-17 15:58:47
-2020-10-17 15:58:47
-2020-10-17 15:58:47
-2020-10-17 15:58:47
-2020-10-17 15:58:47
-2020-10-17 15:58:47
-2020-10-17 15:58:47
-2020-10-17 15:58:47
-2020-10-17 15:58:47
-2020-10-17 15:58:48
-2020-10-17 15:58:48
-2020-10-17 15:58:48
-2020-10-17 15:58:48
-2020-10-17 15:58:48
-2020-10-17 15:58:48
-2020-10-17 15:58:48
-2020-10-17 15:58:48
-2020-10-17 15:58:48
-2020-10-17 15:58:48
-2020-10-17 15:58:48
-2020-10-17 15:58:48
-2020-10-17 15:58:48
-2020-10-17 15:58:48
-2020-10-17 15:58:48
-2020-10-17 15:58:48
-2020-10-17 15:58:49
-2020-10-17 15:58:49
-2020-10-17 15:58:49
-2020-10-17 15:58:49
-2020-10-17 15:58:49
-2020-10-17 15:58:49
-2020-10-17 15:58:49
-2020-10-17 15:58:49
-2020-10-17 15:58:49
-2020-10-17 15:58:49
-2020-10-17 15:58:49
-2020-10-17 15:58:49
-2020-10-17 15:58:49
-2020-10-17 15:58:49
-2020-10-17 15:58:50
-2020-10-17 15:58:50
-2020-10-17 15:58:50
-2020-10-17 15:58:50
-2020-10-17 15:58:50
-2020-10-17 15:58:50
-2020-10-17 15:58:50
-2020-10-17 15:58:50
-2020-10-17 15:58:50
-2020-10-17 15:58:50
-2020-10-17 15:58:50
-2020-10-17 15:58:50
-2020-10-17 15:58:50
-2020-10-17 15:58:50
-2020-10-17 15:58:50
-2020-10-17 15:58:50
-2020-10-17 15:58:50
-2020-10-17 15:58:50
-2020-10-17 15:58:50
-2020-10-17 15:58:51
-2020-10-17 15:58:51
-2020-10-17 15:58:51
-2020-10-17 15:58:51
-2020-10-17 15:58:51
-2020-10-17 15:58:51
-2020-10-17 15:58:51
-2020-10-17 15:58:51
-2020-10-17 15:58:51
-2020-10-17 15:58:51
-2020-10-17 15:58:51
-2020-10-17 15:58:51
-2020-10-17 15:58:51
-2020-10-17 15:58:51
-2020-10-17 15:58:51
-2020-10-17 15:58:52
-2020-10-17 15:58:52
-2020-10-17 15:58:52
-2020-10-17 15:58:52
-2020-10-17 15:58:52
-2020-10-17 15:58:52
-2020-10-17 15:58:52
-2020-10-17 15:58:52
-2020-10-17 15:58:52
-2020-10-17 15:58:52
-2020-10-17 15:58:52
-2020-10-17 15:58:52
-2020-10-17 15:58:52
-2020-10-17 15:58:52
-2020-10-17 15:58:52
-2020-10-17 15:58:52
-2020-10-17 15:58:52
-2020-10-17 15:58:53
-2020-10-17 15:58:53
-2020-10-17 15:58:53
-2020-10-17 15:58:53
-2020-10-17 15:58:53
-2020-10-17 15:58:53
-2020-10-17 15:58:53
-2020-10-17 15:58:53
-2020-10-17 15:58:53
-2020-10-17 15:58:53
-2020-10-17 15:58:53
-2020-10-17 15:58:53
-2020-10-17 15:58:53
-2020-10-17 15:58:53
-2020-10-17 15:58:53
-2020-10-17 15:58:53
-2020-10-17 15:58:53
-2020-10-17 15:58:53
-2020-10-17 15:58:53
-2020-10-17 15:58:54
-2020-10-17 15:58:54
-2020-10-17 15:58:54
-2020-10-17 15:58:54
-2020-10-17 15:58:54
-2020-10-17 15:58:54
-2020-10-17 15:58:54
-2020-10-17 15:58:54
-2020-10-17 15:58:54
-2020-10-17 15:58:55
-2020-10-17 15:58:55
-2020-10-17 15:58:55
-2020-10-17 15:58:55
-2020-10-17 15:58:55
-2020-10-17 15:58:55
-2020-10-17 15:58:55
-2020-10-17 15:58:55
-2020-10-17 15:58:56
-2020-10-17 15:58:56
-2020-10-17 15:58:56
-2020-10-17 15:58:56
-2020-10-17 15:58:56
-2020-10-17 15:58:56
-2020-10-17 15:58:56
-2020-10-17 15:58:56
-2020-10-17 15:58:56
-2020-10-17 15:58:56
-2020-10-17 15:58:56
-2020-10-17 15:58:57
-2020-10-17 15:58:57
-2020-10-17 15:58:57
-2020-10-17 15:58:57
-2020-10-17 15:58:57
-2020-10-17 15:58:57
-2020-10-17 15:58:57
-2020-10-17 15:58:57
-2020-10-17 15:58:57
-2020-10-17 15:58:57
-2020-10-17 15:58:57
-2020-10-17 15:58:57
-2020-10-17 15:58:57
-2020-10-17 15:58:57
-2020-10-17 15:58:57
-2020-10-17 15:58:57
-2020-10-17 15:58:57
-2020-10-17 15:58:57
-2020-10-17 15:58:58
-2020-10-17 15:58:58
-2020-10-17 15:58:58
-2020-10-17 15:58:58
-2020-10-17 15:58:58
-2020-10-17 15:58:58
-2020-10-17 15:58:58
-2020-10-17 15:58:58
-2020-10-17 15:58:58
-2020-10-17 15:58:58
-2020-10-17 15:58:58
-2020-10-17 15:58:58
-2020-10-17 15:58:58
-2020-10-17 15:58:58
-2020-10-17 15:58:58
-2020-10-17 15:58:58
-2020-10-17 15:58:58
-2020-10-17 15:58:58
-2020-10-17 15:58:58
-2020-10-17 15:58:58
-2020-10-17 15:58:59
-2020-10-17 15:58:59
-2020-10-17 15:58:59
-2020-10-17 15:58:59
-2020-10-17 15:58:59
-2020-10-17 15:58:59
-2020-10-17 15:58:59
-2020-10-17 15:58:59
-2020-10-17 15:58:59
-2020-10-17 15:58:59
-2020-10-17 15:58:59
-2020-10-17 15:58:59
-2020-10-17 15:58:59
-2020-10-17 15:58:59
-2020-10-17 15:58:59
-2020-10-17 15:58:59
-2020-10-17 15:58:59
-2020-10-17 15:58:59
-2020-10-17 15:58:59
-2020-10-17 15:58:59
-2020-10-17 15:58:59
-2020-10-17 15:58:59
-2020-10-17 15:59:00
-2020-10-17 15:59:00
-2020-10-17 15:59:00
-2020-10-17 15:59:00
-2020-10-17 15:59:00
-2020-10-17 15:59:00
-2020-10-17 15:59:00
-2020-10-17 15:59:00
-2020-10-17 15:59:00
-2020-10-17 15:59:00
-2020-10-17 15:59:00
-2020-10-17 15:59:00
-2020-10-17 15:59:00
-2020-10-17 15:59:00
-2020-10-17 15:59:00
-2020-10-17 15:59:00
-2020-10-17 15:59:01
-2020-10-17 15:59:01
-2020-10-17 15:59:01
-2020-10-17 15:59:01
-2020-10-17 15:59:01
-2020-10-17 15:59:01
-2020-10-17 15:59:01
-2020-10-17 15:59:01
-2020-10-17 15:59:01
-2020-10-17 15:59:01
-2020-10-17 15:59:01
-2020-10-17 15:59:01
-2020-10-17 15:59:01
-2020-10-17 15:59:01
-2020-10-17 15:59:01
-2020-10-17 15:59:01
-2020-10-17 15:59:01
-2020-10-17 15:59:01
-2020-10-17 15:59:01
-2020-10-17 15:59:02
-2020-10-17 15:59:02
-2020-10-17 15:59:02
-2020-10-17 15:59:02
-2020-10-17 15:59:02
-2020-10-17 15:59:02
-2020-10-17 15:59:02
-2020-10-17 15:59:02
-2020-10-17 15:59:02
-2020-10-17 15:59:02
-2020-10-17 15:59:03
-2020-10-17 15:59:03
-2020-10-17 15:59:03
-2020-10-17 15:59:03
-2020-10-17 15:59:03
-2020-10-17 15:59:03
-2020-10-17 15:59:03
-2020-10-17 15:59:03
-2020-10-17 15:59:03
-2020-10-17 15:59:03
-2020-10-17 15:59:03
-2020-10-17 15:59:03
-2020-10-17 15:59:03
-2020-10-17 15:59:04
-2020-10-17 15:59:04
-2020-10-17 15:59:04
-2020-10-17 15:59:04
-2020-10-17 15:59:04
-2020-10-17 15:59:04
-2020-10-17 15:59:04
-2020-10-17 15:59:04
-2020-10-17 15:59:04
-2020-10-17 15:59:04
-2020-10-17 15:59:04
-2020-10-17 15:59:04
-2020-10-17 15:59:04
-2020-10-17 15:59:04
-2020-10-17 15:59:04
-2020-10-17 15:59:05
-2020-10-17 15:59:05
-2020-10-17 15:59:05
-2020-10-17 15:59:05
-2020-10-17 15:59:05
-2020-10-17 15:59:05
-2020-10-17 15:59:05
-2020-10-17 15:59:05
-2020-10-17 15:59:05
-2020-10-17 15:59:05
-2020-10-17 15:59:05
-2020-10-17 15:59:05
-2020-10-17 15:59:05
-2020-10-17 15:59:05
-2020-10-17 15:59:05
-2020-10-17 15:59:05
-2020-10-17 15:59:05
-2020-10-17 15:59:06
-2020-10-17 15:59:06
-2020-10-17 15:59:06
-2020-10-17 15:59:06
-2020-10-17 15:59:06
-2020-10-17 15:59:06
-2020-10-17 15:59:06
-2020-10-17 15:59:06
-2020-10-17 15:59:06
-2020-10-17 15:59:06
-2020-10-17 15:59:06
-2020-10-17 15:59:06
-2020-10-17 15:59:06
-2020-10-17 15:59:06
-2020-10-17 15:59:06
-2020-10-17 15:59:07
-2020-10-17 15:59:07
-2020-10-17 15:59:07
-2020-10-17 15:59:07
-2020-10-17 15:59:07
-2020-10-17 15:59:07
-2020-10-17 15:59:07
-2020-10-17 15:59:07
-2020-10-17 15:59:07
-2020-10-17 15:59:07
-2020-10-17 15:59:07
-2020-10-17 15:59:07
-2020-10-17 15:59:07
-2020-10-17 15:59:07
-2020-10-17 15:59:07
-2020-10-17 15:59:07
-2020-10-17 15:59:08
-2020-10-17 15:59:08
-2020-10-17 15:59:08
-2020-10-17 15:59:08
-2020-10-17 15:59:08
-2020-10-17 15:59:08
-2020-10-17 15:59:08
-2020-10-17 15:59:08
-2020-10-17 15:59:08
-2020-10-17 15:59:08
-2020-10-17 15:59:08
-2020-10-17 15:59:08
-2020-10-17 15:59:08
-2020-10-17 15:59:08
-2020-10-17 15:59:08
-2020-10-17 15:59:08
-2020-10-17 15:59:09
-2020-10-17 15:59:09
-2020-10-17 15:59:09
-2020-10-17 15:59:09
-2020-10-17 15:59:09
-2020-10-17 15:59:09
-2020-10-17 15:59:09
-2020-10-17 15:59:09
-2020-10-17 15:59:09
-2020-10-17 15:59:09
-2020-10-17 15:59:09
-2020-10-17 15:59:09
-2020-10-17 15:59:09
-2020-10-17 15:59:09
-2020-10-17 15:59:09
-2020-10-17 15:59:10
-2020-10-17 15:59:10
-2020-10-17 15:59:10
-2020-10-17 15:59:10
-2020-10-17 15:59:10
-2020-10-17 15:59:10
-2020-10-17 15:59:10
-2020-10-17 15:59:10
-2020-10-17 15:59:10
-2020-10-17 15:59:10
-2020-10-17 15:59:10
-2020-10-17 15:59:10
-2020-10-17 15:59:10
-2020-10-17 15:59:11
-2020-10-17 15:59:11
-2020-10-17 15:59:11
-2020-10-17 15:59:11
-2020-10-17 15:59:11
-2020-10-17 15:59:11
-2020-10-17 15:59:11
-2020-10-17 15:59:11
-2020-10-17 15:59:11
-2020-10-17 15:59:11
-2020-10-17 15:59:11
-2020-10-17 15:59:11
-2020-10-17 15:59:11
-2020-10-17 15:59:11
-2020-10-17 15:59:12
-2020-10-17 15:59:12
-2020-10-17 15:59:12
-2020-10-17 15:59:12
-2020-10-17 15:59:12
-2020-10-17 15:59:12
-2020-10-17 15:59:12
-2020-10-17 15:59:12
-2020-10-17 15:59:12
-2020-10-17 15:59:12
-2020-10-17 15:59:12
-2020-10-17 15:59:12
-2020-10-17 15:59:12
-2020-10-17 15:59:12
-2020-10-17 15:59:12
-2020-10-17 15:59:12
-2020-10-17 15:59:12
-2020-10-17 15:59:13
-2020-10-17 15:59:13
-2020-10-17 15:59:13
-2020-10-17 15:59:13
-2020-10-17 15:59:13
-2020-10-17 15:59:13
-2020-10-17 15:59:13
-2020-10-17 15:59:13
-2020-10-17 15:59:13
-2020-10-17 15:59:13
-2020-10-17 15:59:13
-2020-10-17 15:59:13
-2020-10-17 15:59:13
-2020-10-17 15:59:13
-2020-10-17 15:59:13
-2020-10-17 15:59:13
-2020-10-17 15:59:14
-2020-10-17 15:59:14
-2020-10-17 15:59:14
-2020-10-17 15:59:14
-2020-10-17 15:59:14
-2020-10-17 15:59:14
-2020-10-17 15:59:14
-2020-10-17 15:59:14
-2020-10-17 15:59:14
-2020-10-17 15:59:14
-2020-10-17 15:59:14
-2020-10-17 15:59:15
-2020-10-17 15:59:15
-2020-10-17 15:59:15
-2020-10-17 15:59:15
-2020-10-17 15:59:15
-2020-10-17 15:59:15
-2020-10-17 15:59:15
-2020-10-17 15:59:15
-2020-10-17 15:59:16
-2020-10-17 15:59:16
-2020-10-17 15:59:16
-2020-10-17 15:59:16
-2020-10-17 15:59:16
-2020-10-17 15:59:16
-2020-10-17 15:59:16
-2020-10-17 15:59:17
-2020-10-17 15:59:17
-2020-10-17 15:59:17
-2020-10-17 15:59:17
-2020-10-17 15:59:17
-2020-10-17 15:59:17
-2020-10-17 15:59:17
-2020-10-17 15:59:17
-2020-10-17 15:59:17
-2020-10-17 15:59:17
-2020-10-17 15:59:17
-2020-10-17 15:59:17
-2020-10-17 15:59:17
-2020-10-17 15:59:18
-2020-10-17 15:59:18
-2020-10-17 15:59:18
-2020-10-17 15:59:18
-2020-10-17 15:59:18
-2020-10-17 15:59:18
-2020-10-17 15:59:18
-2020-10-17 15:59:18
-2020-10-17 15:59:18
-2020-10-17 15:59:18
-2020-10-17 15:59:18
-2020-10-17 15:59:18
-2020-10-17 15:59:18
-2020-10-17 15:59:18
-2020-10-17 15:59:18
-2020-10-17 15:59:19
-2020-10-17 15:59:19
-2020-10-17 15:59:19
-2020-10-17 15:59:19
-2020-10-17 15:59:19
-2020-10-17 15:59:19
-2020-10-17 15:59:19
-2020-10-17 15:59:19
-2020-10-17 15:59:19
-2020-10-17 15:59:19
-2020-10-17 15:59:19
-2020-10-17 15:59:19
-2020-10-17 15:59:19
-2020-10-17 15:59:19
-2020-10-17 15:59:19
-2020-10-17 15:59:19
-2020-10-17 15:59:20
-2020-10-17 15:59:20
-2020-10-17 15:59:20
-2020-10-17 15:59:20
-2020-10-17 15:59:20
-2020-10-17 15:59:20
-2020-10-17 15:59:20
-2020-10-17 15:59:20
-2020-10-17 15:59:20
-2020-10-17 15:59:20
-2020-10-17 15:59:20
-2020-10-17 15:59:20
-2020-10-17 15:59:20
-2020-10-17 15:59:20
-2020-10-17 15:59:20
-2020-10-17 15:59:21
-2020-10-17 15:59:21
-2020-10-17 15:59:21
-2020-10-17 15:59:21
-2020-10-17 15:59:21
-2020-10-17 15:59:21
-2020-10-17 15:59:21
-2020-10-17 15:59:21
-2020-10-17 15:59:21
-2020-10-17 15:59:21
-2020-10-17 15:59:21
-2020-10-17 15:59:21
-2020-10-17 15:59:21
-2020-10-17 15:59:21
-2020-10-17 15:59:21
-2020-10-17 15:59:21
-2020-10-17 15:59:22
-2020-10-17 15:59:22
-2020-10-17 15:59:22
-2020-10-17 15:59:22
-2020-10-17 15:59:22
-2020-10-17 15:59:22
-2020-10-17 15:59:22
-2020-10-17 15:59:22
-2020-10-17 15:59:22
-2020-10-17 15:59:22
-2020-10-17 15:59:22
-2020-10-17 15:59:22
-2020-10-17 15:59:22
-2020-10-17 15:59:22
-2020-10-17 15:59:22
-2020-10-17 15:59:22
-2020-10-17 15:59:22
-2020-10-17 15:59:22
-2020-10-17 15:59:23
-2020-10-17 15:59:23
-2020-10-17 15:59:23
-2020-10-17 15:59:23
-2020-10-17 15:59:23
-2020-10-17 15:59:23
-2020-10-17 15:59:23
-2020-10-17 15:59:23
-2020-10-17 15:59:23
-2020-10-17 15:59:23
-2020-10-17 15:59:23
-2020-10-17 15:59:23
-2020-10-17 15:59:23
-2020-10-17 15:59:23
-2020-10-17 15:59:23
-2020-10-17 15:59:23
-2020-10-17 15:59:23
-2020-10-17 15:59:23
-2020-10-17 15:59:24
-2020-10-17 15:59:24
-2020-10-17 15:59:24
-2020-10-17 15:59:24
-2020-10-17 15:59:24
-2020-10-17 15:59:24
-2020-10-17 15:59:24
-2020-10-17 15:59:24
-2020-10-17 15:59:24
-2020-10-17 15:59:24
-2020-10-17 15:59:24
-2020-10-17 15:59:24
-2020-10-17 15:59:25
-2020-10-17 15:59:25
-2020-10-17 15:59:25
-2020-10-17 15:59:25
-2020-10-17 15:59:25
-2020-10-17 15:59:25
-2020-10-17 15:59:25
-2020-10-17 15:59:25
-2020-10-17 15:59:25
-2020-10-17 15:59:25
-2020-10-17 15:59:25
-2020-10-17 15:59:25
-2020-10-17 15:59:25
-2020-10-17 15:59:25
-2020-10-17 15:59:25
-2020-10-17 15:59:25
-2020-10-17 15:59:26
-2020-10-17 15:59:26
-2020-10-17 15:59:26
-2020-10-17 15:59:26
-2020-10-17 15:59:26
-2020-10-17 15:59:26
-2020-10-17 15:59:26
-2020-10-17 15:59:26
-2020-10-17 15:59:26
-2020-10-17 15:59:26
-2020-10-17 15:59:26
-2020-10-17 15:59:26
-2020-10-17 15:59:26
-2020-10-17 15:59:26
-2020-10-17 15:59:27
-2020-10-17 15:59:27
-2020-10-17 15:59:27
-2020-10-17 15:59:27
-2020-10-17 15:59:27
-2020-10-17 15:59:27
-2020-10-17 15:59:27
-2020-10-17 15:59:27
-2020-10-17 15:59:27
-2020-10-17 15:59:27
-2020-10-17 15:59:27
-2020-10-17 15:59:27
-2020-10-17 15:59:27
-2020-10-17 15:59:27
-2020-10-17 15:59:27
-2020-10-17 15:59:28
-2020-10-17 15:59:28
-2020-10-17 15:59:28
-2020-10-17 15:59:28
-2020-10-17 15:59:28
-2020-10-17 15:59:28
-2020-10-17 15:59:28
-2020-10-17 15:59:28
-2020-10-17 15:59:28
-2020-10-17 15:59:28
-2020-10-17 15:59:28
-2020-10-17 15:59:29
-2020-10-17 15:59:29
-2020-10-17 15:59:29
-2020-10-17 15:59:29
-2020-10-17 15:59:29
-2020-10-17 15:59:29
-2020-10-17 15:59:29
-2020-10-17 15:59:29
-2020-10-17 15:59:29
-2020-10-17 15:59:29
-2020-10-17 15:59:29
-2020-10-17 15:59:29
-2020-10-17 15:59:29
-2020-10-17 15:59:29
-2020-10-17 15:59:29
-2020-10-17 15:59:29
-2020-10-17 15:59:29
-2020-10-17 15:59:29
-2020-10-17 15:59:29
-2020-10-17 15:59:29
-2020-10-17 15:59:30
-2020-10-17 15:59:30
-2020-10-17 15:59:30
-2020-10-17 15:59:30
-2020-10-17 15:59:30
-2020-10-17 15:59:30
-2020-10-17 15:59:30
-2020-10-17 15:59:30
-2020-10-17 15:59:30
-2020-10-17 15:59:30
-2020-10-17 15:59:30
-2020-10-17 15:59:30
-2020-10-17 15:59:30
-2020-10-17 15:59:30
-2020-10-17 15:59:30
-2020-10-17 15:59:30
-2020-10-17 15:59:31
-2020-10-17 15:59:31
-2020-10-17 15:59:31
-2020-10-17 15:59:31
-2020-10-17 15:59:31
-2020-10-17 15:59:31
-2020-10-17 15:59:31
-2020-10-17 15:59:31
-2020-10-17 15:59:31
-2020-10-17 15:59:31
-2020-10-17 15:59:31
-2020-10-17 15:59:31
-2020-10-17 15:59:31
-2020-10-17 15:59:31
-2020-10-17 15:59:32
-2020-10-17 15:59:32
-2020-10-17 15:59:32
-2020-10-17 15:59:32
-2020-10-17 15:59:32
-2020-10-17 15:59:32
-2020-10-17 15:59:32
-2020-10-17 15:59:32
-2020-10-17 15:59:32
-2020-10-17 15:59:32
-2020-10-17 15:59:32
-2020-10-17 15:59:32
-2020-10-17 15:59:32
-2020-10-17 15:59:32
-2020-10-17 15:59:33
-2020-10-17 15:59:33
-2020-10-17 15:59:33
-2020-10-17 15:59:33
-2020-10-17 15:59:33
-2020-10-17 15:59:33
-2020-10-17 15:59:33
-2020-10-17 15:59:33
-2020-10-17 15:59:33
-2020-10-17 15:59:33
-2020-10-17 15:59:33
-2020-10-17 15:59:33
-2020-10-17 15:59:34
-2020-10-17 15:59:34
-2020-10-17 15:59:34
-2020-10-17 15:59:34
-2020-10-17 15:59:34
-2020-10-17 15:59:34
-2020-10-17 15:59:34
-2020-10-17 15:59:34
-2020-10-17 15:59:34
-2020-10-17 15:59:34
-2020-10-17 15:59:34
-2020-10-17 15:59:34
-2020-10-17 15:59:34
-2020-10-17 15:59:34
-2020-10-17 15:59:34
-2020-10-17 15:59:34
-2020-10-17 15:59:35
-2020-10-17 15:59:35
-2020-10-17 15:59:35
-2020-10-17 15:59:35
-2020-10-17 15:59:35
-2020-10-17 15:59:35
-2020-10-17 15:59:36
-2020-10-17 15:59:36
-2020-10-17 15:59:36
-2020-10-17 15:59:36
-2020-10-17 15:59:36
-2020-10-17 15:59:36
-2020-10-17 15:59:36
-2020-10-17 15:59:37
-2020-10-17 15:59:37
-2020-10-17 15:59:37
-2020-10-17 15:59:37
-2020-10-17 15:59:37
-2020-10-17 15:59:37
-2020-10-17 15:59:37
-2020-10-17 15:59:37
-2020-10-17 15:59:37
-2020-10-17 15:59:37
-2020-10-17 15:59:37
-2020-10-17 15:59:38
-2020-10-17 15:59:38
-2020-10-17 15:59:38
-2020-10-17 15:59:38
-2020-10-17 15:59:38
-2020-10-17 15:59:38
-2020-10-17 15:59:38
-2020-10-17 15:59:38
-2020-10-17 15:59:38
-2020-10-17 15:59:38
-2020-10-17 15:59:38
-2020-10-17 15:59:38
-2020-10-17 15:59:38
-2020-10-17 15:59:38
-2020-10-17 15:59:38
-2020-10-17 15:59:38
-2020-10-17 15:59:39
-2020-10-17 15:59:39
-2020-10-17 15:59:39
-2020-10-17 15:59:39
-2020-10-17 15:59:39
-2020-10-17 15:59:39
-2020-10-17 15:59:39
-2020-10-17 15:59:39
-2020-10-17 15:59:39
-2020-10-17 15:59:39
-2020-10-17 15:59:39
-2020-10-17 15:59:39
-2020-10-17 15:59:39
-2020-10-17 15:59:39
-2020-10-17 15:59:39
-2020-10-17 15:59:40
-2020-10-17 15:59:40
-2020-10-17 15:59:40
-2020-10-17 15:59:40
-2020-10-17 15:59:40
-2020-10-17 15:59:40
-2020-10-17 15:59:40
-2020-10-17 15:59:40
-2020-10-17 15:59:40
-2020-10-17 15:59:40
-2020-10-17 15:59:40
-2020-10-17 15:59:40
-2020-10-17 15:59:41
-2020-10-17 15:59:41
-2020-10-17 15:59:41
-2020-10-17 15:59:41
-2020-10-17 15:59:41
-2020-10-17 15:59:41
-2020-10-17 15:59:41
-2020-10-17 15:59:41
-2020-10-17 15:59:41
-2020-10-17 15:59:41
-2020-10-17 15:59:41
-2020-10-17 15:59:41
-2020-10-17 15:59:41
-2020-10-17 15:59:41
-2020-10-17 15:59:41
-2020-10-17 15:59:41
-2020-10-17 15:59:41
-2020-10-17 15:59:41
-2020-10-17 15:59:42
-2020-10-17 15:59:42
-2020-10-17 15:59:42
-2020-10-17 15:59:42
-2020-10-17 15:59:42
-2020-10-17 15:59:42
-2020-10-17 15:59:42
-2020-10-17 15:59:42
-2020-10-17 15:59:42
-2020-10-17 15:59:42
-2020-10-17 15:59:42
-2020-10-17 15:59:42
-2020-10-17 15:59:42
-2020-10-17 15:59:42
-2020-10-17 15:59:42
-2020-10-17 15:59:43
-2020-10-17 15:59:43
-2020-10-17 15:59:43
-2020-10-17 15:59:43
-2020-10-17 15:59:43
-2020-10-17 15:59:43
-2020-10-17 15:59:43
-2020-10-17 15:59:43
-2020-10-17 15:59:43
-2020-10-17 15:59:43
-2020-10-17 15:59:43
-2020-10-17 15:59:43
-2020-10-17 15:59:43
-2020-10-17 15:59:43
-2020-10-17 15:59:43
-2020-10-17 15:59:43
-2020-10-17 15:59:44
-2020-10-17 15:59:44
-2020-10-17 15:59:44
-2020-10-17 15:59:44
-2020-10-17 15:59:44
-2020-10-17 15:59:44
-2020-10-17 15:59:44
-2020-10-17 15:59:44
-2020-10-17 15:59:44
-2020-10-17 15:59:44
-2020-10-17 15:59:44
-2020-10-17 15:59:44
-2020-10-17 15:59:45
-2020-10-17 15:59:45
-2020-10-17 15:59:45
-2020-10-17 15:59:45
-2020-10-17 15:59:45
-2020-10-17 15:59:45
-2020-10-17 15:59:45
-2020-10-17 15:59:45
-2020-10-17 15:59:45
-2020-10-17 15:59:45
-2020-10-17 15:59:45
-2020-10-17 15:59:45
-2020-10-17 15:59:45
-2020-10-17 15:59:46
-2020-10-17 15:59:46
-2020-10-17 15:59:46
-2020-10-17 15:59:46
-2020-10-17 15:59:46
-2020-10-17 15:59:46
-2020-10-17 15:59:46
-2020-10-17 15:59:46
-2020-10-17 15:59:46
-2020-10-17 15:59:46
-2020-10-17 15:59:46
-2020-10-17 15:59:46
-2020-10-17 15:59:46
-2020-10-17 15:59:46
-2020-10-17 15:59:46
-2020-10-17 15:59:46
-2020-10-17 15:59:47
-2020-10-17 15:59:47
-2020-10-17 15:59:47
-2020-10-17 15:59:47
-2020-10-17 15:59:47
-2020-10-17 15:59:47
-2020-10-17 15:59:47
-2020-10-17 15:59:47
-2020-10-17 15:59:47
-2020-10-17 15:59:47
-2020-10-17 15:59:47
-2020-10-17 15:59:47
-2020-10-17 15:59:47
-2020-10-17 15:59:47
-2020-10-17 15:59:47
-2020-10-17 15:59:47
-2020-10-17 15:59:47
-2020-10-17 15:59:47
-2020-10-17 15:59:47
-2020-10-17 15:59:47
-2020-10-17 15:59:48
-2020-10-17 15:59:48
-2020-10-17 15:59:48
-2020-10-17 15:59:48
-2020-10-17 15:59:48
-2020-10-17 15:59:48
-2020-10-17 15:59:48
-2020-10-17 15:59:48
-2020-10-17 15:59:48
-2020-10-17 15:59:48
-2020-10-17 15:59:48
-2020-10-17 15:59:48
-2020-10-17 15:59:48
-2020-10-17 15:59:48
-2020-10-17 15:59:49
-2020-10-17 15:59:49
-2020-10-17 15:59:49
-2020-10-17 15:59:49
-2020-10-17 15:59:49
-2020-10-17 15:59:49
-2020-10-17 15:59:49
-2020-10-17 15:59:49
-2020-10-17 15:59:49
-2020-10-17 15:59:49
-2020-10-17 15:59:49
-2020-10-17 15:59:49
-2020-10-17 15:59:49
-2020-10-17 15:59:50
-2020-10-17 15:59:50
-2020-10-17 15:59:50
-2020-10-17 15:59:50
-2020-10-17 15:59:50
-2020-10-17 15:59:50
-2020-10-17 15:59:50
-2020-10-17 15:59:50
-2020-10-17 15:59:50
-2020-10-17 15:59:50
-2020-10-17 15:59:50
-2020-10-17 15:59:50
-2020-10-17 15:59:50
-2020-10-17 15:59:51
-2020-10-17 15:59:51
-2020-10-17 15:59:51
-2020-10-17 15:59:51
-2020-10-17 15:59:51
-2020-10-17 15:59:51
-2020-10-17 15:59:51
-2020-10-17 15:59:51
-2020-10-17 15:59:51
-2020-10-17 15:59:51
-2020-10-17 15:59:51
-2020-10-17 15:59:51
-2020-10-17 15:59:51
-2020-10-17 15:59:52
-2020-10-17 15:59:52
-2020-10-17 15:59:52
-2020-10-17 15:59:52
-2020-10-17 15:59:52
-2020-10-17 15:59:52
-2020-10-17 15:59:52
-2020-10-17 15:59:52
-2020-10-17 15:59:52
-2020-10-17 15:59:52
-2020-10-17 15:59:52
-2020-10-17 15:59:52
-2020-10-17 15:59:52
-2020-10-17 15:59:53
-2020-10-17 15:59:53
-2020-10-17 15:59:53
-2020-10-17 15:59:53
-2020-10-17 15:59:53
-2020-10-17 15:59:53
-2020-10-17 15:59:53
-2020-10-17 15:59:53
-2020-10-17 15:59:53
-2020-10-17 15:59:53
-2020-10-17 15:59:53
-2020-10-17 15:59:53
-2020-10-17 15:59:53
-2020-10-17 15:59:53
-2020-10-17 15:59:53
-2020-10-17 15:59:53
-2020-10-17 15:59:54
-2020-10-17 15:59:54
-2020-10-17 15:59:54
-2020-10-17 15:59:54
-2020-10-17 15:59:54
-2020-10-17 15:59:54
-2020-10-17 15:59:54
-2020-10-17 15:59:54
-2020-10-17 15:59:54
-2020-10-17 15:59:54
231.3 KiB2020-01-16 19:02:17
1.8 MiB2020-01-16 19:02:17
4.8 KiB2020-01-16 19:02:17
7.1 KiB2020-10-17 15:54:07
1.5 KiB2020-10-17 15:54:07
7.1 KiB2020-10-17 15:54:07
600.0 KiB2020-10-17 15:54:07
198.8 KiB2020-10-17 15:54:07
2.6 KiB2020-10-17 15:54:07
5.1 KiB2020-10-17 15:54:07
7.0 KiB2020-10-17 15:54:07
23 B2020-10-17 15:54:07
6.1 KiB2020-10-17 15:54:07
1.7 MiB2020-10-17 15:59:57
1.8 MiB2020-10-17 16:00:00
5.2 KiB2020-10-17 16:00:03
5.6 KiB2020-10-17 16:00:03
1.8 MiB2020-10-17 16:00:03
392.2 KiB2020-10-17 16:00:03
400.1 KiB2020-10-17 16:00:03
463.1 KiB2020-10-17 16:00:03
5.1 KiB2020-10-17 16:00:03
6.7 MiB2020-10-17 16:00:11
30.2 MiB2020-10-17 16:00:17