This page was generated on 2020-10-17 11:54:11 -0400 (Sat, 17 Oct 2020).
geneplotter 1.66.0 Bioconductor Package Maintainer
 
| Snapshot Date: 2020-10-16 14:40:19 -0400 (Fri, 16 Oct 2020) |  
| URL: https://git.bioconductor.org/packages/geneplotter |  
| Branch: RELEASE_3_11 |  
| Last Commit: 20f741b |  
| Last Changed Date: 2020-04-27 14:07:51 -0400 (Mon, 27 Apr 2020) |  
 
 | malbec2  | Linux (Ubuntu 18.04.4 LTS) / x86_64  |  OK  |  OK  |  OK  |  |   | 
| tokay2  | Windows Server 2012 R2 Standard / x64  |  OK  |  OK  |  OK  |  OK  |   | 
| machv2  | macOS 10.14.6 Mojave / x86_64  |  OK  |  OK  |  OK  |  OK  |   |