| Back to Multiple platform build/check report for BioC 3.11 |
This page was generated on 2020-01-16 14:02:17 -0500 (Thu, 16 Jan 2020).
Version Built
a4 1.35.0 4.0.0
a4Base 1.35.0 4.0.0
a4Classif 1.35.0 4.0.0
a4Core 1.35.0 4.0.0
a4Preproc 1.35.0 4.0.0
a4Reporting 1.35.0 4.0.0
ABAData 1.17.0 4.0.0
ABAEnrichment 1.17.0 4.0.0
ABarray 1.55.0 4.0.0
abind 1.4-5 4.0.0
abseqR 1.5.0 4.0.0
ABSSeq 1.41.0 4.0.0
acde 1.17.0 4.0.0
ACE 1.5.0 4.0.0
acepack 1.4.1 4.0.0
aCGH 1.65.1 4.0.0
ACME 2.43.0 4.0.0
actuar 2.3-3 4.0.0
ada 2.0-5 4.0.0
ADaCGH2 2.27.0 4.0.0
ADAM 1.3.0 4.0.0
ADAMgui 1.3.0 4.0.0
adaptest 1.7.1 4.0.0
additivityTests 1.1-4 4.0.0
adductData 1.3.0 4.0.0
adductomicsR 1.3.0 4.0.0
ade4 1.7-13 4.0.0
adehabitatLT 0.3.24 4.0.0
adehabitatMA 0.3.14 4.0.0
ADGofTest 0.3 4.0.0
admisc 0.5 4.0.0
adSplit 1.57.0 4.0.0
afex 0.25-1 4.0.0
AffiXcan 1.5.0 4.0.0
affxparser 1.59.0 4.0.0
affy 1.65.1 4.0.0
affycomp 1.63.0 4.0.0
AffyCompatible 1.47.0 4.0.0
affycompData 1.25.0 4.0.0
affyContam 1.45.0 4.0.0
affycoretools 1.59.4 4.0.0
affydata 1.35.0 4.0.0
AffyExpress 1.53.0 4.0.0
Affyhgu133A2Expr 1.23.0 4.0.0
Affyhgu133aExpr 1.25.0 4.0.0
Affyhgu133Plus2Expr 1.21.0 4.0.0
affyILM 1.39.0 4.0.0
affyio 1.57.0 4.0.0
affylmGUI 1.61.0 4.0.0
AffymetrixDataTestFiles 0.25.0 4.0.0
Affymoe4302Expr 1.25.0 4.0.0
affyPara 1.47.0 4.0.0
affypdnn 1.61.1 4.0.0
affyPLM 1.63.0 4.0.0
affyQCReport 1.65.0 4.0.0
AffyRNADegradation 1.33.0 4.0.0
AGDEX 1.35.0 4.0.0
agilp 3.19.0 4.0.0
AgiMicroRna 2.37.0 4.0.0
agricolae 1.3-1 4.0.0
AhoCorasickTrie 0.1.0 4.0.0
AIMS 1.19.0 4.0.0
airway 1.7.0 4.0.0
akima 0.6-2 4.0.0
alabama 2015.3-1 4.0.0
ALDEx2 1.19.1 4.0.0
alevinQC 1.3.0 4.0.0
AlgDesign 1.2.0 4.0.0
ALL 1.29.0 4.0.0
AllelicImbalance 1.25.0 4.0.0
ALLMLL 1.27.0 4.0.0
alluvial 0.1-2 4.0.0
AlphaBeta 1.1.0 4.0.0
alpine 1.13.0 4.0.0
alpineData 1.13.0 4.0.0
ALPS 1.1.0 4.0.0
ALS 0.0.6 4.0.0
alsace 1.23.1 4.0.0
altcdfenvs 2.49.0 4.0.0
amap 0.8-18 4.0.0
AMARETTO 1.3.0 4.0.0
AMOUNTAIN 1.13.0 4.0.0
AmpAffyExample 1.27.0 4.0.0
amplican 1.9.2 4.0.0
AnalysisPageServer 1.21.0 4.0.0
anamiR 1.15.1 4.0.0
Anaquin 2.11.0 4.0.0
AneuFinder 1.15.0 4.0.0
AneuFinderData 1.15.0 4.0.0
ANF 1.9.0 4.0.0
animalcules 1.3.4 4.0.0
animation 2.6 4.0.0
annaffy 1.59.0 4.0.0
annmap 1.29.0 4.0.0
annotate 1.65.0 4.0.0
AnnotationDbi 1.49.0 4.0.0
AnnotationFilter 1.11.0 4.0.0
AnnotationForge 1.29.2 4.0.0
AnnotationFuncs 1.37.0 4.0.0
AnnotationHub 2.19.4 4.0.0
AnnotationHubData 1.17.0 4.0.0
annotationTools 1.61.0 4.0.0
annotatr 1.13.1 4.0.0
anota 1.35.0 4.0.0
anota2seq 1.9.0 4.0.0
antiProfiles 1.27.0 4.0.0
antiProfilesData 1.23.0 4.0.0
aod 1.3.1 4.0.0
APAlyzer 1.1.0 4.0.0
apcluster 1.4.8 4.0.0
apComplex 2.53.0 4.0.0
ape 5.3 4.0.0
apeglm 1.9.0 4.0.0
aplpack 1.3.3 4.0.0
appreci8R 1.5.1 4.0.0
argparse 2.0.1 4.0.0
argparser 0.6 4.0.0
ArgumentCheck 0.10.2 4.0.0
arm 1.10-1 4.0.0
aroma.affymetrix 3.2.0 4.0.0
aroma.apd 0.6.0 4.0.0
aroma.core 3.2.0 4.0.0
aroma.light 3.17.1 4.0.0
ArrayExpress 1.47.0 4.0.0
ArrayExpressHTS 1.37.0 4.0.0
arrayMvout 1.45.0 4.0.0
arrayQuality 1.65.0 4.0.0
arrayQualityMetrics 3.43.0 4.0.0
ArrayTools 1.47.0 4.0.0
ArrayTV 1.25.0 4.0.0
ARRmData 1.23.0 4.0.0
ARRmNormalization 1.27.0 4.0.0
arrow 0.15.1.1 4.0.0
artMS 1.5.1 4.0.0
arules 1.6-4 4.0.0
ASAFE 1.13.0 4.0.0
ASEB 1.31.0 4.0.0
ASGSCA 1.21.0 4.0.0
ashr 2.2-39 4.0.0
ASICS 2.3.0 4.0.0
ASICSdata 1.7.0 4.0.0
askpass 1.1 4.0.0
ASpediaFI 1.1.1 4.0.0
ASpli 1.13.0 4.0.0
assertive 0.3-5 4.0.0
assertive.base 0.0-7 4.0.0
assertive.code 0.0-3 4.0.0
assertive.data 0.0-3 4.0.0
assertive.data.uk 0.0-2 4.0.0
assertive.data.us 0.0-2 4.0.0
assertive.datetimes 0.0-2 4.0.0
assertive.files 0.0-2 4.0.0
assertive.matrices 0.0-2 4.0.0
assertive.models 0.0-2 4.0.0
assertive.numbers 0.0-2 4.0.0
assertive.properties 0.0-4 4.0.0
assertive.reflection 0.0-4 4.0.0
assertive.sets 0.0-3 4.0.0
assertive.strings 0.0-3 4.0.0
assertive.types 0.0-3 4.0.0
assertthat 0.2.1 4.0.0
AssessORF 1.5.0 4.0.0
AssessORFData 1.5.0 4.0.0
ASSET 2.5.0 4.0.0
ASSIGN 1.23.0 4.0.0
ATACseqQC 1.11.1 4.0.0
atSNP 1.3.0 4.0.0
attract 1.39.0 4.0.0
AUCell 1.9.0 4.0.0
Autotuner 1.1.0 4.0.0
AWFisher 1.1.0 4.0.0
aws 2.3-0 4.0.0
awsMethods 1.1-1 4.0.0
BaalChIP 1.13.0 4.0.0
BAC 1.47.0 4.0.0
backports 1.1.5 4.0.0
bacon 1.15.0 4.0.0
BADER 1.25.0 4.0.0
badger 0.0.7 4.0.0
BadRegionFinder 1.15.0 4.0.0
BAGS 2.27.0 4.0.0
ballgown 2.19.0 4.0.0
bamsignals 1.19.0 4.0.0
BANDITS 1.3.2 4.0.0
banocc 1.11.0 4.0.0
base 4.0.0 4.0.0
base64 2.0 4.0.0
base64enc 0.1-3 4.0.0
base64url 1.4 4.0.0
basecallQC 1.11.0 4.0.0
baseline 1.2-2 4.0.0
BaseSpaceR 1.31.0 4.0.0
Basic4Cseq 1.23.0 4.0.0
BASiCS 1.9.10 4.0.0
BasicSTARRseq 1.15.0 4.0.0
basicTrendline 2.0.3 4.0.0
batchelor 1.3.9 4.0.0
BatchJobs 1.8 4.0.0
BatchQC 1.15.0 4.0.0
batchtools 0.9.12 4.0.0
BayesKnockdown 1.13.0 4.0.0
bayesm 3.1-4 4.0.0
BayesPeak 1.39.1 4.0.0
bayestestR 0.4.0 4.0.0
bayNorm 1.5.14 4.0.0
baySeq 2.21.0 4.0.0
BB 2019.10-1 4.0.0
BBCAnalyzer 1.17.0 4.0.0
BBmisc 1.11 4.0.0
bbmle 1.0.22 4.0.0
bc3net 1.0.4 4.0.0
bcellViper 1.23.0 4.0.0
BCRANK 1.49.0 4.0.0
bcSeq 1.9.0 4.0.0
BDgraph 2.62 4.0.0
BDMMAcorrect 1.5.0 4.0.0
bdsmatrix 1.3-4 4.0.0
beachmat 2.3.1 4.0.0
beadarray 2.37.0 4.0.0
beadarrayExampleData 1.25.0 4.0.0
beadarraySNP 1.53.0 4.0.0
BeadDataPackR 1.39.0 4.0.0
beanplot 1.2 4.0.0
BEARscc 1.7.0 4.0.0
BEAT 1.25.0 4.0.0
BEclear 2.3.0 4.0.0
beeswarm 0.2.3 4.0.0
benchmarkme 1.0.3 4.0.0
benchmarkmeData 1.0.3 4.0.0
betareg 3.1-2 4.0.0
bezier 1.1.2 4.0.0
bgafun 1.49.0 4.0.0
BgeeDB 2.13.0 4.0.0
BGmix 1.47.0 4.0.0
bgmm 1.8.3 4.0.0
bgx 1.53.0 4.0.0
BH 1.72.0-3 4.0.0
BHC 1.39.0 4.0.0
BiasedUrn 1.07 4.0.0
BiBitR 0.3.1 4.0.0
bibtex 0.4.2.2 4.0.0
BicARE 1.45.0 4.0.0
biclust 2.0.1 4.0.0
BiFET 1.7.0 4.0.0
biganalytics 1.1.14 4.0.0
BiGGR 1.23.0 4.0.0
biglm 0.9-1 4.0.0
bigmelon 1.13.4 4.0.0
bigmemory 4.5.36 4.0.0
bigmemory.sri 0.1.3 4.0.0
bigmemoryExtras 1.35.0 4.0.0
bigPint 1.3.0 4.0.0
bigrquery 1.2.0 4.0.0
binom 1.1-1 4.0.0
bioassayR 1.25.0 4.0.0
Biobase 2.47.2 4.0.0
biobroom 1.19.0 4.0.0
biobtreeR 0.99.22 4.0.0
bioCancer 1.15.0 4.0.0
BiocCaseStudies 1.49.0 4.0.0
BiocCheck 1.23.0 4.0.0
BiocFileCache 1.11.4 4.0.0
BiocGenerics 0.33.0 4.0.0
biocGraph 1.49.0 4.0.0
BiocManager 1.30.10 4.0.0
BiocNeighbors 1.5.1 4.0.0
BiocOncoTK 1.7.1 4.0.0
BioCor 1.11.0 4.0.0
BiocParallel 1.21.2 4.0.0
BiocPkgTools 1.5.0 4.0.0
BiocSet 1.1.2 4.0.0
BiocSingular 1.3.1 4.0.0
BiocSklearn 1.9.1 4.0.0
BiocStyle 2.15.5 4.0.0
BiocVersion 3.11.1 4.0.0
biocViews 1.55.3 4.0.0
BiocWorkflowTools 1.13.0 4.0.0
bioDist 1.59.0 4.0.0
BioMark 0.4.5 4.0.0
biomaRt 2.43.1 4.0.0
biomformat 1.15.0 4.0.0
BioMM 1.3.0 4.0.0
BioMVCClass 1.55.0 4.0.0
biomvRCNS 1.27.0 4.0.0
BioNet 1.47.0 4.0.0
bionetdata 1.0.1 4.0.0
BioNetStat 1.7.0 4.0.0
BioQC 1.15.4 4.0.0
BioSeqClass 1.45.0 4.0.0
biosigner 1.15.0 4.0.0
Biostrings 2.55.4 4.0.0
biosvd 2.23.0 4.0.0
BioTIP 1.1.0 4.0.0
biotmle 1.11.0 4.0.0
biotmleData 1.11.0 4.0.0
biovizBase 1.35.1 4.0.0
BiRewire 3.19.0 4.0.0
birta 1.31.0 4.0.0
biscuiteer 1.1.0 4.0.0
biscuiteerData 1.1.0 4.0.0
bit 1.1-15.1 4.0.0
bit64 0.9-7 4.0.0
bitops 1.0-6 4.0.0
BitSeq 1.31.0 4.0.0
biwt 1.0 4.0.0
blacksheepr 1.1.0 4.0.0
bladderbatch 1.25.0 4.0.0
blima 1.21.0 4.0.0
blimaTestingData 1.7.0 4.0.0
BLMA 1.11.0 4.0.0
blme 1.0-4 4.0.0
blob 1.2.0 4.0.0
blockmodeling 0.3.4 4.0.0
BMA 3.18.11 4.0.0
bmp 0.3 4.0.0
bnbc 1.9.0 4.0.0
bnlearn 4.5 4.0.0
bodymapRat 1.3.0 4.0.0
bookdown 0.17 4.0.0
BoolNet 2.1.5 4.0.0
boot 1.3-24 4.0.0
bootstrap 2019.6 4.0.0
bpca 1.3-0 4.0.0
BPRMeth 1.13.0 4.0.0
BRAIN 1.33.0 4.0.0
brainflowprobes 1.1.0 4.0.0
BrainStars 1.31.0 4.0.0
branchpointer 1.13.0 4.0.0
breakpointR 1.5.0 4.0.0
breakpointRdata 1.5.0 4.0.0
breastCancerMAINZ 1.25.0 4.0.0
breastCancerNKI 1.25.0 4.0.0
breastCancerTRANSBIG 1.25.0 4.0.0
breastCancerUNT 1.25.0 4.0.0
breastCancerUPP 1.25.0 4.0.0
breastCancerVDX 1.25.0 4.0.0
brendaDb 1.1.0 4.0.0
brew 1.0-6 4.0.0
brgedata 1.9.0 4.0.0
brglm 0.6.2 4.0.0
bridge 1.51.0 4.0.0
BridgeDbR 1.21.0 4.0.0
broom 0.5.3 4.0.0
BrowserViz 2.9.1 4.0.0
BSgenome 1.55.2 4.0.0
BSgenome.Athaliana.TAIR.TAIR9 1.3.1000 4.0.0
BSgenome.Btaurus.UCSC.bosTau6 1.4.0 4.0.0
BSgenome.Btaurus.UCSC.bosTau6.masked 1.3.99 4.0.0
BSgenome.Celegans.UCSC.ce10 1.4.0 4.0.0
BSgenome.Celegans.UCSC.ce2 1.4.0 4.0.0
BSgenome.Dmelanogaster.UCSC.dm3 1.4.0 4.0.0
BSgenome.Drerio.UCSC.danRer10 1.4.2 4.0.0
BSgenome.Drerio.UCSC.danRer7 1.4.0 4.0.0
BSgenome.Ecoli.NCBI.20080805 1.3.1000 4.0.0
BSgenome.Ggallus.UCSC.galGal3 1.4.0 4.0.0
BSgenome.Hsapiens.1000genomes.hs37d5 0.99.1 4.0.0
BSgenome.Hsapiens.NCBI.GRCh38 1.3.1000 4.0.0
BSgenome.Hsapiens.UCSC.hg18 1.3.1000 4.0.0
BSgenome.Hsapiens.UCSC.hg18.masked 1.3.99 4.0.0
BSgenome.Hsapiens.UCSC.hg19 1.4.0 4.0.0
BSgenome.Hsapiens.UCSC.hg19.masked 1.3.99 4.0.0
BSgenome.Hsapiens.UCSC.hg38 1.4.1 4.0.0
BSgenome.Hsapiens.UCSC.hg38.masked 1.3.99 4.0.0
BSgenome.Mmusculus.UCSC.mm10 1.4.0 4.0.0
BSgenome.Mmusculus.UCSC.mm10.masked 1.3.99 4.0.0
BSgenome.Mmusculus.UCSC.mm8 1.4.0 4.0.0
BSgenome.Mmusculus.UCSC.mm8.masked 1.3.99 4.0.0
BSgenome.Mmusculus.UCSC.mm9 1.4.0 4.0.0
BSgenome.Mmusculus.UCSC.mm9.masked 1.3.99 4.0.0
BSgenome.Rnorvegicus.UCSC.rn5 1.4.0 4.0.0
BSgenome.Rnorvegicus.UCSC.rn5.masked 1.3.99 4.0.0
BSgenome.Rnorvegicus.UCSC.rn6 1.4.1 4.0.0
BSgenome.Scerevisiae.UCSC.sacCer1 1.4.0 4.0.0
BSgenome.Scerevisiae.UCSC.sacCer2 1.4.0 4.0.0
BSgenome.Scerevisiae.UCSC.sacCer3 1.4.0 4.0.0
bsseq 1.23.0 4.0.0
bsseqData 0.25.0 4.0.0
BubbleTree 2.17.0 4.0.0
BufferedMatrix 1.51.0 4.0.0
BufferedMatrixMethods 1.51.0 4.0.0
BUMHMM 1.11.0 4.0.0
bumphunter 1.29.0 4.0.0
BUS 1.43.0 4.0.0
BUScorrect 1.5.0 4.0.0
BUSpaRse 1.1.0 4.0.0
c3net 1.1.1 4.0.0
C50 0.1.3 4.0.0
ca 0.71 4.0.0
CAFE 1.23.0 4.0.0
CAGEfightR 1.7.0 4.0.0
CAGEr 1.29.0 4.0.0
Cairo 1.5-10 3.6.0
cairoDevice 2.28 4.0.0
CALIB 1.53.1 4.0.0
calibrate 1.7.5 4.0.0
callr 3.4.0 4.0.0
calm 1.1.0 4.0.0
CAMERA 1.43.0 4.0.0
CAMTHC 1.5.0 4.0.0
canceR 1.21.0 4.0.0
cancerclass 1.31.0 4.0.0
cancerdata 1.25.0 4.0.0
CancerInSilico 2.7.0 4.0.0
CancerMutationAnalysis 1.29.0 4.0.0
CancerSubtypes 1.13.0 4.0.0
CAnD 1.19.0 4.0.0
caOmicsV 1.17.0 4.0.0
capushe 1.1.1 4.0.0
car 3.0-6 4.0.0
carData 3.0-3 4.0.0
Cardinal 2.5.0 4.0.0
caret 6.0-85 4.0.0
caroline 0.7.6 4.0.0
casper 2.21.0 4.0.0
CATALYST 1.11.0 4.0.0
Category 2.53.1 4.0.0
categoryCompare 1.31.0 4.0.0
catnet 1.15.5 4.0.0
caTools 1.17.1.4 4.0.0
CausalR 1.19.0 4.0.0
cba 0.2-21 4.0.0
cbaf 1.9.1 4.0.0
ccaPP 0.3.3 4.0.0
ccdata 1.13.0 4.0.0
ccdrAlgorithm 0.0.5 4.0.0
ccfindR 1.7.0 4.0.0
CCl4 1.25.0 4.0.0
ccmap 1.13.0 4.0.0
CCP 1.1 4.0.0
CCPROMISE 1.13.0 4.0.0
ccrepe 1.23.0 4.0.0
CDFt 1.0.1 4.0.0
celaref 1.5.0 4.0.0
celda 1.3.2 4.0.0
celestial 1.4.6 4.0.0
cellbaseR 1.11.0 4.0.0
CellBench 1.3.1 4.0.0
cellGrowth 1.31.0 4.0.0
cellHTS2 2.51.0 4.0.0
cellity 1.15.0 4.0.0
CellMapper 1.13.0 4.0.0
CellMapperData 1.13.0 4.0.0
CellMixS 1.3.2 4.0.0
CellNOptR 1.33.0 4.0.0
cellranger 1.1.0 4.0.0
cellscape 1.11.0 4.0.0
CellScore 1.7.0 4.0.0
CellTrails 1.5.0 4.0.0
cellTree 1.17.0 4.0.0
CEMiTool 1.11.1 4.0.0
ceRNAnetsim 0.99.24 4.0.0
CeTF 0.99.12 4.0.0
CexoR 1.25.0 4.0.0
CFAssay 1.21.1 4.0.0
cgdsr 1.3.0 4.0.0
CGEN 3.23.0 4.0.0
CGHbase 1.47.0 4.0.0
CGHcall 2.49.0 4.0.0
cghMCR 1.45.0 4.0.0
CGHnormaliter 1.41.0 4.0.0
CGHregions 1.45.0 4.0.0
ChAMP 2.17.1 4.0.0
ChAMPdata 2.19.0 4.0.0
changepoint 2.2.2 4.0.0
CHARGE 1.7.0 4.0.0
checkmate 1.9.4 4.0.0
ChemmineDrugs 1.0.2 4.0.0
ChemmineOB 1.25.0 4.0.0
ChemmineR 3.39.0 4.0.0
chemometrics 1.4.2 4.0.0
ChemometricsWithR 0.1.13 4.0.0
CHETAH 1.3.0 4.0.0
ChIC 1.7.0 4.0.0
ChIC.data 1.7.0 4.0.0
Chicago 1.15.0 4.0.0
chimera 1.29.0 4.0.0
chimeraviz 1.13.0 4.0.0
ChIPanalyser 1.9.1 4.0.0
ChIPComp 1.17.0 4.0.0
chipenrich 2.11.0 4.0.0
chipenrich.data 2.11.0 4.0.0
ChIPexoQual 1.11.0 4.0.0
ChIPexoQualExample 1.11.0 4.0.0
ChIPpeakAnno 3.21.2 4.0.0
ChIPQC 1.23.0 4.0.0
ChIPseeker 1.23.0 4.0.0
chipseq 1.37.0 4.0.0
ChIPseqR 1.41.0 4.0.0
ChIPSeqSpike 1.7.0 4.0.0
ChIPsim 1.41.0 4.0.0
ChIPXpress 1.31.0 4.0.0
ChIPXpressData 1.25.0 4.0.0
chopsticks 1.53.0 4.0.0
chromDraw 2.17.0 4.0.0
ChromHeatMap 1.41.0 4.0.0
chromPlot 1.15.0 4.0.0
chromstaR 1.13.0 4.0.0
chromstaRData 1.13.0 4.0.0
chromswitch 1.9.0 4.0.0
chromVAR 1.9.0 4.0.0
chron 2.3-54 4.0.0
CHRONOS 1.15.0 4.0.0
cicero 1.5.1 4.0.0
CINdex 1.15.0 4.0.0
circlize 0.4.8 4.0.0
circRNAprofiler 1.1.0 4.0.0
CircStats 0.2-6 4.0.0
cisPath 1.27.0 4.0.0
citr 0.3.2 4.0.0
Ckmeans.1d.dp 4.3.0 4.0.0
class 7.3-15 4.0.0
ClassifyR 2.7.0 4.0.0
classInt 0.4-2 4.0.0
cleanUpdTSeq 1.25.0 4.0.0
cleaver 1.25.1 4.0.0
cli 2.0.1 4.0.0
clinfun 1.0.15 4.0.0
clippda 1.37.0 4.0.0
clipper 1.27.0 4.0.0
clipr 0.7.0 4.0.0
cliqueMS 1.1.1 4.0.0
clisymbols 1.2.0 4.0.0
CLL 1.27.0 4.0.0
Clomial 1.23.0 4.0.0
Clonality 1.35.0 4.0.0
clonotypeR 1.25.0 4.0.0
clst 1.35.0 4.0.0
clstutils 1.35.0 4.0.0
clue 0.3-57 4.0.0
clues 0.6.2.2 4.0.0
CluMSID 1.3.0 4.0.0
CluMSIDdata 1.3.0 4.0.0
clustComp 1.15.0 4.0.0
cluster 2.1.0 4.0.0
clusterCrit 1.2.8 4.0.0
clusterExperiment 2.7.0 4.0.0
ClusterJudge 1.9.0 4.0.0
clusterProfiler 3.15.0 4.0.0
ClusterR 1.2.1 4.0.0
clusterSeq 1.11.0 4.0.0
ClusterSignificance 1.15.0 4.0.0
clusterSim 0.48-3 4.0.0
clusterStab 1.59.0 4.0.0
clusteval 0.1 4.0.0
clustvarsel 2.3.3 4.0.0
clv 0.3-2.1 4.0.0
clValid 0.6-6 4.0.0
CMA 1.45.0 4.0.0
cMAP 1.15.1 4.0.0
cMap2data 1.23.0 4.0.0
CMplot 3.5.1 4.0.0
cmprsk 2.2-9 4.0.0
cn.farms 1.35.0 4.0.0
cn.mops 1.33.0 4.0.0
CNAnorm 1.33.0 4.0.0
CNEr 1.23.0 4.0.0
CNORdt 1.29.0 4.0.0
CNORfeeder 1.27.0 4.0.0
CNORfuzzy 1.29.0 4.0.0
CNORode 1.29.0 4.0.0
CNTools 1.43.0 4.0.0
CNVfilteR 1.1.3 4.0.0
cnvGSA 1.31.0 4.0.0
cnvGSAdata 1.23.0 4.0.0
CNVPanelizer 1.19.0 4.0.0
CNVRanger 1.3.3 4.0.0
CNVrd2 1.25.0 4.0.0
CNVtools 1.81.0 4.0.0
cobindR 1.25.0 4.0.0
cobs 1.3-3 4.0.0
CoCiteStats 1.59.0 4.0.0
COCOA 2.1.0 4.0.0
coda 0.19-3 4.0.0
codelink 1.55.0 4.0.0
codetools 0.2-16 4.0.0
CODEX 1.19.0 4.0.0
coexnet 1.9.0 4.0.0
CoGAPS 3.7.0 4.0.0
cogena 1.21.0 4.0.0
coGPS 1.31.0 4.0.0
COHCAP 1.33.0 4.0.0
COHCAPanno 1.23.0 4.0.0
coin 1.3-1 4.0.0
cola 1.3.3 4.0.0
colonCA 1.29.0 4.0.0
colorRamps 2.3 4.0.0
colorspace 1.4-1 4.0.0
colortools 0.1.5 4.0.0
colourpicker 1.0 4.0.0
colr 0.1.900 4.0.0
combinat 0.0-8 4.0.0
coMET 1.19.0 4.0.0
commonmark 1.7 4.0.0
compartmap 1.5.0 4.0.0
COMPASS 1.25.1 4.0.0
compcodeR 1.23.1 4.0.0
compEpiTools 1.21.0 4.0.0
CompGO 1.23.0 4.0.0
compiler 4.0.0 4.0.0
ComplexHeatmap 2.3.0 4.0.0
compositions 1.40-3 4.0.0
CompQuadForm 1.4.3 4.0.0
CONFESS 1.15.0 4.0.0
CONFESSdata 1.15.0 4.0.0
config 0.3 4.0.0
consensus 1.5.0 4.0.0
ConsensusClusterPlus 1.51.0 4.0.0
consensusDE 1.5.1 4.0.0
consensusOV 1.9.1 4.0.0
consensusSeekeR 1.15.0 4.0.0
contiBAIT 1.15.0 4.0.0
contrast 0.21 4.0.0
conumee 1.21.0 4.0.0
convert 1.63.0 4.0.0
copa 1.55.0 4.0.0
copula 0.999-19.1 4.0.0
CopyhelpeR 1.19.0 4.0.0
copynumber 1.27.0 4.0.0
CopyNumberPlots 1.3.3 4.0.0
CopywriteR 2.19.0 4.0.0
coRdon 1.5.0 4.0.0
CoRegFlux 1.3.0 4.0.0
CoRegNet 1.25.0 4.0.0
Cormotif 1.33.0 4.0.0
CorMut 1.29.0 4.0.0
corpcor 1.6.9 4.0.0
CORREP 1.53.0 4.0.0
corrgram 1.13 4.0.0
corrplot 0.84 4.0.0
coseq 1.11.1 4.0.0
COSINE 2.1 4.0.0
COSMIC.67 1.23.0 4.0.0
cosmiq 1.21.0 4.0.0
COSNet 1.21.0 4.0.0
CountClust 1.15.0 4.0.0
countrycode 1.1.0 4.0.0
countsimQC 1.5.0 4.0.0
covEB 1.13.0 4.0.0
CoverageView 1.25.0 4.0.0
covr 3.4.0 4.0.0
covRNA 1.13.0 4.0.0
cowplot 1.0.0 4.0.0
CoxBoost 1.4 4.0.0
cp4p 0.3.6 4.0.0
CPE 1.5.1 4.0.0
CpGassoc 2.60 4.0.0
cplm 0.7-8 4.0.0
cpvSNP 1.19.0 4.0.0
cqn 1.33.0 4.0.0
crayon 1.3.4 4.0.0
CRImage 1.35.0 4.0.0
CRISPRseek 1.27.5 4.0.0
crisprseekplus 1.13.0 4.0.0
CrispRVariants 1.15.0 4.0.0
crlmm 1.45.0 4.0.0
CrossICC 1.1.0 4.0.0
crossmeta 1.13.0 4.0.0
crosstalk 1.0.0 4.0.0
crul 0.9.0 4.0.0
CSAR 1.39.0 4.0.0
csaw 1.21.2 4.0.0
csSAM 1.2.4 4.0.0
CSSP 1.25.0 4.0.0
CSSQ 0.99.5 4.0.0
ctc 1.61.0 4.0.0
CTDquerier 1.7.1 4.0.0
cTRAP 1.5.0 4.0.0
ctsGE 1.13.0 4.0.0
cubature 2.0.4 4.0.0
Cubist 0.2.3 4.0.0
cummeRbund 2.29.0 4.0.0
curatedBladderData 1.23.0 4.0.0
curatedMetagenomicData 1.17.0 4.0.0
curatedOvarianData 1.25.0 4.0.0
curatedTCGAData 1.9.0 4.0.0
curl 4.3 4.0.0
customProDB 1.27.0 4.0.0
cvAUC 1.1.0 4.0.0
CVE 1.13.1 4.0.0
cvTools 0.3.2 4.0.0
cycle 1.41.0 4.0.0
cyclocomp 1.1.0 4.0.0
cydar 1.11.1 4.0.0
CytoDx 1.7.0 4.0.0
cytofast 1.3.0 4.0.0
cytolib 1.9.9 4.0.0
CytoML 1.13.6 4.0.0
d3heatmap 0.6.1.2 4.0.0
d3Network 0.5.2.1 4.0.0
d3r 0.8.7 4.0.0
dada2 1.15.0 4.0.0
dagLogo 1.25.0 4.0.0
daMA 1.59.0 4.0.0
DaMiRseq 1.11.0 4.0.0
DAPAR 1.19.13 4.0.0
DAPARdata 1.17.0 4.0.0
DART 1.35.0 4.0.0
data.table 1.12.8 4.0.0
data.tree 0.7.11 4.0.0
datasets 4.0.0 4.0.0
DBChIP 1.31.0 4.0.0
DBI 1.1.0 4.0.0
dbplyr 1.4.2 4.0.0
dbscan 1.1-5 4.0.0
dcanr 1.3.0 4.0.0
dcGSA 1.15.0 4.0.0
DChIPRep 1.17.0 4.0.0
ddCt 1.43.0 4.0.0
ddPCRclust 1.7.0 4.0.0
DDRTree 0.1.5 4.0.0
dearseq 0.99.9 4.0.0
debCAM 1.5.0 4.0.0
debrowser 1.15.2 4.0.0
debugme 1.1.0 4.0.0
DECIPHER 2.15.0 4.0.0
deco 1.3.0 4.0.0
DEComplexDisease 1.7.0 4.0.0
decompTumor2Sig 2.3.0 4.0.0
DeconRNASeq 1.29.0 4.0.0
decontam 1.7.0 4.0.0
DEDS 1.61.1 4.0.0
DeepBlueR 1.13.0 4.0.0
deepSNV 1.33.0 4.0.0
DEFormats 1.15.0 4.0.0
DEGreport 1.23.0 4.0.0
DEGseq 1.41.0 4.0.0
Delaporte 7.0.2 4.0.0
DelayedArray 0.13.2 4.0.0
DelayedDataFrame 1.3.0 4.0.0
DelayedMatrixStats 1.9.0 4.0.0
deldir 0.1-23 4.0.0
deltaCaptureC 1.1.0 4.0.0
deltaGseg 1.27.0 4.0.0
DeMAND 1.17.0 4.0.0
DeMixT 1.3.1 4.0.0
dendextend 1.13.2 4.0.0
dendsort 0.3.3 4.0.0
densityClust 0.3 4.0.0
DEoptimR 1.0-8 4.0.0
DEP 1.9.0 4.0.0
DepecheR 1.3.1 4.0.0
depmixS4 1.4-1 4.0.0
DEqMS 1.5.1 4.0.0
derfinder 1.21.0 4.0.0
derfinderData 2.5.0 4.0.0
derfinderHelper 1.21.0 4.0.0
derfinderPlot 1.21.0 4.0.0
Deriv 4.0 4.0.0
desc 1.2.0 4.0.0
DEScan2 1.7.0 4.0.0
DescTools 0.99.31 4.0.0
DESeq 1.39.0 4.0.0
DESeq2 1.27.19 4.0.0
DEsingle 1.7.0 4.0.0
deSolve 1.27.1 4.0.0
destiny 3.1.0 4.0.0
DEsubs 1.13.0 4.0.0
devtools 2.2.1 4.0.0
DEWSeq 1.1.0 4.0.0
DEXSeq 1.33.0 4.0.0
dexus 1.27.0 4.0.0
DFP 1.45.0 4.0.0
diagram 1.6.4 4.0.0
DiagrammeR 1.0.1 4.0.0
DiagrammeRsvg 0.1 4.0.0
dichromat 2.0-0 4.0.0
DiffBind 2.15.0 4.0.0
diffcoexp 1.7.0 4.0.0
DiffCorr 0.4.1 4.0.0
diffcyt 1.7.1 4.0.0
diffGeneAnalysis 1.69.0 4.0.0
diffHic 1.19.0 4.0.0
DiffLogo 2.11.0 4.0.0
diffloop 1.15.0 4.0.0
diffloopdata 1.15.0 4.0.0
diffobj 0.2.3 4.0.0
diffr 0.1 4.0.0
diffusr 0.1.4 4.0.0
diffuStats 1.7.0 4.0.0
digest 0.6.23 4.0.0
diggit 1.19.0 4.0.0
diggitdata 1.19.0 4.0.0
diptest 0.75-7 4.0.0
Director 1.13.0 4.0.0
DirichletMultinomial 1.29.0 4.0.0
discordant 1.11.0 4.0.0
DiscoRhythm 1.3.1 4.0.0
discretecdAlgorithm 0.0.6 4.0.0
DiscriMiner 0.1-29 4.0.0
distillery 1.0-6 4.0.0
distr 2.8.0 4.0.0
distrEx 2.8.0 4.0.0
divergence 1.3.0 4.0.0
dks 1.33.0 4.0.0
DLBCL 1.27.0 4.0.0
dlstats 0.1.3 4.0.0
DMCFB 1.1.0 4.0.0
DMCHMM 1.9.0 4.0.0
dml 1.1.0 4.0.0
DMRcaller 1.19.0 4.0.0
DMRcate 2.1.7 4.0.0
DMRcatedata 2.5.0 4.0.0
DMRforPairs 1.23.0 4.0.0
DMRScan 1.9.3 4.0.0
dmrseq 1.7.3 4.0.0
dmt 0.8.20 4.0.0
DMwR 0.4.1 4.0.0
DNABarcodeCompatibility 1.3.0 4.0.0
DNABarcodes 1.17.0 4.0.0
DNAcopy 1.61.0 4.0.0
DNAshapeR 1.15.0 4.0.0
dnet 1.1.5 4.0.0
DO.db 2.9 4.0.0
doBy 4.6-3 4.0.0
docopt 0.6.1 4.0.0
doFuture 0.9.0 4.0.0
DominoEffect 1.7.0 4.0.0
doParallel 1.0.15 4.0.0
doppelgangR 1.15.0 4.0.0
doRNG 1.7.1 4.0.0
Doscheda 1.9.0 4.0.0
DOSE 3.13.1 4.0.0
doseR 1.3.0 4.0.0
doSNOW 1.0.18 4.0.0
dotCall64 1.0-0 4.0.0
downloader 0.4 4.0.0
dplR 1.7.0 4.0.0
dplyr 0.8.3 4.0.0
dqrng 0.2.1 4.0.0
drawProteins 1.7.0 4.0.0
DRaWR 1.0.1 4.0.0
drc 3.0-1 4.0.0
DRIMSeq 1.15.0 4.0.0
DriverNet 1.27.0 4.0.0
DropletUtils 1.7.1 4.0.0
drosgenome1.db 3.2.3 4.0.0
drosophila2probe 2.18.0 4.0.0
DrugVsDisease 2.29.0 4.0.0
DrugVsDiseasedata 1.23.0 4.0.0
DSS 2.35.0 4.0.0
DT 0.11 4.0.0
DTA 2.33.0 4.0.0
dtw 1.21-3 4.0.0
dualKS 1.47.0 4.0.0
dunn.test 1.3.5 4.0.0
DupChecker 1.25.0 4.0.0
dupRadar 1.17.0 4.0.0
dyebias 1.47.0 4.0.0
dyebiasexamples 1.27.0 4.0.0
dynamicTreeCut 1.63-1 4.0.0
DynDoc 1.65.0 4.0.0
e1071 1.7-3 4.0.0
earth 5.1.2 4.0.0
EasyqpcR 1.29.0 4.0.0
easyreporting 0.99.16 4.0.0
easyRNASeq 2.23.2 4.0.0
EBarrays 2.51.0 4.0.0
EBcoexpress 1.31.0 4.0.0
ebdbNet 1.2.5 4.0.0
EBImage 4.29.1 4.0.0
EBSEA 1.15.0 4.0.0
EBSeq 1.27.0 4.0.0
EBSeqHMM 1.21.0 4.0.0
echarts4r 0.2.3 4.0.0
ecolicdf 2.18.0 4.0.0
ecoliLeucine 1.27.0 4.0.0
ecolitk 1.59.0 4.0.0
ecp 3.1.2 4.0.0
EDASeq 2.21.0 4.0.0
EDDA 1.25.0 4.0.0
edge 2.19.0 4.0.0
edgeR 3.29.0 4.0.0
eegc 1.13.0 4.0.0
EGAD 1.15.0 4.0.0
egg 0.4.5 4.0.0
EGSEA 1.15.0 4.0.0
EGSEAdata 1.15.0 4.0.0
eiR 1.27.0 4.0.0
eisa 1.39.0 4.0.0
elasticnet 1.1.1 4.0.0
ELBOW 1.23.0 4.0.0
ellipse 0.4.1 4.0.0
ellipsis 0.3.0 4.0.0
ELMER 2.11.0 4.0.0
ELMER.data 2.11.0 4.0.0
emdbook 1.3.11 4.0.0
emdist 0.3-1 4.0.0
EMDomics 2.17.0 4.0.0
emmeans 1.4.3.01 4.0.0
emojifont 0.5.3 4.0.0
EmpiricalBrownsMethod 1.15.0 4.0.0
EMT 1.1 4.0.0
ENCODExplorer 2.13.1 4.0.0
ENCODExplorerData 0.99.5 4.0.0
energy 1.7-7 4.0.0
EnhancedVolcano 1.5.0 4.0.0
EnMCB 0.99.15 4.0.0
ENmix 1.23.0 4.0.0
EnrichedHeatmap 1.17.0 4.0.0
EnrichmentBrowser 2.17.4 4.0.0
enrichplot 1.7.0 4.0.0
enrichR 2.1 4.0.0
enrichTF 1.3.5 4.0.0
EnsDb.Hsapiens.v75 2.99.0 4.0.0
EnsDb.Hsapiens.v79 2.99.0 4.0.0
EnsDb.Hsapiens.v86 2.99.0 4.0.0
EnsDb.Mmusculus.v79 2.99.0 4.0.0
ensembldb 2.11.2 4.0.0
ensemblVEP 1.29.0 4.0.0
ensurer 1.1 4.0.0
entropy 1.2.1 4.0.0
EntropyExplorer 1.1 4.0.0
enviPat 2.4 4.0.0
ENVISIONQuery 1.35.0 4.0.0
EnvStats 2.3.1 4.0.0
Epi 2.40 4.0.0
EpiDISH 2.3.0 4.0.0
epigenomix 1.27.0 4.0.0
epihet 1.3.0 4.0.0
epiNEM 1.11.1 4.0.0
epivizr 2.17.0 4.0.0
epivizrChart 1.9.0 4.0.0
epivizrData 1.15.0 4.0.0
epivizrServer 1.15.0 4.0.0
epivizrStandalone 1.15.0 4.0.0
erccdashboard 1.21.0 4.0.0
erma 1.3.0 4.0.0
ERSSA 1.5.0 4.0.0
esATAC 1.9.3 4.0.0
esetVis 1.13.0 4.0.0
estimability 1.3 4.0.0
estrogen 1.33.0 4.0.0
etec16s 1.15.0 4.0.0
etm 1.0.5 4.0.0
etrunct 0.1 4.0.0
eudysbiome 1.17.0 4.0.0
eulerr 6.0.0 4.0.0
europepmc 0.3 4.0.0
eva 0.2.5 4.0.0
evaluate 0.14 4.0.0
evaluomeR 1.3.41 4.0.0
evd 2.3-3 4.0.0
EventPointer 2.5.0 4.0.0
evmix 2.12 4.0.0
exactRankTests 0.8-31 4.0.0
ExCluster 1.5.0 4.0.0
ExiMiR 2.29.0 4.0.0
exomeCopy 1.33.0 4.0.0
ExperimentHub 1.13.5 4.0.0
ExperimentHubData 1.13.0 4.0.0
expint 0.1-6 4.0.0
expm 0.999-4 4.0.0
ExPosition 2.8.23 4.0.0
ExpressionAtlas 1.15.0 4.0.0
ExpressionView 1.39.0 4.0.0
extraDistr 1.8.11 4.0.0
extrafont 0.17 4.0.0
extrafontdb 1.0 4.0.0
extRemes 2.0-11 4.0.0
faahKO 1.27.0 4.0.0
fabia 2.33.0 4.0.0
factDesign 1.63.0 4.0.0
factoextra 1.0.6 4.0.0
FactoMineR 2.0 4.0.0
FamAgg 1.15.0 4.0.0
fansi 0.4.1 4.0.0
FANTOM3and4CAGE 1.23.0 4.0.0
farms 1.39.0 4.0.0
farver 2.0.2 4.0.0
fastcluster 1.1.25 4.0.0
fastDummies 1.6.0 4.0.0
fastICA 1.2-2 4.0.0
fastLiquidAssociation 1.23.0 4.0.0
fastmap 1.0.1 4.0.0
fastmatch 1.1-0 4.0.0
FastqCleaner 1.5.0 4.0.0
fastseg 1.33.0 4.0.0
fBasics 3042.89 4.0.0
FCBF 1.5.0 4.0.0
fCCAC 1.13.0 4.0.0
fCI 1.17.0 4.0.0
fcoex 1.1.0 4.0.0
fcScan 1.1.0 4.0.0
fda 2.4.8 4.0.0
FDb.InfiniumMethylation.hg18 2.2.0 4.0.0
FDb.InfiniumMethylation.hg19 2.2.0 4.0.0
FDb.UCSC.tRNAs 1.0.1 4.0.0
fdrame 1.59.0 4.0.0
fdrtool 1.2.15 4.0.0
feather 0.3.5 4.0.0
feature 1.2.13 4.0.0
FELLA 1.7.0 4.0.0
FEM 3.15.0 4.0.0
ff 2.2-14 4.0.0
ffbase 0.12.7 4.0.0
FField 0.1.0 4.0.0
ffpe 1.31.0 4.0.0
ffpeExampleData 1.25.0 4.0.0
fftw 1.0-5 4.0.0
fftwtools 0.9-8 4.0.0
fGarch 3042.83.1 4.0.0
FGNet 3.21.0 4.0.0
fgsea 1.13.2 4.0.0
fibroEset 1.29.0 4.0.0
fields 10.0 4.0.0
filehash 2.4-2 4.0.0
filematrix 1.3 4.0.0
FindMyFriends 1.17.0 4.0.0
findpython 1.0.5 4.0.0
fingerprint 3.5.7 4.0.0
FIs 1.15.0 4.0.0
FISHalyseR 1.21.0 4.0.0
fishpond 1.3.4 4.0.0
fit.models 0.5-14 4.0.0
fitdistrplus 1.0-14 4.0.0
FitHiC 1.13.0 4.0.0
flagme 1.43.0 4.0.0
flare 1.6.0.2 4.0.0
flashClust 1.01-2 4.0.0
Fletcher2013a 1.23.0 4.0.0
Fletcher2013b 1.23.1 4.0.0
flexclust 1.4-0 4.0.0
flexdashboard 0.5.1.1 4.0.0
flexmix 2.3-15 4.0.0
flowAI 1.17.0 4.0.0
flowBeads 1.25.0 4.0.0
flowBin 1.23.0 4.0.0
flowcatchR 1.21.0 4.0.0
flowCHIC 1.21.0 4.0.0
flowCL 1.25.0 4.0.0
flowClean 1.25.0 4.0.0
flowClust 3.25.0 4.0.0
flowCore 1.53.7 4.0.0
flowCyBar 1.23.0 4.0.0
flowDensity 1.21.0 4.0.0
flowFitExampleData 1.23.0 4.0.0
flowFP 1.45.0 4.0.0
flowMap 1.25.0 4.0.0
flowMatch 1.23.0 4.0.0
flowMeans 1.47.0 4.0.0
flowMerge 2.35.0 4.0.0
flowPeaks 1.33.0 4.0.0
flowPloidy 1.13.0 4.0.0
flowPloidyData 1.13.0 4.0.0
flowPlots 1.35.0 4.0.0
FlowRepositoryR 1.19.0 4.0.0
FlowSOM 1.19.1 4.0.0
FlowSorted.Blood.450k 1.25.0 4.0.0
FlowSorted.Blood.EPIC 1.5.3 4.0.0
FlowSorted.CordBloodNorway.450k 1.13.0 4.0.0
flowSpecs 1.1.1 4.0.0
flowSpy 1.1.0 4.0.0
flowStats 3.45.2 4.0.0
flowTime 1.11.0 4.0.0
flowTrans 1.39.1 4.0.0
flowType 2.25.0 4.0.0
flowUtils 1.51.0 4.0.0
flowViz 1.51.0 4.0.0
flowVS 1.19.0 4.0.0
flowWorkspace 3.35.7 4.0.0
flowWorkspaceData 2.23.1 4.0.0
fmcsR 1.29.0 4.0.0
fmsb 0.7.0 4.0.0
FNN 1.1.3 4.0.0
focalCall 1.21.0 4.0.0
FoldGO 1.5.0 4.0.0
fontBitstreamVera 0.1.1 4.0.0
fontLiberation 0.1.0 4.0.0
fontquiver 0.2.1 4.0.0
forcats 0.4.0 4.0.0
foreach 1.4.7 4.0.0
forecast 8.10 4.0.0
foreign 0.8-74 4.0.0
forestplot 1.9 4.0.0
formatR 1.7 4.0.0
Formula 1.2-3 4.0.0
formula.tools 1.7.1 4.0.0
FourCSeq 1.21.0 4.0.0
fpc 2.2-3 4.0.0
fracdiff 1.5-0 4.0.0
freetypeharfbuzz 0.2.5 4.0.0
FRGEpistasis 1.23.0 4.0.0
frma 1.39.0 4.0.0
frmaExampleData 1.23.0 4.0.0
frmaTools 1.39.0 4.0.0
fs 1.3.1 4.0.0
FSelector 0.31 4.0.0
FunChIP 1.13.0 4.0.0
FunciSNP 1.31.0 4.0.0
FunciSNP.data 1.21.0 4.0.0
functional 0.6 4.0.0
funtooNorm 1.11.0 4.0.0
furrr 0.1.0 4.0.0
futile.logger 1.4.3 4.0.0
futile.options 1.0.1 4.0.0
future 1.15.1 4.0.0
future.apply 1.4.0 4.0.0
GA4GHclient 1.11.0 4.0.0
GA4GHshiny 1.9.0 4.0.0
gaga 2.33.0 4.0.0
gage 2.37.0 4.0.0
gageData 2.25.0 4.0.0
gaggle 1.55.0 4.0.0
gaia 2.31.0 4.0.0
gam 1.16.1 4.0.0
gamlss 5.1-5 4.0.0
gamlss.data 5.1-4 4.0.0
gamlss.dist 5.1-5 4.0.0
gap 1.2.1 4.0.0
GAPGOM 1.3.0 4.0.0
GAprediction 1.13.0 4.0.0
garfield 1.15.0 4.0.0
gargle 0.4.0 4.0.0
GARS 1.7.0 4.0.0
GateFinder 1.7.0 4.0.0
gatingMLData 2.27.0 4.0.0
gbm 2.1.5 4.0.0
gbRd 0.4-11 4.0.0
gcapc 1.11.0 4.0.0
gcatest 1.17.0 4.0.0
gclus 1.3.2 4.0.0
gCMAP 1.31.0 4.0.0
gCMAPWeb 1.27.0 4.0.0
gCrisprTools 1.15.1 4.0.0
gcrma 2.59.0 4.0.0
gcspikelite 1.25.0 4.0.0
GCSscore 1.1.0 4.0.0
gdata 2.18.0 4.0.0
GDCRNATools 1.7.0 4.0.0
GDSArray 1.7.0 4.0.0
gdsfmt 1.23.5 4.0.0
gdtools 0.2.1 3.6.0
geecc 1.21.0 4.0.0
geeM 0.10.1 4.0.0
geepack 1.3-1 4.0.0
GEM 1.13.0 4.0.0
gemini 1.1.0 4.0.0
genalg 0.2.0 4.0.0
genArise 1.63.0 4.0.0
genbankr 1.15.0 4.0.0
GeneAccord 1.5.0 4.0.0
GeneAnswers 2.29.0 4.0.0
geneAttribution 1.13.0 4.0.0
GeneBreak 1.17.0 4.0.0
geneClassifiers 1.11.0 4.0.0
GeneExpressionSignature 1.33.0 4.0.0
genefilter 1.69.0 4.0.0
genefu 2.19.0 4.0.0
GeneGA 1.37.0 4.0.0
GeneGeneInteR 1.13.0 4.0.0
geneLenDataBase 1.23.0 4.0.0
GeneMeta 1.59.0 4.0.0
GeneNet 1.2.13 4.0.0
GeneNetworkBuilder 1.29.0 4.0.0
GeneOverlap 1.23.0 4.0.0
geneplast 1.13.2 4.0.0
geneplast.data.string.v91 0.99.6 4.0.0
geneplotter 1.65.0 4.0.0
geneRecommender 1.59.0 4.0.0
GeneRegionScan 1.43.0 4.0.0
generics 0.0.2 4.0.0
geneRxCluster 1.23.0 4.0.0
GeneSelectMMD 2.31.0 4.0.0
GENESIS 2.17.0 4.0.0
GeneStructureTools 1.7.0 4.0.0
geNetClassifier 1.27.1 4.0.0
genetics 1.3.8.1.2 4.0.0
GeneticsDesign 1.55.0 4.0.0
GeneticsPed 1.49.0 4.0.0
geneXtendeR 1.13.0 4.0.0
GENIE3 1.9.0 4.0.0
GenKern 1.2-60 4.0.0
GENLIB 1.0.6 4.0.0
genoCN 1.39.0 4.0.0
GenoGAM 2.5.0 4.0.0
genomation 1.19.0 4.0.0
genomationData 1.19.0 4.0.0
GenomeInfoDb 1.23.6 4.0.0
GenomeInfoDbData 1.2.2 4.0.0
genomeIntervals 1.43.0 4.0.0
genomes 3.17.0 4.0.0
genomewidesnp5Crlmm 1.0.6 4.0.0
genomewidesnp6Crlmm 1.0.7 4.0.0
GenomicAlignments 1.23.1 4.0.0
GenomicDataCommons 1.11.0 4.0.0
GenomicFeatures 1.39.2 4.0.0
GenomicFiles 1.23.0 4.0.0
GenomicInteractions 1.21.1 4.0.0
GenomicOZone 1.1.0 4.0.0
GenomicRanges 1.39.1 4.0.0
GenomicScores 1.11.3 4.0.0
GenomicState 0.99.9 4.0.0
GenomicTuples 1.21.0 4.0.0
genoset 1.43.0 4.0.0
genotypeeval 1.19.0 4.0.0
genphen 1.15.0 4.0.0
GenRank 1.15.0 4.0.0
GenSA 1.1.7 4.0.0
GenVisR 1.19.2 4.0.0
GeoDE 1.0 4.0.0
GEOmap 2.4-4 4.0.0
GEOmetadb 1.49.0 4.0.0
geometry 0.4.5 4.0.0
geomnet 0.2.0 4.0.0
GEOquery 2.55.1 4.0.0
GEOsubmission 1.39.0 4.0.0
gep2pep 1.7.0 4.0.0
gespeR 1.19.0 4.0.0
getopt 1.20.3 4.0.0
GetoptLong 0.1.8 4.0.0
GeuvadisTranscriptExpr 1.15.0 4.0.0
geuvPack 1.19.0 4.0.0
geuvStore2 1.17.0 4.0.0
GEWIST 1.31.0 4.0.0
GFA 1.0.3 4.0.0
ggalluvial 0.11.1 4.0.0
GGally 1.4.0 4.0.0
GGBase 3.49.0 4.0.0
ggbeeswarm 0.6.0 4.0.0
ggbio 1.35.0 4.0.0
ggcorrplot 0.1.3 4.0.0
ggcyto 1.15.0 4.0.0
GGdata 1.25.0 4.0.0
ggdendro 0.1-20 4.0.0
ggExtra 0.9 4.0.0
ggforce 0.3.1 4.0.0
ggformula 0.9.2 4.0.0
ggfortify 0.4.8 4.0.0
gghalves 0.0.1 4.0.0
ggimage 0.2.7 4.0.0
ggiraph 0.7.0 4.0.0
ggm 2.3 4.0.0
ggmcmc 1.3 4.0.0
ggnetwork 0.5.1 4.0.0
ggplot.multistats 1.0.0 4.0.0
ggplot2 3.2.1 4.0.0
ggplotify 0.0.4 4.0.0
ggpmisc 0.3.3 4.0.0
ggpubr 0.2.4 4.0.0
ggraph 2.0.0 4.0.0
ggrepel 0.8.1 4.0.0
ggridges 0.5.2 4.0.0
ggsci 2.9 4.0.0
ggseqlogo 0.1 4.0.0
ggsignif 0.6.0 4.0.0
ggstance 0.3.3 4.0.0
ggthemes 4.2.0 4.0.0
GGtools 5.23.0 4.0.0
ggtree 2.1.1 4.0.0
ggupset 0.1.0 4.0.0
ggvis 0.4.5 4.0.0
gh 1.0.1 4.0.0
GIGSEA 1.5.0 4.0.0
girafe 1.39.0 4.0.0
GISPA 1.11.0 4.0.0
gistr 0.5.0 4.0.0
git2r 0.26.1 4.0.0
GLAD 2.51.0 4.0.0
GladiaTOX 1.3.0 4.0.0
glasso 1.11 4.0.0
gld 2.6.2 4.0.0
Glimma 1.15.1 4.0.0
glm2 1.2.1 4.0.0
glmmTMB 0.2.3 4.0.0
glmnet 3.0-2 4.0.0
glmSparseNet 1.5.0 4.0.0
GlobalAncova 4.5.0 4.0.0
GlobalOptions 0.1.1 4.0.0
globals 0.12.5 4.0.0
globalSeq 1.15.0 4.0.0
globaltest 5.41.0 4.0.0
glpkAPI 1.3.1 3.6.0
glue 1.3.1 4.0.0
gmapR 1.29.0 4.0.0
GmicR 1.1.0 4.0.0
gmm 1.6-4 4.0.0
gmodels 2.18.1 4.0.0
gmp 0.5-13.5 4.0.0
GMRP 1.15.0 4.0.0
GNET2 1.3.6 4.0.0
gnm 1.1-0 4.0.0
GO.db 3.10.0 4.0.0
GOexpress 1.21.0 4.0.0
GOfuncR 1.7.0 4.0.0
GOFunction 1.35.0 4.0.0
golubEsets 1.29.0 4.0.0
googleAuthR 1.1.1 4.0.0
googledrive 1.0.0 4.0.0
googleVis 0.6.4 4.0.0
GOpro 1.13.0 4.0.0
goProfiles 1.49.0 4.0.0
goric 1.1-0 4.0.0
GOSemSim 2.13.0 4.0.0
goseq 1.39.0 4.0.0
GOSim 1.25.0 4.0.0
goSTAG 1.11.0 4.0.0
GOstats 2.53.0 4.0.0
GOsummaries 2.23.0 4.0.0
GOTHiC 1.23.0 4.0.0
goTools 1.61.0 4.0.0
gower 0.2.1 4.0.0
gpart 1.5.0 4.0.0
GPfit 1.0-8 4.0.0
gplots 3.0.1.2 4.0.0
gpls 1.59.0 4.0.0
gprege 1.31.0 4.0.0
gProfileR 0.7.0 4.0.0
gprofiler2 0.1.8 4.0.0
gptk 1.08 4.0.0
gpuMagic 1.3.0 4.0.0
gQTLBase 1.19.0 4.0.0
gQTLstats 1.19.0 4.0.0
gRain 1.3-2 4.0.0
gramm4R 1.1.0 4.0.0
graper 1.3.2 4.0.0
graph 1.65.0 4.0.0
GraphAlignment 1.51.0 4.0.0
GraphAT 1.59.0 4.0.0
graphics 4.0.0 4.0.0
graphite 1.33.0 4.0.0
graphlayouts 0.5.0 4.0.0
GraphPAC 1.29.0 4.0.0
grasp2db 1.1.0 4.0.0
gRbase 1.8-5.1 4.0.0
grDevices 4.0.0 4.0.0
GRENITS 1.39.0 4.0.0
GreyListChIP 1.19.0 4.0.0
grid 4.0.0 4.0.0
gridBase 0.4-7 4.0.0
gridExtra 2.3 4.0.0
gridGraphics 0.4-1 4.0.0
gridSVG 1.7-1 4.0.0
grImport 0.9-3 4.0.0
grImport2 0.2-0 4.0.0
GRmetrics 1.13.0 4.0.0
grndata 1.19.0 4.0.0
groHMM 1.21.0 4.0.0
grr 0.9.5 4.0.0
GRridge 1.11.0 4.0.0
GSA 1.03.1 4.0.0
GSALightning 1.15.0 4.0.0
GSAR 1.21.0 4.0.0
GSBenchMark 1.7.0 4.0.0
GSCA 2.17.0 4.0.0
gscreend 1.1.0 4.0.0
GSE62944 1.15.0 4.0.0
GSEABase 1.49.0 4.0.0
GSEABenchmarkeR 1.7.2 4.0.0
GSEAlm 1.47.0 4.0.0
gsean 1.7.0 4.0.0
gsl 1.9-10.3 3.6.0
gsmoothr 0.1.7 4.0.0
GSReg 1.21.0 4.0.0
GSRI 2.35.0 4.0.0
gss 2.1-10 4.0.0
gsubfn 0.7 4.0.0
GSVA 1.35.4 4.0.0
GSVAdata 1.23.0 4.0.0
gtable 0.3.0 4.0.0
gtools 3.8.1 4.0.0
gtrellis 1.19.0 4.0.0
GUIDEseq 1.17.1 4.0.0
Guitar 2.3.0 4.0.0
Gviz 1.31.0 4.0.0
gwascat 2.19.1 4.0.0
GWASdata 1.25.0 4.0.0
GWASExactHW 1.01 4.0.0
GWASTools 1.33.0 4.0.0
gwasurvivr 1.5.0 4.0.0
gWidgets 0.0-54.1 4.0.0
gWidgets2 1.0-8 4.0.0
gWidgets2RGtk2 1.0-7 4.0.0
gWidgetsRGtk2 0.0-86 4.0.0
h5vc 2.21.0 4.0.0
h5vcData 2.7.0 4.0.0
hapFabia 1.29.0 4.0.0
haplo.stats 1.7.9 4.0.0
hapmap100kxba 1.29.0 4.0.0
hapmapsnp5 1.29.0 4.0.0
hapmapsnp6 1.29.0 4.0.0
HardyWeinberg 1.6.3 4.0.0
Harman 1.15.0 4.0.0
HarmanData 1.15.0 4.0.0
HarmonizedTCGAData 1.9.0 4.0.0
Harshlight 1.59.0 4.0.0
hash 2.2.6.1 4.0.0
hashmap 0.2.2 4.0.0
haven 2.2.0 4.0.0
HCABrowser 1.3.0 4.0.0
HCAExplorer 1.1.0 4.0.0
HDCytoData 1.7.5 4.0.0
HDF5Array 1.15.2 4.0.0
HDTD 1.21.0 4.0.0
healthyFlowData 1.25.0 4.0.0
heatmap.plus 1.3 4.0.0
heatmap3 1.1.6 4.0.0
heatmaply 1.0.0 4.0.0
heatmaps 1.11.0 4.0.0
Heatplus 2.33.2 4.0.0
HEEBOdata 1.25.0 4.0.0
HelloRanges 1.13.0 4.0.0
HelloRangesData 1.13.0 4.0.0
HELP 1.45.0 4.0.0
HEM 1.59.0 4.0.0
hexbin 1.28.0 4.0.0
hgfocus.db 3.2.3 4.0.0
hgfocuscdf 2.18.0 4.0.0
hgfocusprobe 2.18.0 4.0.0
hgu133a.db 3.2.3 4.0.0
hgu133a2.db 3.2.3 4.0.0
hgu133acdf 2.18.0 4.0.0
hgu133afrmavecs 1.5.0 4.0.0
hgu133aprobe 2.18.0 4.0.0
hgu133atagcdf 2.18.0 4.0.0
hgu133atagprobe 2.18.0 4.0.0
hgu133plus2.db 3.2.3 4.0.0
hgu133plus2cdf 2.18.0 4.0.0
hgu133plus2CellScore 1.7.0 4.0.0
hgu133plus2probe 2.18.0 4.0.0
hgu95a.db 3.2.3 4.0.0
hgu95acdf 2.18.0 4.0.0
hgu95av2 2.2.0 4.0.0
hgu95av2.db 3.2.3 4.0.0
hgu95av2cdf 2.18.0 4.0.0
hgu95av2probe 2.18.0 4.0.0
hgug4112a.db 3.2.3 4.0.0
HH 3.1-39 4.0.0
hiAnnotator 1.21.0 4.0.0
HIBAG 1.23.0 4.0.0
HiCBricks 1.5.0 4.0.0
HiCcompare 1.9.0 4.0.0
HiCDataHumanIMR90 1.7.0 4.0.0
HiCDataLymphoblast 1.23.0 4.0.0
hicrep 1.11.0 4.0.0
HiddenMarkov 1.8-11 4.0.0
hierGWAS 1.17.0 4.0.0
hierinf 1.5.0 4.0.0
highcharter 0.7.0 4.0.0
highlight 0.5.0 4.0.0
highr 0.8 4.0.0
HilbertCurve 1.17.0 4.0.0
HilbertVis 1.45.0 4.0.0
HiLDA 1.1.0 4.0.0
hipathia 2.3.0 4.0.0
hiReadsProcessor 1.23.0 4.0.0
HIREewas 1.5.0 4.0.0
HiTC 1.31.0 4.0.0
HiveR 0.3.42 4.0.0
hmdbQuery 1.7.0 4.0.0
Hmisc 4.3-0 4.0.0
HMMcopy 1.29.0 4.0.0
hms 0.5.3 4.0.0
hom.Dm.inp.db 3.1.3 4.0.0
hom.Hs.inp.db 3.1.3 4.0.0
hom.Mm.inp.db 3.1.3 4.0.0
hom.Rn.inp.db 3.1.3 4.0.0
hom.Sc.inp.db 3.1.3 4.0.0
Homo.sapiens 1.3.1 4.0.0
hopach 2.47.0 4.0.0
howmany 0.3-1 4.0.0
HPAanalyze 1.5.1 4.0.0
hpar 1.29.0 4.0.0
HSMMSingleCell 1.7.0 4.0.0
htmlTable 1.13.3 4.0.0
htmltools 0.4.0 4.0.0
HTMLUtils 0.1.7 4.0.0
htmlwidgets 1.5.1 4.0.0
HTqPCR 1.41.0 4.0.0
HTSCluster 2.0.8 4.0.0
HTSFilter 1.27.1 4.0.0
httpcode 0.2.0 4.0.0
httptest 3.2.2 4.0.0
httpuv 1.5.2 4.0.0
httr 1.4.1 4.0.0
hu6800.db 3.2.3 4.0.0
huge 1.3.4 4.0.0
hugene10sttranscriptcluster.db 8.7.0 4.0.0
human.db0 3.10.0 4.0.0
human370v1cCrlmm 1.0.2 4.0.0
human610quadv1bCrlmm 1.0.3 4.0.0
HumanAffyData 1.13.0 4.0.0
humanCHRLOC 2.1.6 4.0.0
humanStemCell 0.27.0 4.0.0
HumanTranscriptomeCompendium 1.3.0 4.0.0
hunspell 3.0 4.0.0
hwriter 1.3.2 4.0.0
HybridMTest 1.31.0 4.0.0
hypeR 1.3.0 4.0.0
hyperdraw 1.39.0 4.0.0
hypergea 1.3.6 4.0.0
hypergraph 1.59.0 4.0.0
iASeq 1.31.0 4.0.0
iasva 1.5.0 4.0.0
iBBiG 1.31.0 4.0.0
ibh 1.35.0 4.0.0
ic.infer 1.1-6 4.0.0
iC10 1.5 4.0.0
iC10TrainingData 1.3.1 4.0.0
ica 1.0-2 4.0.0
iCARE 1.15.0 4.0.0
Icens 1.59.0 4.0.0
icetea 1.5.0 4.0.0
iCheck 1.17.0 4.0.0
iChip 1.41.0 4.0.0
iCluster 2.1.0 4.0.0
iClusterPlus 1.23.0 4.0.0
iCNV 1.7.0 4.0.0
iCOBRA 1.15.0 4.0.0
ICS 1.3-1 4.0.0
ICSNP 1.1-1 4.0.0
ideal 1.11.1 4.0.0
IdeoViz 1.23.0 4.0.0
idiogram 1.63.0 4.0.0
IdMappingAnalysis 1.31.1 4.0.0
IdMappingRetrieval 1.35.0 4.0.0
IDPmisc 1.1.19 4.0.0
idr 1.2 4.0.0
idr2d 1.1.2 4.0.0
ifultools 2.0-5 4.0.0
iGC 1.17.0 4.0.0
IgGeneUsage 1.1.1 4.0.0
igraph 1.2.4.2 4.0.0
igraphdata 1.0.1 4.0.0
igvR 1.7.8 4.0.0
iheatmapr 0.4.12 4.0.0
IHW 1.15.0 4.0.0
Illumina450ProbeVariants.db 1.23.0 4.0.0
IlluminaDataTestFiles 1.25.0 4.0.0
IlluminaHumanMethylation450kanno.ilmn12.hg19 0.6.0 4.0.0
IlluminaHumanMethylation450kmanifest 0.4.0 4.0.0
IlluminaHumanMethylationEPICanno.ilm10b2.hg19 0.6.0 4.0.0
IlluminaHumanMethylationEPICanno.ilm10b4.hg19 0.6.0 4.0.0
IlluminaHumanMethylationEPICmanifest 0.3.0 4.0.0
illuminaHumanv1.db 1.26.0 4.0.0
illuminaHumanv3.db 1.26.0 4.0.0
illuminaHumanv4.db 1.26.0 4.0.0
illuminaio 0.29.0 4.0.0
imageHTS 1.37.0 4.0.0
IMAS 1.11.0 4.0.0
Imetagene 1.17.0 4.0.0
IMMAN 1.7.0 4.0.0
ImmuneSpaceR 1.15.1 4.0.0
immunoClust 1.19.0 4.0.0
imp4p 0.8 4.0.0
IMPCdata 1.23.0 4.0.0
import 1.1.0 4.0.0
ImpulseDE 1.13.0 4.0.0
ImpulseDE2 1.11.0 4.0.0
impute 1.61.0 4.0.0
imputeLCMD 2.0 4.0.0
inaparc 0.2.0 4.0.0
INDEED 2.1.0 4.0.0
ineq 0.2-13 4.0.0
infercnv 1.3.2 4.0.0
influenceR 0.1.0 4.0.0
infotheo 1.2.0 4.0.0
ini 0.3.1 4.0.0
inline 0.3.15 4.0.0
InPAS 1.19.0 4.0.0
INPower 1.23.0 4.0.0
insight 0.8.0 4.0.0
INSPEcT 1.17.8 4.0.0
InTAD 1.7.0 4.0.0
intansv 1.27.0 4.0.0
InteractionSet 1.15.1 4.0.0
interactiveDisplay 1.25.0 4.0.0
interactiveDisplayBase 1.25.0 4.0.0
IntEREst 1.11.2 4.0.0
intergraph 2.0-2 4.0.0
InterMineR 1.9.2 4.0.0
intervals 0.15.1 4.0.0
IntramiRExploreR 1.9.0 4.0.0
inum 1.0-1 4.0.0
InvariantCausalPrediction 0.8 4.0.0
inveRsion 1.35.0 4.0.0
investr 1.4.0 4.0.0
IONiseR 2.11.0 4.0.0
iPAC 1.31.0 4.0.0
ipdDb 1.5.0 4.0.0
IPO 1.13.0 4.0.0
IPPD 1.35.0 4.0.0
ipred 0.9-9 4.0.0
IRanges 2.21.3 4.0.0
irlba 2.3.3 4.0.0
irr 0.84.1 4.0.0
isa2 0.3.5 4.0.0
iSEE 1.7.2 4.0.0
iSeq 1.39.0 4.0.0
ismev 1.42 4.0.0
Iso 0.0-18 4.0.0
isobar 1.33.0 4.0.0
IsoCorrectoR 1.5.1 4.0.0
IsoCorrectoRGUI 1.3.0 4.0.0
IsoformSwitchAnalyzeR 1.9.0 4.0.0
IsoGene 1.0-24 4.0.0
IsoGeneGUI 2.23.0 4.0.0
ISoLDE 1.15.0 4.0.0
isomiRs 1.15.0 4.0.0
isva 1.9 4.0.0
ITALICS 2.47.0 4.0.0
ITALICSData 2.25.0 4.0.0
iterativeBMA 1.45.0 4.0.0
iterativeBMAsurv 1.45.0 4.0.0
iterators 1.0.12 4.0.0
iterClust 1.9.0 4.0.0
iteremoval 1.7.0 4.0.0
itertools 0.1-3 4.0.0
IVAS 2.7.0 4.0.0
ivygapSE 1.9.0 4.0.0
IWTomics 1.11.0 4.0.0
jackstraw 1.3 4.0.0
JADE 2.0-2 4.0.0
JASPAR2014 1.23.0 4.0.0
JASPAR2016 1.15.0 4.0.0
JASPAR2018 1.1.1 4.0.0
JctSeqData 1.17.0 4.0.0
joda 1.35.0 4.0.0
jomo 2.6-10 4.0.0
jpeg 0.1-8.1 4.0.0
jsonlite 1.6 4.0.0
JunctionSeq 1.17.0 4.0.0
kableExtra 1.1.0 4.0.0
kappalab 0.4-7 4.0.0
karyoploteR 1.13.4 4.0.0
KCsmart 2.45.0 4.0.0
kebabs 1.21.0 4.0.0
KEGG.db 3.2.4 4.0.0
KEGGandMetacoreDzPathwaysGEO 1.7.0 4.0.0
KEGGdzPathwaysGEO 1.25.0 4.0.0
KEGGgraph 1.47.0 4.0.0
KEGGlincs 1.13.0 4.0.0
keggorthology 2.39.0 4.0.0
KEGGprofile 1.29.0 4.0.0
KEGGREST 1.27.1 4.0.0
keras 2.2.5.0 4.0.0
kernlab 0.9-29 4.0.0
KernSmooth 2.23-16 4.0.0
kimod 1.15.0 4.0.0
kinship2 1.8.4 4.0.0
KinSwingR 1.5.0 4.0.0
kissDE 1.7.0 4.0.0
kknn 1.3.1 4.0.0
klaR 0.6-14 4.0.0
km.ci 0.5-2 4.0.0
KMsurv 0.1-5 4.0.0
knitcitations 1.0.10 4.0.0
knitr 1.26 4.0.0
knitrBootstrap 1.0.2 4.0.0
knn.covertree 1.0 4.0.0
KnowSeq 1.1.19 4.0.0
KOdata 1.13.0 4.0.0
kohonen 3.0.10 4.0.0
kpeaks 0.1.0 4.0.0
kpmt 0.1.0 4.0.0
ks 1.11.6 4.0.0
kSamples 1.2-9 4.0.0
kza 4.1.0 4.0.0
labeling 0.3 4.0.0
labelled 2.2.1 4.0.0
laeken 0.5.0 4.0.0
lambda.r 1.2.4 4.0.0
LaplacesDemon 16.1.1 4.0.0
lapmix 1.53.0 4.0.0
lars 1.2 4.0.0
lasso2 1.2-20 4.0.0
lassopv 0.2.0 4.0.0
lassoshooting 0.1.5-1 4.0.0
later 1.0.0 4.0.0
latex2exp 0.4.0 4.0.0
lattice 0.20-38 4.0.0
latticeExtra 0.6-29 4.0.0
lava 1.6.6 4.0.0
lavaan 0.6-5 4.0.0
lazyeval 0.2.2 4.0.0
LBE 1.55.0 4.0.0
ldblock 1.17.1 4.0.0
LEA 2.9.0 4.0.0
leaps 3.0 4.0.0
LearnBayes 2.15.1 4.0.0
learnr 0.10.0 4.0.0
LedPred 1.21.0 4.0.0
leiden 0.3.1 4.0.0
les 1.37.0 4.0.0
leukemiasEset 1.23.0 4.0.0
levi 1.5.0 4.0.0
lfa 1.17.0 4.0.0
lfda 1.1.3 4.0.0
lhs 1.0.1 4.0.0
libcoin 1.0-5 4.0.0
LiblineaR 2.10-8 4.0.0
lifecycle 0.1.0 4.0.0
LIM 1.4.6 4.0.0
limma 3.43.0 4.0.0
limmaGUI 1.63.0 4.0.0
limSolve 1.5.6 4.0.0
LINC 1.15.0 4.0.0
LineagePulse 1.7.0 4.0.0
linkcomm 1.0-11 4.0.0
LinkHD 1.1.0 4.0.0
Linnorm 2.11.0 4.0.0
linprog 0.9-2 4.0.0
lintr 2.0.0 4.0.0
lionessR 1.1.0 4.0.0
lipidr 2.1.2 4.0.0
LiquidAssociation 1.41.0 4.0.0
listarrays 0.3.0 4.0.0
listenv 0.8.0 4.0.0
listviewer 3.0.0 4.0.0
lmdme 1.29.0 4.0.0
lme4 1.1-21 4.0.0
lmerTest 3.1-1 4.0.0
LMGene 2.43.0 4.0.0
lmom 2.8 4.0.0
Lmoments 1.3-1 4.0.0
lmtest 0.9-37 4.0.0
LOBSTAHS 1.13.0 4.0.0
locfdr 1.1-8 4.0.0
locfit 1.5-9.1 4.0.0
loci2path 1.7.0 4.0.0
locpol 0.7-0 4.0.0
log4r 0.3.1 4.0.0
logging 0.10-108 4.0.0
logicFS 2.7.0 4.0.0
LogicReg 1.6.2 4.0.0
logistf 1.23 4.0.0
logitT 1.45.0 4.0.0
Logolas 1.11.0 4.0.0
logspline 2.1.15 4.0.0
lokern 1.1-8 4.0.0
lol 1.35.0 4.0.0
LOLA 1.17.0 4.0.0
longitudinal 1.1.12 4.0.0
longitudinalData 2.4.1 4.0.0
loo 2.2.0 4.0.0
LoomExperiment 1.5.0 4.0.0
loose.rock 1.0.16 4.0.0
LowMACA 1.17.0 4.0.0
LowMACAAnnotation 0.99.3 4.0.0
LPE 1.61.0 4.0.0
LPEadj 1.47.0 4.0.0
lpNet 2.19.0 4.0.0
lpSolve 5.6.13.3 4.0.0
lpSolveAPI 5.5.2.0-17.6 4.0.0
lpsymphony 1.15.1 4.0.0
LRBase.Hsa.eg.db 1.2.0 4.0.0
LRBase.Mmu.eg.db 1.2.0 4.0.0
LRBaseDbi 1.5.0 4.0.0
lsa 0.73.1 4.0.0
LSD 4.0-0 4.0.0
lsei 1.2-0 4.0.0
lsr 0.5 4.0.0
lubridate 1.7.4 4.0.0
lumi 2.39.0 4.0.0
lumiBarnes 1.27.0 4.0.0
lumiHumanAll.db 1.22.0 4.0.0
lumiHumanIDMapping 1.10.1 4.0.0
LungCancerACvsSCCGEO 1.23.0 4.0.0
LungCancerLines 0.25.0 4.0.0
lungExpression 0.25.0 4.0.0
LVSmiRNA 1.37.1 4.0.0
lydata 1.13.0 4.0.0
LymphoSeq 1.15.0 4.0.0
LymphoSeqDB 0.99.2 4.0.0
M3C 1.9.3 4.0.0
M3DExampleData 1.13.0 4.0.0
M3Drop 1.13.0 4.0.0
maanova 1.57.0 4.0.0
Maaslin2 1.1.0 4.0.0
macat 1.61.0 4.0.0
maCorrPlot 1.57.1 4.0.0
MACPET 1.7.0 4.0.0
macrophage 1.3.1 4.0.0
MACSQuantifyR 1.1.1 4.0.0
made4 1.61.0 4.0.0
MADSEQ 1.13.0 4.0.0
MafDb.1Kgenomes.phase1.hs37d5 3.10.0 4.0.0
MafDb.1Kgenomes.phase3.GRCh38 3.10.0 4.0.0
MafDb.1Kgenomes.phase3.hs37d5 3.10.0 4.0.0
MafDb.ExAC.r1.0.hs37d5 3.10.0 4.0.0
MafDb.gnomADex.r2.1.hs37d5 3.10.0 4.0.0
maftools 2.3.0 4.0.0
MAGeCKFlute 1.7.0 4.0.0
magic 1.5-9 4.0.0
magicaxis 2.0.10 4.0.0
magick 2.2 3.6.0
magrittr 1.5 4.0.0
maigesPack 1.51.0 4.0.0
MAIT 1.21.0 4.0.0
makecdfenv 1.63.0 4.0.0
MALDIquant 1.19.3 4.0.0
manipulateWidget 0.10.0 4.0.0
MANOR 1.59.1 4.0.0
manta 1.33.1 4.0.0
MantelCorr 1.57.0 4.0.0
mAPKL 1.17.0 4.0.0
mAPKLData 1.19.0 4.0.0
mapplots 1.5.1 4.0.0
mapproj 1.2.6 4.0.0
maPredictDSC 1.25.0 4.0.0
maps 3.3.0 4.0.0
mapscape 1.11.0 4.0.0
maptools 0.9-9 4.0.0
maptpx 1.9-2 4.0.0
maptree 1.4-7 4.0.0
maqcExpression4plex 1.31.0 4.0.0
MAQCsubset 1.25.0 4.0.0
MAQCsubsetAFX 1.25.0 4.0.0
markdown 1.1 4.0.0
marray 1.65.0 4.0.0
martini 1.7.0 4.0.0
maser 1.5.0 4.0.0
maSigPro 1.59.0 4.0.0
maskBAD 1.31.0 4.0.0
MASS 7.3-51.5 4.0.0
MassArray 1.39.0 4.0.0
massiR 1.23.0 4.0.0
MassSpecWavelet 1.53.0 4.0.0
MAST 1.13.3 4.0.0
matchBox 1.29.0 4.0.0
Matching 4.9-6 4.0.0
matlab 1.0.2 4.0.0
Matrix 1.2-18 4.0.0
Matrix.utils 0.9.7 4.0.0
matrixcalc 1.0-3 4.0.0
MatrixModels 0.4-1 4.0.0
MatrixRider 1.19.0 4.0.0
matrixStats 0.55.0 4.0.0
matrixTests 0.1.8 4.0.0
matter 1.13.1 4.0.0
MaxContrastProjection 1.11.0 4.0.0
maxLik 1.3-8 4.0.0
maxstat 0.7-25 4.0.0
MBA 0.0-9 4.0.0
MBAmethyl 1.21.0 4.0.0
MBASED 1.21.0 4.0.0
MBCB 1.41.0 4.0.0
mbkmeans 1.3.1 4.0.0
mboost 2.9-1 4.0.0
mBPCR 1.41.1 4.0.0
MBQN 1.1.5 4.0.0
MBttest 1.15.0 4.0.0
mcaGUI 1.35.0 4.0.0
MCbiclust 1.11.0 4.0.0
mcbiopi 1.1.6 4.0.0
MCL 1.0 4.0.0
mclust 5.4.5 4.0.0
mcmc 0.9-6 4.0.0
MCMCglmm 2.29 4.0.0
MCMCpack 1.4-5 4.0.0
MCMCprecision 0.4.0 4.0.0
MCRestimate 2.43.1 4.0.0
mCSEA 1.7.0 4.0.0
mCSEAdata 1.7.0 4.0.0
mdgsa 1.19.0 4.0.0
mdp 1.7.0 4.0.0
mdqc 1.49.0 4.0.0
MDTS 1.7.0 4.0.0
MEAL 1.17.1 4.0.0
MeasurementError.cor 1.59.0 4.0.0
MEB 1.1.0 4.0.0
MEDIPS 1.39.0 4.0.0
MEDIPSData 1.23.0 4.0.0
MEDME 1.47.0 4.0.0
MEEBOdata 1.25.0 4.0.0
mefa 3.2-7 4.0.0
MEIGOR 1.21.0 4.0.0
Melissa 1.3.0 4.0.0
memoise 1.1.0 4.0.0
memuse 4.0-0 4.0.0
MergeMaid 2.59.0 4.0.0
Mergeomics 1.15.0 4.0.0
MeSH.Aca.eg.db 1.13.0 4.0.0
MeSH.AOR.db 1.13.0 4.0.0
MeSH.Bsu.168.eg.db 1.13.0 4.0.0
MeSH.Cel.eg.db 1.13.0 4.0.0
MeSH.db 1.13.0 4.0.0
MeSH.Hsa.eg.db 1.13.0 4.0.0
MeSH.Mmu.eg.db 1.13.0 4.0.0
MeSH.PCR.db 1.13.0 4.0.0
MeSH.Syn.eg.db 1.13.0 4.0.0
MeSHDbi 1.23.0 4.0.0
meshes 1.13.0 4.0.0
meshr 1.23.0 4.0.0
MESS 0.5.6 4.0.0
messina 1.23.0 4.0.0
metaArray 1.65.0 4.0.0
Metab 1.21.0 4.0.0
metabomxtr 1.21.0 4.0.0
MetaboSignal 1.17.0 4.0.0
metaCCA 1.15.0 4.0.0
MetaCycle 1.2.0 4.0.0
MetaCyto 1.9.0 4.0.0
metafor 2.1-0 4.0.0
metagene 2.19.0 4.0.0
metagene2 1.3.4 4.0.0
metagenomeFeatures 2.7.0 4.0.0
metagenomeSeq 1.29.0 4.0.0
metahdep 1.45.0 4.0.0
metaMA 3.1.2 4.0.0
metaMS 1.23.0 4.0.0
metaMSdata 1.23.0 4.0.0
MetaNeighbor 1.7.0 4.0.0
metap 1.2 4.0.0
metaSeq 1.27.0 4.0.0
metaseqR 1.27.0 4.0.0
metavizr 1.11.0 4.0.0
MetaVolcanoR 1.1.0 4.0.0
MetCirc 1.17.0 4.0.0
MethCP 1.1.0 4.0.0
methimpute 1.9.0 4.0.0
methInheritSim 1.9.0 4.0.0
methods 4.0.0 4.0.0
MethPed 1.15.0 4.0.0
methrix 1.1.0 4.0.0
MethTargetedNGS 1.19.0 4.0.0
methVisual 1.39.0 4.0.0
methyAnalysis 1.29.0 4.0.0
MethylAid 1.21.0 4.0.0
MethylAidData 1.19.0 4.0.0
methylCC 1.1.0 4.0.0
methylGSA 1.5.8 4.0.0
methylInheritance 1.11.0 4.0.0
methylKit 1.13.1 4.0.0
MethylMix 2.17.0 4.0.0
methylMnM 1.25.0 4.0.0
methylPipe 1.21.0 4.0.0
MethylSeekR 1.27.0 4.0.0
methylumi 2.33.0 4.0.0
methyvim 1.9.0 4.0.0
methyvimData 1.9.0 4.0.0
MetID 1.5.0 4.0.0
MetNet 1.5.1 4.0.0
mfa 1.9.0 4.0.0
Mfuzz 2.47.0 4.0.0
mgcv 1.8-31 4.0.0
MGFM 1.21.0 4.0.0
MGFR 1.13.0 4.0.0
mgsa 1.35.0 4.0.0
mGSZ 1.0 4.0.0
mgug4104a.db 3.2.3 4.0.0
mhsmm 0.4.16 4.0.0
mice 3.7.0 4.0.0
MiChip 1.41.0 4.0.0
microbenchmark 1.4-7 4.0.0
microbiome 1.9.19 4.0.0
microbiomeDASim 1.1.1 4.0.0
microRNA 1.45.0 4.0.0
MIGSA 1.11.4 4.0.0
MIGSAdata 1.11.0 4.0.0
mimager 1.11.0 4.0.0
mime 0.8 4.0.0
MIMOSA 1.25.0 4.0.0
MineICA 1.27.0 4.0.0
minerva 1.5.8 4.0.0
minet 3.45.0 4.0.0
minfi 1.33.0 4.0.0
minfiData 0.33.0 4.0.0
minfiDataEPIC 1.13.0 4.0.0
MinimumDistance 1.31.0 4.0.0
minionSummaryData 1.17.0 4.0.0
miniUI 0.1.1.1 4.0.0
minpack.lm 1.2-1 4.0.0
minqa 1.2.4 4.0.0
MiPP 1.59.0 4.0.0
MIRA 1.9.0 4.0.0
MiRaGE 1.29.0 4.0.0
mirbase.db 1.2.0 4.0.0
miRBaseConverter 1.11.0 4.0.0
miRBaseVersions.db 1.1.0 4.0.0
miRcomp 1.17.0 4.0.0
miRcompData 1.17.0 4.0.0
mirIntegrator 1.17.0 4.0.0
miRLAB 1.17.0 4.0.0
miRmine 1.9.0 4.0.0
mirna10cdf 2.18.0 4.0.0
miRNAmeConverter 1.15.0 4.0.0
miRNApath 1.47.0 4.0.0
miRNAtap 1.21.0 4.0.0
miRNAtap.db 0.99.10 4.0.0
miRNATarget 1.25.0 4.0.0
miRSM 1.5.0 4.0.0
miRspongeR 1.13.0 4.0.0
Mirsynergy 1.23.0 4.0.0
misc3d 0.8-4 4.0.0
miscTools 0.6-26 4.0.0
missForest 1.4 4.0.0
missMethyl 1.21.3 4.0.0
missRows 1.7.0 4.0.0
mitch 0.99.26 4.0.0
mitml 0.3-7 4.0.0
mitoODE 1.25.0 4.0.0
mitoODEdata 1.23.0 4.0.0
mitools 2.4 4.0.0
mixOmics 6.11.6 4.0.0
mixsmsn 1.1-6 4.0.0
mixsqp 0.2-2 4.0.0
mixtools 1.1.0 4.0.0
mlbench 2.1-1 4.0.0
MLInterfaces 1.67.2 4.0.0
MLmetrics 1.1.1 4.0.0
MLP 1.35.0 4.0.0
mlr 2.17.0 4.0.0
MLSeq 2.5.0 4.0.0
mltools 0.3.5 4.0.0
MMAPPR2 1.1.0 4.0.0
MMAPPR2data 1.1.0 4.0.0
MMDiff2 1.15.0 4.0.0
MMDiffBamSubset 1.23.0 4.0.0
MmPalateMiRNA 1.37.0 4.0.0
MMUPHin 1.1.0 4.0.0
mnem 1.3.4 4.0.0
mnormt 1.5-5 4.0.0
mockery 0.4.2 4.0.0
MODA 1.13.0 4.0.0
modeest 2.4.0 4.0.0
ModelMetrics 1.2.2.1 4.0.0
modelr 0.1.5 4.0.0
modeltools 0.2-22 4.0.0
modes 0.7.0 4.0.0
Modstrings 1.3.2 4.0.0
MOFA 1.3.1 4.0.0
MOFAdata 1.3.1 4.0.0
mogene10sttranscriptcluster.db 8.7.0 4.0.0
mogsa 1.21.0 4.0.0
moments 0.14 4.0.0
mongolite 2.1.0 4.0.0
monocle 2.15.0 4.0.0
MoPS 1.21.0 4.0.0
mosaicCore 0.6.0 4.0.0
mosaics 2.25.0 4.0.0
mosaicsExample 1.25.0 4.0.0
MOSim 1.1.0 4.0.0
motifbreakR 2.1.0 4.0.0
motifcounter 1.11.0 4.0.0
MotifDb 1.29.0 4.0.0
motifmatchr 1.9.0 4.0.0
motifRG 1.31.1 4.0.0
motifStack 1.31.1 4.0.0
MotIV 1.43.0 4.0.0
mouse4302.db 3.2.3 4.0.0
mouse4302cdf 2.18.0 4.0.0
mouse4302frmavecs 1.5.0 4.0.0
MPFE 1.23.0 4.0.0
mpm 1.0-22 4.0.0
mpmi 0.43.1 4.0.0
mppa 1.0 4.0.0
mpra 1.9.0 4.0.0
MPRAnalyze 1.5.0 4.0.0
mRMRe 2.1.0 4.0.0
msa 1.19.0 4.0.0
msd16s 1.7.0 4.0.0
msdata 0.27.0 4.0.0
msgbsR 1.11.0 4.0.0
MSGFgui 1.21.0 4.0.0
MSGFplus 1.21.0 4.0.0
msgps 1.3.1 4.0.0
msigdbr 7.0.1 4.0.0
msm 1.6.8 4.0.0
msmsEDA 1.25.0 4.0.0
msmsTests 1.25.0 4.0.0
MSnbase 2.13.2 4.0.0
MSnID 1.21.0 4.0.0
msPurity 1.13.0 4.0.0
msPurityData 1.15.0 4.0.0
MSstats 3.19.4 4.0.0
MSstatsBioData 1.9.0 4.0.0
MSstatsQC 2.5.0 4.0.0
MSstatsQCgui 1.7.0 4.0.0
MSstatsSampleSize 1.1.0 4.0.0
MSstatsTMT 1.5.3 4.0.0
mstate 0.2.12 4.0.0
mtbls2 1.17.0 4.0.0
MTseeker 1.5.21 4.0.0
MTseekerData 1.5.4 4.0.0
Mulcom 1.37.0 4.0.0
multcomp 1.4-12 4.0.0
multcompView 0.1-8 4.0.0
MultiAssayExperiment 1.13.4 4.0.0
multiClust 1.17.0 4.0.0
multicool 0.1-11 4.0.0
MultiDataSet 1.15.0 4.0.0
multiHiCcompare 1.5.0 4.0.0
MultiMed 2.9.0 4.0.0
multiMiR 1.9.0 4.0.0
multiOmicsViz 1.11.0 4.0.0
multiscan 1.47.0 4.0.0
multtest 2.43.0 4.0.0
MuMIn 1.43.15 4.0.0
munsell 0.5.0 4.0.0
Mus.musculus 1.3.1 4.0.0
muscat 1.1.0 4.0.0
muscle 3.29.0 4.0.0
muStat 1.7.0 4.0.0
MutationalPatterns 1.13.0 4.0.0
mutoss 0.1-12 4.0.0
MVCClass 1.61.0 4.0.0
mvoutData 1.23.0 4.0.0
mvoutlier 2.0.9 4.0.0
mvtnorm 1.0-12 4.0.0
MWASTools 1.11.0 4.0.0
mygene 1.23.0 4.0.0
myvariant 1.17.0 4.0.0
mzID 1.25.0 4.0.0
mzR 2.21.1 4.0.0
nabor 0.5.0 4.0.0
NADA 1.6-1 4.0.0
NADfinder 1.11.0 4.0.0
naivebayes 0.9.6 4.0.0
NanoStringDiff 1.17.0 4.0.0
NanoStringQCPro 1.19.0 4.0.0
nanotatoR 1.3.0 4.0.0
NarrowPeaks 1.31.0 4.0.0
naturalsort 0.1.3 4.0.0
NBAMSeq 1.3.0 4.0.0
NbClust 3.0 4.0.0
nbconvertR 1.3.2 4.0.0
NBPSeq 0.3.0 4.0.0
NBSplice 1.5.0 4.0.0
ncdf4 1.17 4.0.0
ncdfFlow 2.33.0 4.0.0
ncGTW 1.1.1 4.0.0
NCmisc 1.1.6 4.0.0
ndexr 1.9.0 4.0.0
NeighborNet 1.5.0 4.0.0
nem 2.61.1 4.0.0
netbenchmark 1.19.0 4.0.0
netbiov 1.21.0 4.0.0
netboost 1.3.2 4.0.0
netboxr 0.99.986 4.0.0
nethet 1.19.0 4.0.0
NetPathMiner 1.23.0 4.0.0
NetPreProc 1.1 4.0.0
netprioR 1.13.0 4.0.0
netReg 1.11.0 4.0.0
netresponse 1.47.0 4.0.0
NetSAM 1.27.0 4.0.0
netSmooth 1.7.0 4.0.0
network 1.16.0 4.0.0
networkBMA 2.27.0 4.0.0
networkD3 0.4 4.0.0
ngsReports 1.3.0 4.0.0
nipals 0.5 4.0.0
NISTunits 1.0.1 4.0.0
nlcv 0.3.5 4.0.0
nleqslv 3.3.2 4.0.0
nlme 3.1-143 4.0.0
nloptr 1.2.1 4.0.0
NLP 0.2-0 4.0.0
nls2 0.2 4.0.0
NMF 0.21.0 4.0.0
NMFN 2.0 4.0.0
NMI 2.0 4.0.0
nnet 7.3-12 4.0.0
nnlasso 0.3 4.0.0
NNLM 0.4.3 4.0.0
nnls 1.4 4.0.0
nnNorm 2.51.0 4.0.0
nnTensor 1.0.2 4.0.0
NOISeq 2.31.1 4.0.0
nondetects 2.17.0 4.0.0
nor1mix 1.3-0 4.0.0
norm 1.0-9.5 4.0.0
normalize450K 1.15.0 4.0.0
NormalyzerDE 1.5.0 4.0.0
NormqPCR 1.33.0 4.0.0
normr 1.13.0 4.0.0
nortest 1.0-4 4.0.0
Nozzle.R1 1.1-1 4.0.0
NPARC 0.99.5 4.0.0
npGSEA 1.23.0 4.0.0
npsurv 0.4-0 4.0.0
nsprcomp 0.5.1-2 4.0.0
NTW 1.37.0 4.0.0
nucleoSim 1.15.0 4.0.0
nucleR 2.19.1 4.0.0
nuCpos 1.5.1 4.0.0
numbers 0.7-5 4.0.0
numDeriv 2016.8-1.1 4.0.0
NuPoP 1.37.0 4.0.0
objectProperties 0.6.5 4.0.0
objectSignals 0.10.2 4.0.0
occugene 1.47.0 4.0.0
OCplus 1.61.0 4.0.0
odseq 1.15.0 4.0.0
OGSA 1.17.0 4.0.0
oligo 1.51.2 4.0.0
oligoClasses 1.49.1 4.0.0
oligoData 1.8.0 4.0.0
OLIN 1.65.0 4.0.0
OLINgui 1.61.0 4.0.0
OmaDB 2.3.0 4.0.0
omicade4 1.27.0 4.0.0
OmicCircos 1.25.0 4.0.0
omicplotR 1.7.1 4.0.0
omicRexposome 1.9.0 4.0.0
OmicsLonDA 1.3.4 4.0.0
OmicsMarkeR 1.19.0 4.0.0
OMICsPCA 1.5.0 4.0.0
OMICsPCAdata 1.5.0 4.0.0
omicsPrint 1.7.0 4.0.0
OmnipathR 1.1.2 4.0.0
Onassis 1.9.2 4.0.0
OnassisJavaLibs 1.9.0 4.0.0
oncomix 1.9.0 4.0.0
OncoScore 1.15.0 4.0.0
OncoSimulR 2.17.5 4.0.0
Oncotree 0.3.3 4.0.0
oneSENSE 1.9.0 4.0.0
onlineFDR 1.5.0 4.0.0
ontologyIndex 2.5 4.0.0
ontologyPlot 1.4 4.0.0
ontoProc 1.9.0 4.0.0
opencpu 2.1.5 4.0.0
openCyto 1.25.2 4.0.0
openPrimeR 1.9.1 4.0.0
openPrimeRui 1.9.1 4.0.0
openssl 1.4.1 4.0.0
openxlsx 4.1.4 4.0.0
operator.tools 1.6.3 4.0.0
oposSOM 2.5.0 4.0.0
oppar 1.15.0 4.0.0
oppti 1.1.0 4.0.0
optimx 2018-7.10 4.0.0
optparse 1.6.4 4.0.0
OPWeight 1.9.0 4.0.0
ORCME 2.0.2 4.0.0
OrderedList 1.59.1 4.0.0
ordinal 2019.12-10 4.0.0
ore 1.6.3 4.0.0
ORFik 1.7.8 4.0.0
org.Ag.eg.db 3.10.0 4.0.0
org.At.tair.db 3.10.1 4.0.0
org.Bt.eg.db 3.10.0 4.0.0
org.Ce.eg.db 3.10.0 4.0.0
org.Cf.eg.db 3.10.0 4.0.0
org.Dm.eg.db 3.10.0 4.0.0
org.Dr.eg.db 3.10.0 4.0.0
org.EcK12.eg.db 3.10.0 4.0.0
org.EcSakai.eg.db 3.10.0 4.0.0
org.Gg.eg.db 3.10.0 4.0.0
org.Hs.eg.db 3.10.0 4.0.0
org.Mm.eg.db 3.10.0 4.0.0
org.Mmu.eg.db 3.10.0 4.0.0
org.Pf.plasmo.db 3.10.0 4.0.0
org.Pt.eg.db 3.10.0 4.0.0
org.Rn.eg.db 3.10.0 4.0.0
org.Sc.sgd.db 3.10.0 4.0.0
org.Ss.eg.db 3.10.0 4.0.0
org.Xl.eg.db 3.10.0 4.0.0
Organism.dplyr 1.15.0 4.0.0
OrganismDbi 1.29.0 4.0.0
OrgMassSpecR 0.5-3 4.0.0
ORIClust 1.0-1 4.0.0
origami 1.0.1 4.0.0
orQA 0.2.1 4.0.0
OSAT 1.35.0 4.0.0
Oscope 1.17.0 4.0.0
OTUbase 1.37.0 4.0.0
OutlierD 1.51.0 4.0.0
outliers 0.14 4.0.0
OUTRIDER 1.5.0 4.0.0
OVESEG 1.3.0 4.0.0
PAA 1.21.0 4.0.0
PADOG 1.29.0 4.0.0
paintmap 1.0 4.0.0
PAIRADISE 1.3.0 4.0.0
paircompviz 1.25.0 4.0.0
PairedData 1.1.1 4.0.0
pairsD3 0.1.0 4.0.0
pamr 1.56.1 4.0.0
pan 1.6 4.0.0
pandaR 1.19.3 4.0.0
pander 0.6.3 4.0.0
panelcn.mops 1.9.0 4.0.0
panp 1.57.0 4.0.0
PANR 1.33.0 4.0.0
PANTHER.db 1.0.10 4.0.0
PanVizGenerator 1.15.0 4.0.0
PAPi 1.27.1 4.0.0
parallel 4.0.0 4.0.0
parallelMap 1.4 4.0.0
parameters 0.4.0 4.0.0
ParamHelpers 1.13 4.0.0
parathyroidSE 1.25.0 4.0.0
parcor 0.2-6 4.0.0
parglms 1.19.0 4.0.0
parmigene 1.0.2 4.0.0
parody 1.45.5 4.0.0
parsedate 1.2.0 4.0.0
parsetools 0.1.1 4.0.0
party 1.3-3 4.0.0
partykit 1.2-5 4.0.0
pasilla 1.15.0 4.0.0
pasillaBamSubset 0.25.0 4.0.0
PasillaTranscriptExpr 1.15.0 4.0.0
PAST 1.3.1 4.0.0
pastecs 1.3.21 4.0.0
Path2PPI 1.17.0 4.0.0
pathifier 1.25.0 4.0.0
PathNet 1.27.3 4.0.0
PathNetData 1.23.1 4.0.0
PathoStat 1.13.0 4.0.0
pathprint 1.17.0 4.0.0
pathprintGEOData 1.17.0 4.0.0
pathRender 1.55.0 4.0.0
pathVar 1.17.0 4.0.0
pathview 1.27.0 4.0.0
pathwayPCA 1.3.0 4.0.0
PathwaySplice 1.11.0 4.0.0
paxtoolsr 1.21.0 4.0.0
pbapply 1.4-2 4.0.0
pbivnorm 0.6.0 4.0.0
pbkrtest 0.4-7 4.0.0
pbmcapply 1.5.0 4.0.0
pcaExplorer 2.13.0 4.0.0
pcaGoPromoter 1.31.1 4.0.0
pcaGoPromoter.Hs.hg19 1.23.0 4.0.0
pcaGoPromoter.Mm.mm9 1.23.0 4.0.0
pcaGoPromoter.Rn.rn4 1.23.0 4.0.0
pcalg 2.6-8 4.0.0
pcaMethods 1.79.1 4.0.0
PCAN 1.15.0 4.0.0
pcaPP 1.9-73 4.0.0
PCAtools 1.3.0 4.0.0
PCHiCdata 1.15.0 4.0.0
PCIT 1.5-3 4.0.0
pcot2 1.55.0 4.0.0
PCpheno 1.49.0 4.0.0
pcxn 2.9.0 4.0.0
pcxnData 2.9.0 4.0.0
pd.atdschip.tiling 0.25.0 4.0.0
pd.genomewidesnp.5 3.14.1 4.0.0
pd.genomewidesnp.6 3.14.1 4.0.0
pd.hg.u133a.2 3.12.0 4.0.0
pd.hg.u95a 3.12.0 4.0.0
pd.hg.u95av2 3.12.0 4.0.0
pd.hg18.60mer.expr 3.12.0 4.0.0
pd.huex.1.0.st.v2 3.14.1 4.0.0
pd.hugene.1.0.st.v1 3.14.1 4.0.0
pd.mapping250k.nsp 3.12.0 4.0.0
pd.mapping250k.sty 3.12.0 4.0.0
pd.mapping50k.hind240 3.12.0 4.0.0
pd.mapping50k.xba240 3.12.0 4.0.0
pdc 1.0.3 4.0.0
pdftools 2.3 3.6.0
pdInfoBuilder 1.51.0 4.0.0
pdist 1.2 4.0.0
peakPantheR 1.1.0 4.0.0
PECA 1.23.0 4.0.0
penalized 0.9-51 4.0.0
pepDat 1.7.0 4.0.0
PepsNMR 1.5.0 4.0.0
PepsNMRData 1.5.0 4.0.0
pepStat 1.21.0 4.0.0
pepXMLTab 1.21.0 4.0.0
PERFect 1.1.0 4.0.0
PerfMeas 1.2.1 4.0.0
performance 0.4.2 4.0.0
PerformanceAnalytics 1.5.3 4.0.0
permute 0.9-5 4.0.0
perturbatr 1.7.0 4.0.0
PFAM.db 3.10.0 4.0.0
PGA 1.17.0 4.0.0
pgca 1.11.0 4.0.0
PGSEA 1.61.0 4.0.0
phangorn 2.5.5 4.0.0
phantasus 1.7.3 4.0.0
PharmacoGx 1.17.0 4.0.0
phastCons100way.UCSC.hg19 3.7.2 4.0.0
phastCons100way.UCSC.hg38 3.7.1 4.0.0
phateR 1.0.0 4.0.0
pheatmap 1.0.12 4.0.0
phemd 1.3.0 4.0.0
phenopath 1.11.0 4.0.0
phenoTest 1.35.0 4.0.0
PhenStat 2.23.0 4.0.0
philr 1.13.0 4.0.0
phosphonormalizer 1.11.0 4.0.0
phylobase 0.8.6 4.0.0
PhyloProfile 1.1.3 4.0.0
phyloseq 1.31.0 4.0.0
Pi 1.15.0 4.0.0
piano 2.3.0 4.0.0
picante 1.8 4.0.0
pickgene 1.59.0 4.0.0
PICS 2.31.5 4.0.0
Pigengene 1.13.6 4.0.0
pillar 1.4.3 4.0.0
pinfsc50 1.1.0 4.0.0
PING 2.31.2 4.0.0
pingr 2.0.0 4.0.0
pint 1.37.1 4.0.0
pipeFrame 1.3.6 4.0.0
pixmap 0.4-11 4.0.0
pkgbuild 1.0.6 4.0.0
pkgcond 0.1.0 4.0.0
pkgconfig 2.0.3 4.0.0
pkgDepTools 1.53.0 4.0.0
pkgdown 1.4.1 4.0.0
pkgload 1.0.2 4.0.0
pkgmaker 0.27 4.0.0
plasFIA 1.15.0 4.0.0
plasmodiumanophelescdf 2.18.0 4.0.0
plethy 1.25.0 4.0.0
plgem 1.59.0 4.0.0
plier 1.57.0 4.0.0
plogr 0.2.0 4.0.0
plot3D 1.3 4.0.0
plotGrouper 1.5.0 4.0.0
plotly 4.9.1 4.0.0
plotmo 3.5.6 4.0.0
plotrix 3.7-7 4.0.0
plotROC 2.2.1 4.0.0
PLPE 1.47.0 4.0.0
plrs 1.27.0 4.0.0
pls 2.7-2 4.0.0
plsgenomics 1.5-2 4.0.0
plspm 0.4.9 4.0.0
plsVarSel 0.9.4 4.0.0
plw 1.47.0 4.0.0
plyr 1.8.5 4.0.0
plyranges 1.7.7 4.0.0
PMA 1.1 4.0.0
PMCMR 4.3 4.0.0
pmm 1.19.0 4.0.0
png 0.1-7 4.0.0
podkat 1.19.0 4.0.0
pogos 1.7.0 4.0.0
poibin 1.5 4.0.0
PoiClaClu 1.0.2.1 4.0.0
poilog 0.4 4.0.0
polspline 1.1.17 4.0.0
polyclip 1.10-0 4.0.0
polyester 1.23.0 4.0.0
Polyfit 1.21.0 4.0.0
polylabelr 0.1.0 4.0.0
polynom 1.4-0 4.0.0
PolynomF 2.0-2 4.0.0
PolyPhen.Hsapiens.dbSNP131 1.0.2 4.0.0
POST 1.11.0 4.0.0
postlogic 0.1.0.1 4.0.0
PoTRA 1.3.0 4.0.0
PowerExplorer 1.7.0 4.0.0
poweRlaw 0.70.2 4.0.0
powerTCR 1.7.0 4.0.0
ppclust 0.1.3 4.0.0
ppcor 1.1 4.0.0
ppiData 0.25.0 4.0.0
PPInfer 1.13.0 4.0.0
ppiStats 1.53.0 4.0.0
ppls 1.6-1.1 4.0.0
pqsfinder 2.3.0 4.0.0
prabclus 2.3-2 4.0.0
pracma 2.2.9 4.0.0
prada 1.63.0 4.0.0
praise 1.0.0 4.0.0
pram 1.3.0 4.0.0
praznik 7.0.0 4.0.0
prebs 1.27.0 4.0.0
prebsdata 1.23.0 4.0.0
PrecisionTrialDrawer 1.3.1 4.0.0
precrec 0.11 4.0.0
PREDA 1.33.0 4.0.0
PREDAsampledata 0.27.0 4.0.0
predictionet 1.33.0 4.0.0
preprocessCore 1.49.0 4.0.0
preseqR 4.0.0 4.0.0
prettydoc 0.3.1 4.0.0
prettyGraphs 2.1.6 4.0.0
prettyunits 1.1.0 4.0.0
primirTSS 1.5.0 4.0.0
PRIMME 3.0-0 4.0.0
PrInCE 1.3.0 4.0.0
princurve 2.1.4 4.0.0
printr 0.1 4.0.0
Prize 1.17.0 4.0.0
proBAMr 1.21.0 4.0.0
proBatch 1.3.0 4.0.0
pROC 1.16.1 4.0.0
PROcess 1.63.0 4.0.0
processx 3.4.1 4.0.0
procoil 2.15.0 4.0.0
proDA 1.1.2 4.0.0
prodlim 2019.11.13 4.0.0
proFIA 1.13.0 4.0.0
profileModel 0.6.0 4.0.0
profileplyr 1.3.0 4.0.0
profileScoreDist 1.15.0 4.0.0
profmem 0.5.0 4.0.0
proftools 0.99-2 4.0.0
profvis 0.3.6 4.0.0
progeny 1.9.0 4.0.0
prognosticROC 0.7 4.0.0
progress 1.2.2 4.0.0
projectR 1.3.0 4.0.0
pRoloc 1.27.1 4.0.0
pRolocdata 1.25.1 4.0.0
pRolocGUI 1.21.0 4.0.0
PROMISE 1.39.0 4.0.0
promises 1.1.0 4.0.0
PROPER 1.19.0 4.0.0
PROPS 1.9.0 4.0.0
Prostar 1.19.11 4.0.0
proteinProfiles 1.27.0 4.0.0
ProteomicsAnnotationHubData 1.17.0 4.0.0
ProteoMM 1.5.0 4.0.0
proteoQC 1.23.1 4.0.0
ProtGenerics 1.19.3 4.0.0
proto 1.0.0 4.0.0
protolite 2.0 3.6.0
protViz 0.5.1 4.0.0
proxy 0.4-23 4.0.0
PRROC 1.3.1 4.0.0
pryr 0.1.4 4.0.0
ps 1.3.0 4.0.0
PSCBS 0.65.0 3.6.0
pscl 1.5.2 4.0.0
PSEA 1.21.0 4.0.0
psichomics 1.13.0 4.0.0
PSICQUIC 1.25.0 4.0.0
pspline 1.0-18 4.0.0
psych 1.9.12.31 4.0.0
psygenet2r 1.19.0 4.0.0
PtH2O2lipids 1.13.0 4.0.0
ptw 1.9-15 4.0.0
PubScore 0.99.3 4.0.0
pulsedSilac 1.1.1 4.0.0
puma 3.29.1 4.0.0
PureCN 1.17.1 4.0.0
purrr 0.3.3 4.0.0
purrrogress 0.1.1 4.0.0
pvac 1.35.0 4.0.0
pvca 1.27.0 4.0.0
pvclust 2.2-0 4.0.0
Pviz 1.21.0 4.0.0
PWMEnrich 4.23.0 4.0.0
PWMEnrich.Dmelanogaster.background 4.21.0 4.0.0
PWMEnrich.Hsapiens.background 4.21.0 4.0.0
PWMEnrich.Mmusculus.background 4.21.0 4.0.0
pwOmics 1.19.0 4.0.0
pwrEWAS 1.1.0 4.0.0
pwrEWAS.data 1.1.0 4.0.0
qap 0.1-1 4.0.0
qckitfastq 1.3.0 4.0.0
qcmetrics 1.25.0 4.0.0
QDNAseq 1.23.0 4.0.0
QDNAseq.hg19 1.17.0 4.0.0
QDNAseq.mm10 1.17.0 4.0.0
qgraph 1.6.4 4.0.0
qlcMatrix 0.9.7 4.0.0
qpcR 1.4-1 4.0.0
qpcrNorm 1.45.0 4.0.0
qpdf 1.1 4.0.0
qpgraph 2.21.1 4.0.0
qPLEXanalyzer 1.5.0 4.0.0
qPLEXdata 1.5.0 4.0.0
qqman 0.1.4 4.0.0
qrqc 1.41.0 4.0.0
qsea 1.13.0 4.0.0
qsmooth 1.3.0 4.0.0
QSutils 1.5.0 4.0.0
qtl 1.44-9 4.0.0
Qtlizer 1.1.0 4.0.0
quadprog 1.5-8 4.0.0
QUALIFIER 1.31.1 4.0.0
qualV 0.3-3 4.0.0
quantmod 0.4-15 4.0.0
quantreg 5.54 4.0.0
quantro 1.21.0 4.0.0
quantsmooth 1.53.0 4.0.0
QuartPAC 1.19.0 4.0.0
QuasR 1.27.0 4.0.0
QuaternaryProd 1.21.0 4.0.0
QUBIC 1.15.1 4.0.0
QUBICdata 1.15.0 4.0.0
questionr 0.7.0 4.0.0
qusage 2.21.0 4.0.0
qvalue 2.19.0 4.0.0
qvcalc 1.0.1 4.0.0
R.cache 0.14.0 4.0.0
R.devices 2.16.1 4.0.0
R.filesets 2.13.0 4.0.0
R.huge 0.9.0 4.0.0
R.matlab 3.6.2 4.0.0
R.methodsS3 1.7.1 4.0.0
R.oo 1.23.0 4.0.0
R.rsp 0.43.2 4.0.0
R.utils 2.9.2 4.0.0
r2glmm 0.1.2 4.0.0
R2HTML 2.3.2 4.0.0
R2jags 0.5-7 4.0.0
R2WinBUGS 2.1-21 4.0.0
R3CPET 1.19.0 4.0.0
r3Cseq 1.33.0 4.0.0
R453Plus1Toolbox 1.37.0 4.0.0
R4RNA 1.15.0 4.0.0
R6 2.4.1 4.0.0
radiant.data 1.0.6 4.0.0
rae230a.db 3.2.3 4.0.0
rae230aprobe 2.18.0 4.0.0
rafalib 1.0.0 4.0.0
RaggedExperiment 1.11.0 4.0.0
rain 1.21.0 4.0.0
rama 1.61.0 4.0.0
ramwas 1.11.1 4.0.0
randomcoloR 1.1.0.1 4.0.0
randomForest 4.6-14 4.0.0
RandomWalkRestartMH 1.7.0 4.0.0
randPack 1.33.0 4.0.0
randtests 1.0 4.0.0
ranger 0.12.1 4.0.0
RankProd 3.13.0 4.0.0
RANKS 1.0 4.0.0
RANN 2.6.1 4.0.0
rapidjsonr 1.1 4.0.0
rappdirs 0.3.1 4.0.0
RareVariantVis 2.15.0 4.0.0
Rariant 1.23.0 4.0.0
rARPACK 0.11-0 4.0.0
raster 3.0-7 4.0.0
rasterVis 0.47 4.0.0
rat2302.db 3.2.3 4.0.0
Rattus.norvegicus 1.3.1 4.0.0
rBayesianOptimization 1.1.0 4.0.0
RbcBook1 1.55.0 4.0.0
rbenchmark 1.0.0 4.0.0
RBGL 1.63.1 4.0.0
RBioinf 1.47.0 4.0.0
rBiopaxParser 2.27.0 4.0.0
RBM 1.19.0 4.0.0
rbokeh 0.5.0 4.0.0
Rbowtie 1.27.1 4.0.0
Rbowtie2 1.9.0 4.0.0
rbsurv 2.45.0 4.0.0
Rcade 1.29.0 4.0.0
RCAS 1.13.1 4.0.0
RCASPAR 1.33.0 4.0.0
rcdk 3.4.7.2 4.0.0
rcdklibs 2.0 4.0.0
rcellminer 2.9.0 4.0.0
rcellminerData 2.9.0 4.0.0
rCGH 1.17.0 4.0.0
rChoiceDialogs 1.0.6 4.0.0
RchyOptimyx 2.27.0 4.0.0
RCircos 1.2.1 4.0.0
RcisTarget 1.7.1 4.0.0
RcisTarget.hg19.motifDBs.cisbpOnly.500bp 1.7.0 4.0.0
rclipboard 0.1.2 4.0.0
RCM 1.3.0 4.0.0
rcmdcheck 1.3.3 4.0.0
RcmdrMisc 2.7-0 4.0.0
RColorBrewer 1.1-2 4.0.0
rcompanion 2.3.21 4.0.0
Rcpi 1.23.0 4.0.0
Rcpp 1.0.3 4.0.0
RcppAnnoy 0.0.14 4.0.0
RcppArmadillo 0.9.800.3.0 4.0.0
RcppEigen 0.3.3.7.0 4.0.0
RcppGSL 0.3.7 4.0.0
RcppHNSW 0.2.0 4.0.0
RcppNumerical 0.4-0 4.0.0
RcppParallel 4.4.4 4.0.0
RcppProgress 0.4.1 4.0.0
RcppRoll 0.3.0 4.0.0
RcppThread 0.5.4 4.0.0
RcppZiggurat 0.1.5 4.0.0
Rcsdp 0.1.55 4.0.0
RCurl 1.95-4.12 4.0.0
Rcwl 1.3.1 4.0.0
RcwlPipelines 1.3.0 4.0.0
RCy3 2.7.3 4.0.0
RCyjs 2.9.0 4.0.0
rda 1.0.2-2.1 4.0.0
RDAVIDWebService 1.25.0 4.0.0
rDGIdb 1.13.0 4.0.0
Rdisop 1.47.0 4.0.0
Rdpack 0.11-1 4.0.0
rdrop2 0.8.1 4.0.0
RDRToolbox 1.37.0 4.0.0
reactable 0.1.0 4.0.0
reactome.db 1.70.0 4.0.0
ReactomeGSA 1.1.0 4.0.0
ReactomeGSA.data 1.1.0 4.0.0
ReactomePA 1.31.0 4.0.0
reactR 0.4.1 4.0.0
readbitmap 0.1.5 4.0.0
reader 1.0.6 4.0.0
ReadqPCR 1.33.0 4.0.0
readr 1.3.1 4.0.0
readstata13 0.9.2 4.0.0
readxl 1.3.1 4.0.0
reb 1.65.0 4.0.0
REBET 1.5.0 4.0.0
rebus 0.1-3 4.0.0
rebus.base 0.0-3 4.0.0
rebus.datetimes 0.0-1 4.0.0
rebus.numbers 0.0-1 4.0.0
rebus.unicode 0.0-2 4.0.0
recipes 0.1.9 4.0.0
RecordLinkage 0.4-11.2 4.0.0
recount 1.13.1 4.0.0
recoup 1.15.0 4.0.0
RedeR 1.35.0 4.0.0
REDseq 1.33.1 4.0.0
RefFreeEWAS 2.2 4.0.0
RefManageR 1.2.12 4.0.0
RefNet 1.23.1 4.0.0
RefPlus 1.57.0 4.0.0
regioneR 1.19.1 4.0.0
regionReport 1.21.0 4.0.0
registry 0.5-1 4.0.0
regsplice 1.13.6 4.0.0
relations 0.6-9 4.0.0
reldist 1.6-6 4.0.0
relimp 1.0-5 4.0.0
rematch 1.0.1 4.0.0
rematch2 2.1.0 4.0.0
remotes 2.1.0 4.0.0
REMP 1.11.0 4.0.0
rentrez 1.2.2 4.0.0
renv 0.9.2 4.0.0
ReorderCluster 1.0 4.0.0
Repitools 1.33.0 4.0.0
repmis 0.5 4.0.0
repo 2.1.4 4.0.0
ReportingTools 2.27.0 4.0.0
reportr 1.3.0 4.0.0
reprex 0.3.0 4.0.0
RepViz 1.3.0 4.0.0
ReQON 1.33.0 4.0.0
reshape 0.8.8 4.0.0
reshape2 1.4.3 4.0.0
restfulSE 1.9.0 4.0.0
restfulSEData 1.9.0 4.0.0
reticulate 1.14 4.0.0
reutils 0.2.3 4.0.0
rex 1.1.2 4.0.0
rexposome 1.9.0 4.0.0
Rfast 1.9.8 4.0.0
RFOC 3.4-6 4.0.0
RforProteomics 1.25.0 4.0.0
rfPred 1.25.0 4.0.0
rGADEM 2.35.1 4.0.0
RGalaxy 1.31.0 4.0.0
rgeos 0.5-2 3.6.0
rgexf 0.15.3 4.0.0
Rgin 1.7.0 4.0.0
rgl 0.100.30 4.0.0
RGMQL 1.7.0 4.0.0
RGMQLlib 1.7.0 4.0.0
RGraph2js 1.15.0 4.0.0
Rgraphviz 2.31.0 4.0.0
rGREAT 1.19.0 4.0.0
RGSEA 1.21.0 4.0.0
rgsepd 1.19.1 4.0.0
RGtk2 2.20.36 4.0.0
rhandsontable 0.3.7 4.0.0
rhdf5 2.31.3 4.0.0
rhdf5client 1.9.0 4.0.0
Rhdf5lib 1.9.0 4.0.0
Rhisat2 1.3.0 4.0.0
RhpcBLASctl 0.18-205 4.0.0
Rhtslib 1.19.0 4.0.0
RiboProfiling 1.17.0 4.0.0
riboSeqR 1.21.0 4.0.0
RImmPort 1.15.0 4.0.0
Ringo 1.51.0 4.0.0
rintrojs 0.2.2 4.0.0
rio 0.5.16 4.0.0
RIPSeeker 1.27.1 4.0.0
Risa 1.29.0 4.0.0
RISmed 2.1.7 4.0.0
RITAN 1.11.0 4.0.0
RITANdata 1.11.0 4.0.0
RIVER 1.11.0 4.0.0
rjags 4-10 4.0.0
rJava 0.9-11 3.6.0
RJMCMCNucleosomes 1.11.0 4.0.0
rjson 0.2.20 4.0.0
RJSONIO 1.3-1.4 4.0.0
Rlab 2.15.1 4.0.0
Rlabkey 2.3.3 4.0.0
rlang 0.4.2 4.0.0
rlecuyer 0.3-5 4.0.0
rlist 0.4.6.1 4.0.0
RLMM 1.49.0 4.0.0
Rmagic 2.0.3 4.0.0
Rmagpie 1.43.0 4.0.0
RMallow 1.0 4.0.0
RMariaDB 1.0.7 4.0.0
rmarkdown 2.0 4.0.0
RMassBank 2.15.3 4.0.0
RMassBankData 1.25.0 4.0.0
rmelting 1.3.0 4.0.0
rmeta 3.0 4.0.0
RmiR 1.43.0 4.0.0
RmiR.Hs.miRNA 1.0.7 4.0.0
Rmisc 1.5 4.0.0
Rmixmod 2.1.2.2 4.0.0
Rmmquant 1.5.0 4.0.0
Rmpfr 0.7-2 4.0.0
Rmpi 0.6-9 4.0.0
rms 5.1-4 4.0.0
RMTstat 0.3 4.0.0
rmutil 1.1.3 4.0.0
RMySQL 0.10.18 3.6.0
RNAdecay 1.7.0 4.0.0
RNAinteract 1.35.0 4.0.0
RNAither 2.35.0 4.0.0
RNAmodR 1.1.4 4.0.0
RNAmodR.AlkAnilineSeq 1.1.1 4.0.0
RNAmodR.Data 1.1.0 4.0.0
RNAmodR.ML 1.1.1 4.0.0
RNAmodR.RiboMethSeq 1.1.1 4.0.0
RNAprobR 1.19.0 4.0.0
RNAsense 1.1.0 4.0.0
rnaseqcomp 1.17.0 4.0.0
RNAseqData.HNRNPC.bam.chr14 0.25.0 4.0.0
rnaSeqMap 2.45.0 4.0.0
RNASeqPower 1.27.0 4.0.0
RNASeqR 1.5.0 4.0.0
RNASeqRData 1.5.0 4.0.0
RnBeads 2.5.0 4.0.0
RnBeads.hg19 1.19.0 4.0.0
rncl 0.8.3 4.0.0
RNeXML 2.4.0 4.0.0
rngtools 1.4 4.0.0
RNifti 1.0.1 4.0.0
Rnits 1.21.0 4.0.0
roar 1.23.0 4.0.0
robCompositions 2.2.0 4.0.0
robust 0.4-18.2 4.0.0
robustbase 0.93-5 4.0.0
RobustRankAggreg 1.1 4.0.0
ROC 1.63.0 4.0.0
ROCR 1.0-7 4.0.0
Roleswitch 1.25.0 4.0.0
rols 2.15.0 4.0.0
ROntoTools 2.15.0 4.0.0
Rook 1.1-1 4.0.0
rootSolve 1.8.2 4.0.0
ropls 1.19.8 4.0.0
ROTS 1.15.1 4.0.0
rowr 1.1.3 4.0.0
roxygen2 7.0.2 4.0.0
RPA 1.43.0 4.0.0
rpart 4.1-15 4.0.0
rpart.plot 3.0.8 4.0.0
rphast 1.6.9 3.6.0
RPMG 2.2-3 4.0.0
RPMM 1.25 4.0.0
RPostgres 1.1.3 3.6.0
RPostgreSQL 0.6-2 4.0.0
rPref 1.3 4.0.0
rprojroot 1.3-2 4.0.0
RProtoBufLib 1.9.7 4.0.0
RpsiXML 2.29.0 4.0.0
rpx 1.23.1 4.0.0
Rqc 1.21.0 4.0.0
rqt 1.13.0 4.0.0
rqubic 1.33.0 4.0.0
rrcov 1.4-9 4.0.0
rRDP 1.21.0 4.0.0
rRDPData 1.7.0 4.0.0
RRHO 1.27.0 4.0.0
Rsamtools 2.3.2 4.0.0
rsbml 2.45.0 4.0.0
rScudo 1.3.1 4.0.0
RSEIS 3.9-0 4.0.0
RSeqAn 1.7.0 4.0.0
Rserve 1.7-3.1 4.0.0
rsm 2.10 4.0.0
RSNNS 0.4-12 4.0.0
rsnps 0.3.0 4.0.0
Rsolnp 1.16 4.0.0
RSpectra 0.16-0 4.0.0
RSQLite 2.2.0 4.0.0
rstan 2.19.2 4.0.0
rstudioapi 0.10 4.0.0
Rsubread 2.1.1 4.0.0
rsvd 1.0.2 4.0.0
rsvg 1.3 3.6.0
RSVGTipsDevice 1.0-7 4.0.0
RSVSim 1.27.0 4.0.0
rTANDEM 1.27.0 4.0.0
RTCA 1.39.0 4.0.0
RTCGA 1.17.0 4.0.0
RTCGA.clinical 20151101.17.0 4.0.0
RTCGA.CNV 1.15.0 4.0.0
RTCGA.methylation 1.15.0 4.0.0
RTCGA.miRNASeq 1.15.0 4.0.0
RTCGA.mRNA 1.15.0 4.0.0
RTCGA.mutations 20151101.17.0 4.0.0
RTCGA.PANCAN12 1.15.0 4.0.0
RTCGA.rnaseq 20151101.17.0 4.0.0
RTCGA.RPPA 1.15.0 4.0.0
RTCGAToolbox 2.17.3 4.0.0
rTensor 1.4 4.0.0
rtfbs 0.3.9 3.6.0
rtiff 1.4.7 4.0.0
RTN 2.11.3 4.0.0
RTNduals 1.11.1 4.0.0
RTNsurvival 1.11.1 4.0.0
RTopper 1.33.0 4.0.0
rtracklayer 1.47.0 4.0.0
Rtreemix 1.49.0 4.0.0
rTRM 1.25.0 4.0.0
rTRMui 1.25.0 4.0.0
Rtsne 0.15 4.0.0
Rttf2pt1 1.3.8 4.0.0
runibic 1.9.0 4.0.0
RUnit 0.4.32 4.0.0
ruv 0.9.7.1 4.0.0
RUVcorr 1.19.0 4.0.0
RUVnormalize 1.21.1 4.0.0
RUVnormalizeData 1.7.0 4.0.0
RUVSeq 1.21.0 4.0.0
rvcheck 0.1.7 4.0.0
rversions 2.0.1 4.0.0
rvest 0.3.5 4.0.0
RVS 1.9.0 4.0.0
Rwave 2.4-8 4.0.0
RWeka 0.4-41 4.0.0
RWekajars 3.9.3-2 4.0.0
rWikiPathways 1.7.1 4.0.0
s4vd 1.1-1 4.0.0
S4Vectors 0.25.10 4.0.0
safe 3.27.0 4.0.0
sagenhaft 1.57.0 4.0.0
SAGx 1.61.0 4.0.0
SAIGEgds 1.1.0 4.0.0
samExploreR 1.11.0 4.0.0
sampleClassifier 1.11.0 4.0.0
sampleClassifierData 1.11.0 4.0.0
sampling 2.8 4.0.0
sampSurf 0.7-4 4.0.0
samr 3.0 4.0.0
SamSPECTRAL 1.41.0 4.0.0
sandwich 2.5-1 4.0.0
sangerseqR 1.23.0 4.0.0
SANTA 2.25.1 4.0.0
sapFinder 1.25.0 4.0.0
sass 0.1.2.1 4.0.0
SAVER 1.1.2 4.0.0
savR 1.25.0 4.0.0
SBGNview 1.1.0 4.0.0
SBGNview.data 1.1.0 4.0.0
SBMLR 1.83.0 4.0.0
SC3 1.15.1 4.0.0
Scale4C 1.9.0 4.0.0
scales 1.1.0 4.0.0
scAlign 1.3.0 4.0.0
SCAN.UPC 2.29.0 4.0.0
SCANVIS 1.1.0 4.0.0
scater 1.15.16 4.0.0
scatterpie 0.1.4 4.0.0
scatterplot3d 0.3-41 4.0.0
scBFA 1.1.0 4.0.0
SCBN 1.5.0 4.0.0
scDblFinder 1.1.0 4.0.0
scDD 1.11.1 4.0.0
scde 2.15.0 4.0.0
scds 1.3.0 4.0.0
scFeatureFilter 1.7.1 4.0.0
scfind 1.9.0 4.0.0
scGPS 1.1.0 4.0.0
schex 1.1.1 4.0.0
ScISI 1.59.0 4.0.0
SCLCBam 1.19.0 4.0.0
scMAGeCK 0.99.14 4.0.0
scmap 1.9.0 4.0.0
scMerge 1.3.0 4.0.0
scmeth 1.7.0 4.0.0
SCnorm 1.9.0 4.0.0
scone 1.11.1 4.0.0
Sconify 1.7.0 4.0.0
scoreInvHap 1.9.0 4.0.0
scPCA 1.1.3 4.0.0
scPipe 1.9.0 4.0.0
scran 1.15.16 4.0.0
scRecover 1.3.0 4.0.0
scrime 1.3.5 4.0.0
scRNAseq 2.1.5 4.0.0
scruff 1.5.5 4.0.0
scsR 1.23.0 4.0.0
scTensor 1.3.1 4.0.0
scTGIF 1.1.0 4.0.0
sctransform 0.2.1 4.0.0
sda 1.3.7 4.0.0
SDAMS 1.7.0 4.0.0
SDMTools 1.1-221.2 4.0.0
segmented 1.1-0 4.0.0
segmentSeq 2.21.0 4.0.0
selectKSigs 0.99.5 4.0.0
selectr 0.4-2 4.0.0
SELEX 1.19.1 4.0.0
SemDist 1.21.0 4.0.0
semisup 1.11.0 4.0.0
sendmailR 1.2-1 4.0.0
SEPIRA 1.7.0 4.0.0
seq2pathway 1.19.0 4.0.0
seq2pathway.data 1.19.0 4.0.0
SeqArray 1.27.7 4.0.0
seqbias 1.35.0 4.0.0
seqCAT 1.9.0 4.0.0
seqCNA 1.33.0 4.0.0
seqCNA.annot 1.23.0 4.0.0
seqcombo 1.9.0 4.0.0
SeqGSEA 1.27.0 4.0.0
seqinr 3.6-1 4.0.0
seqLogo 1.53.0 4.0.0
seqminer 7.1 4.0.0
seqPattern 1.19.0 4.0.0
seqplots 1.25.0 4.0.0
seqsetvis 1.7.1 4.0.0
SeqSQC 1.9.0 4.0.0
seqTools 1.21.0 4.0.0
SeqVarTools 1.25.0 4.0.0
seriation 1.2-8 4.0.0
serumStimulation 1.23.0 4.0.0
servr 0.15 4.0.0
sesame 1.5.2 4.0.0
sesameData 1.5.0 4.0.0
sessioninfo 1.1.1 4.0.0
SEtools 1.1.0 4.0.0
setRNG 2013.9-1 4.0.0
sets 1.0-18 4.0.0
settings 0.2.4 4.0.0
Seurat 3.1.2 4.0.0
sevenbridges 1.17.0 4.0.0
sevenC 1.7.0 4.0.0
sf 0.8-0 3.6.0
sfsmisc 1.1-4 4.0.0
sgeostat 1.0-27 4.0.0
SGSeq 1.21.1 4.0.0
shades 1.4.0 4.0.0
shape 1.4.4 4.0.0
SharedObject 1.1.0 4.0.0
shiny 1.4.0 4.0.0
shinyAce 0.4.1 4.0.0
shinyalert 1.0 4.0.0
shinyBS 0.61 4.0.0
shinycssloaders 0.2.0 4.0.0
shinycustomloader 0.9.0 4.0.0
shinydashboard 0.7.1 4.0.0
shinyFiles 0.7.5 4.0.0
shinyjqui 0.3.2 4.0.0
shinyjs 1.1 4.0.0
shinyMethyl 1.23.0 4.0.0
shinyMethylData 1.7.0 4.0.0
shinyTANDEM 1.25.0 4.0.0
shinytest 1.3.1 4.0.0
shinythemes 1.1.2 4.0.0
shinyTree 0.2.7 4.0.0
shinyWidgets 0.5.0 4.0.0
ShortRead 1.45.1 4.0.0
showimage 1.0.0 4.0.0
showtext 0.7 4.0.0
showtextdb 2.0 4.0.0
SIAMCAT 1.7.0 4.0.0
SICtools 1.17.0 4.0.0
SIFT.Hsapiens.dbSNP132 1.0.2 4.0.0
SIFT.Hsapiens.dbSNP137 1.0.0 4.0.0
sigaR 1.35.0 4.0.0
SigCheck 2.19.0 4.0.0
sigclust 1.1.0 4.0.0
sigFeature 1.5.0 4.0.0
SigFuge 1.25.0 4.0.0
siggenes 1.61.0 4.0.0
sights 1.13.0 4.0.0
signal 0.7-6 4.0.0
signatureSearch 1.1.2 4.0.0
signatureSearchData 1.1.0 4.0.0
signeR 1.13.1 4.0.0
signet 1.7.0 4.0.0
sigPathway 1.55.0 4.0.0
SigsPack 1.1.0 4.0.0
sigsquared 1.19.0 4.0.0
SIM 1.57.0 4.0.0
SIMAT 1.19.0 4.0.0
SimBindProfiles 1.25.0 4.0.0
SIMD 1.5.0 4.0.0
similaRpeak 1.19.0 4.0.0
SIMLR 1.13.0 4.0.0
simpIntLists 1.23.0 4.0.0
simpleaffy 2.63.0 4.0.0
simpleCache 0.4.1 4.0.0
simulatorZ 1.21.0 4.0.0
sincell 1.19.0 4.0.0
SingleCellExperiment 1.9.1 4.0.0
singleCellTK 1.7.0 4.0.0
SingleR 1.1.7 4.0.0
singscore 1.7.0 4.0.0
SISPA 1.17.0 4.0.0
sitePath 1.3.0 4.0.0
sitmo 2.0.1 4.0.0
sizepower 1.57.0 4.0.0
sjlabelled 1.1.1 4.0.0
sjmisc 2.8.3 4.0.0
sjstats 0.17.7 4.0.0
skewr 1.19.0 4.0.0
skmeans 0.2-11 4.0.0
slalom 1.9.0 4.0.0
slam 0.1-47 4.0.0
SLGI 1.47.0 4.0.0
slingshot 1.5.0 4.0.0
slinky 1.5.0 4.0.0
SLqPCR 1.53.0 4.0.0
sm 2.2-5.6 4.0.0
SMAD 1.3.1 4.0.0
SMAP 1.51.0 4.0.0
SmartSVA 0.1.3 4.0.0
smatr 3.4-8 4.0.0
sme 1.0.2 4.0.0
SMITE 1.15.0 4.0.0
smoother 1.1 4.0.0
smoothie 1.0-1 4.0.0
smoothmest 0.1-2 4.0.0
SmoothWin 3.0.0 4.0.0
SMVar 1.3.3 4.0.0
sn 1.5-4 4.0.0
sna 2.5 4.0.0
SNAGEE 1.27.0 4.0.0
SNAGEEdata 1.23.0 4.0.0
snapCGH 1.57.0 4.0.0
SNFtool 2.3.0 4.0.0
snm 1.35.0 4.0.0
snow 0.4-3 4.0.0
SnowballC 0.6.0 4.0.0
snowfall 1.84-6.1 4.0.0
SNPediaR 1.13.0 4.0.0
SNPhood 1.17.0 4.0.0
SNPhoodData 1.17.0 4.0.0
SNPlocs.Hsapiens.dbSNP.20101109 0.99.7 4.0.0
SNPlocs.Hsapiens.dbSNP.20120608 0.99.11 4.0.0
SNPlocs.Hsapiens.dbSNP141.GRCh38 0.99.11 4.0.0
SNPlocs.Hsapiens.dbSNP142.GRCh37 0.99.5 4.0.0
SNPlocs.Hsapiens.dbSNP144.GRCh37 0.99.20 4.0.0
SNPlocs.Hsapiens.dbSNP144.GRCh38 0.99.20 4.0.0
SNPlocs.Hsapiens.dbSNP150.GRCh38 0.99.20 4.0.0
SNPRelate 1.21.1 4.0.0
snpStats 1.37.0 4.0.0
softImpute 1.4 4.0.0
soGGi 1.19.0 4.0.0
sojourner 1.1.0 4.0.0
som 0.3-5.1 4.0.0
SomaticCancerAlterations 1.23.0 4.0.0
SomaticSignatures 2.23.0 4.0.0
SOMbrero 1.2-4 4.0.0
sonicLength 1.4.6 4.0.0
sourcetools 0.1.7 4.0.0
sp 1.3-2 4.0.0
SpacePAC 1.25.0 4.0.0
spam 2.5-1 4.0.0
Spaniel 1.1.0 4.0.0
SPARQL 1.16 4.0.0
sparsebn 0.1.0 4.0.0
sparsebnUtils 0.0.7 4.0.0
SparseDC 0.1.17 4.0.0
sparseDOSSA 1.11.0 4.0.0
sparseinv 0.1.3 4.0.0
SparseM 1.78 4.0.0
sparseMVN 0.2.1.1 4.0.0
sparsenetgls 1.5.0 4.0.0
SparseSignatures 1.7.0 4.0.0
sparsesvd 0.2 4.0.0
SPAtest 3.0.2 4.0.0
spatial 7.3-11 4.0.0
SpatialCPie 1.3.2 4.0.0
SpatialExtremes 2.0-7.3 4.0.0
spData 0.3.2 4.0.0
spdep 1.1-3 4.0.0
specL 1.21.2 4.0.0
SpeCond 1.41.0 4.0.0
SpectralTAD 1.3.0 4.0.0
speedglm 0.3-2 4.0.0
spelling 2.1 4.0.0
SPEM 1.27.0 4.0.0
SPIA 2.39.0 4.0.0
SpidermiR 1.17.2 4.0.0
SpikeIn 1.29.0 4.0.0
SpikeInSubset 1.27.0 4.0.0
spikeLI 2.47.0 4.0.0
spkTools 1.43.0 4.0.0
splancs 2.01-40 4.0.0
splatter 1.11.0 4.0.0
splicegear 1.59.1 4.0.0
SplicingGraphs 1.27.1 4.0.0
splines 4.0.0 4.0.0
splineTimeR 1.15.0 4.0.0
SPLINTER 1.13.0 4.0.0
splitstackshape 1.4.8 4.0.0
splots 1.53.0 4.0.0
splus2R 1.2-2 4.0.0
SPONGE 1.9.0 4.0.0
spotSegmentation 1.61.0 4.0.0
spp 1.16.0 4.0.0
SQLDataFrame 1.1.0 4.0.0
sqldf 0.4-11 4.0.0
SQN 1.0.5 4.0.0
SQUADD 1.37.0 4.0.0
SQUAREM 2020.1 4.0.0
squash 1.0.8 4.0.0
sRACIPE 1.3.1 4.0.0
SRAdb 1.49.1 4.0.0
sRAP 1.27.0 4.0.0
SRGnet 1.13.0 4.0.0
srnadiff 1.7.0 4.0.0
sROC 0.1-2 4.0.0
sscore 1.59.0 4.0.0
sscu 2.17.0 4.0.0
sSeq 1.25.0 4.0.0
ssize 1.61.0 4.0.0
SSPA 2.27.0 4.0.0
ssPATHS 1.1.0 4.0.0
ssrch 1.3.0 4.0.0
ssviz 1.21.0 4.0.0
st 1.2.5 4.0.0
stable 1.1.4 4.0.0
stabledist 0.7-1 4.0.0
stabs 0.6-3 4.0.0
stageR 1.9.0 4.0.0
STAN 2.15.0 4.0.0
StanHeaders 2.19.0 4.0.0
staRank 1.29.0 4.0.0
StarBioTrek 1.13.0 4.0.0
Starr 1.43.0 4.0.0
startupmsg 0.9.6 4.0.0
STATegRa 1.23.0 4.0.0
statip 0.2.3 4.0.0
statmod 1.4.33 4.0.0
statnet.common 4.3.0 4.0.0
stats 4.0.0 4.0.0
stats4 4.0.0 4.0.0
statTarget 1.17.2 4.0.0
stemHypoxia 1.23.0 4.0.0
stepNorm 1.59.0 4.0.0
stjudem 1.27.0 4.0.0
strandCheckR 1.5.0 4.0.0
Streamer 1.33.1 4.0.0
STRINGdb 1.99.5 4.0.0
stringdist 0.9.5.5 4.0.0
stringi 1.4.5 4.0.0
stringr 1.4.0 4.0.0
STROMA4 1.11.0 4.0.0
strucchange 1.5-2 4.0.0
Structstrings 1.3.1 4.0.0
StructuralVariantAnnotation 1.3.0 4.0.0
SubCellBarCode 1.3.2 4.0.0
subSeq 1.17.0 4.0.0
subspace 1.0.4 4.0.0
SummarizedBenchmark 2.5.0 4.0.0
SummarizedExperiment 1.17.1 4.0.0
superheat 0.1.0 4.0.0
SuperLearner 2.0-26 4.0.0
superpc 1.09 4.0.0
SuppDists 1.1-9.5 4.0.0
supraHex 1.25.0 4.0.0
survcomp 1.37.0 4.0.0
survey 3.36 4.0.0
survival 3.1-8 4.0.0
survivalROC 1.0.3 4.0.0
survivalsvm 0.0.5 4.0.0
survminer 0.4.6 4.0.0
survMisc 0.5.5 4.0.0
survtype 1.3.1 4.0.0
Sushi 1.25.0 4.0.0
sva 3.35.0 4.0.0
SVAPLSseq 1.13.0 4.0.0
svd 0.5 4.0.0
svDialogs 1.0.0 4.0.0
svglite 1.2.2 4.0.0
svGUI 1.0.0 4.0.0
svMisc 1.1.0 4.0.0
SWATH2stats 1.17.5 4.0.0
SwathXtend 2.9.0 4.0.0
swfdr 1.13.0 4.0.0
SwimR 1.25.0 4.0.0
switchBox 1.23.0 4.0.0
switchde 1.13.0 4.0.0
sybil 2.1.5 4.0.0
synapter 2.11.0 4.0.0
synapterdata 1.25.0 4.0.0
synergyfinder 2.1.4 4.0.0
synlet 1.17.0 4.0.0
SynMut 1.3.0 4.0.0
sys 3.3 4.0.0
sysfonts 0.8 4.0.0
systemfonts 0.1.1 4.0.0
systemPipeR 1.21.0 4.0.0
systemPipeRdata 1.15.2 4.0.0
tagcloud 0.6 4.0.0
target 1.1.0 4.0.0
targetscan.Hs.eg.db 0.6.1 4.0.0
targetscan.Mm.eg.db 0.6.1 4.0.0
TargetScore 1.25.0 4.0.0
TargetScoreData 1.23.0 4.0.0
TargetSearch 1.43.1 4.0.0
TargetSearchData 1.25.0 4.0.0
taRifx 1.0.6.1 4.0.0
TarSeqQC 1.17.1 4.0.0
TBX20BamSubset 1.23.0 4.0.0
TCC 1.27.1 4.0.0
TCGAbiolinks 2.15.3 4.0.0
TCGAbiolinksGUI 1.13.0 4.0.0
TCGAbiolinksGUI.data 1.7.0 4.0.0
TCGAMethylation450k 1.23.0 4.0.0
TCGAutils 1.7.7 4.0.0
tcltk 4.0.0 4.0.0
tcltk2 1.2-11 4.0.0
tcR 2.2.4 4.0.0
TCseq 1.11.0 4.0.0
TDARACNE 1.37.0 4.0.0
TeachingDemos 2.10 4.0.0
tensor 1.5 4.0.0
tensorA 0.36.1 4.0.0
tensorflow 2.0.0 4.0.0
TENxBrainData 1.7.0 4.0.0
TENxBUSData 1.1.0 4.0.0
TENxPBMCData 1.5.0 4.0.0
tenXplore 1.9.0 4.0.0
TEQC 4.9.0 4.0.0
ternarynet 1.31.0 4.0.0
test3cdf 2.18.0 4.0.0
tester 0.1.7 4.0.0
testextra 0.1.0.1 4.0.0
testit 0.11 4.0.0
testthat 2.3.1 4.0.0
TFARM 1.9.0 4.0.0
TFBSTools 1.25.1 4.0.0
TFEA.ChIP 1.7.0 4.0.0
TFHAZ 1.9.0 4.0.0
TFisher 0.2.0 4.0.0
TFMPvalue 0.0.8 4.0.0
tfruns 1.4 4.0.0
TFutils 1.7.0 4.0.0
TH.data 1.0-10 4.0.0
threejs 0.3.1 4.0.0
tibble 2.1.3 4.0.0
tictoc 1.0 4.0.0
tidygraph 1.1.2 4.0.0
tidyr 1.0.0 4.0.0
tidyselect 0.2.5 4.0.0
tidytree 0.3.1 4.0.0
tidyverse 1.3.0 4.0.0
tiff 0.1-5 4.0.0
tightClust 1.1 4.0.0
tigre 1.41.0 4.0.0
tilingArray 1.65.0 4.0.0
timecourse 1.59.0 4.0.0
timeDate 3043.102 4.0.0
timescape 1.11.0 4.0.0
timeSeries 3042.102 4.0.0
TimeSeriesExperiment 1.5.0 4.0.0
timsac 1.3.6 4.0.0
TIN 1.19.0 4.0.0
tinytex 0.19 4.0.0
TissueEnrich 1.7.0 4.0.0
tissueTreg 1.7.0 4.0.0
TitanCNA 1.25.0 4.0.0
tkrgl 0.8 4.0.0
tkrplot 0.0-24 4.0.0
tkWidgets 1.65.0 4.0.0
tm 0.7-7 4.0.0
TMB 1.7.16 4.0.0
TMixClust 1.9.0 4.0.0
tmle 1.4.0.1 4.0.0
tmvtnorm 1.4-10 4.0.0
TNBC.CMS 1.3.0 4.0.0
TnT 1.9.0 4.0.0
TOAST 1.1.0 4.0.0
tofsims 1.15.0 4.0.0
tofsimsData 1.15.0 4.0.0
tools 4.0.0 4.0.0
ToPASeq 1.21.1 4.0.0
topconfects 1.3.1 4.0.0
topdownr 1.9.4 4.0.0
topdownrdata 1.9.0 4.0.0
topGO 2.39.1 4.0.0
topicmodels 0.2-9 4.0.0
topologyGSA 1.4.6 4.0.0
TPP 3.15.0 4.0.0
TPP2D 1.3.0 4.0.0
tracktables 1.21.0 4.0.0
trackViewer 1.23.2 4.0.0
tractor.base 3.3.2 4.0.0
tradeSeq 1.1.0 4.0.0
transcriptogramer 1.9.2 4.0.0
transcriptR 1.15.0 4.0.0
transite 1.5.0 4.0.0
tRanslatome 1.25.0 4.0.0
transport 0.12-1 4.0.0
TransView 1.31.0 4.0.0
traseR 1.17.0 4.0.0
tree 1.0-40 4.0.0
treeio 1.11.2 4.0.0
TreeSummarizedExperiment 1.3.0 4.0.0
trena 1.9.0 4.0.0
Trendy 1.9.2 4.0.0
triebeard 0.3.0 4.0.0
triform 1.29.1 4.0.0
trigger 1.33.0 4.0.0
trio 3.25.1 4.0.0
triplex 1.27.0 4.0.0
tRNA 1.5.1 4.0.0
tRNAdbImport 1.5.1 4.0.0
tRNAscanImport 1.7.1 4.0.0
TRONCO 2.19.0 4.0.0
truncdist 1.0-2 4.0.0
truncnorm 1.0-8 4.0.0
trust 0.1-8 4.0.0
TSCAN 1.25.0 4.0.0
TSclust 1.2.4 4.0.0
TSdist 3.6 4.0.0
tseries 0.10-47 4.0.0
tsne 0.1-3 4.0.0
TSP 1.1-7 4.0.0
tspair 1.45.0 4.0.0
TSRchitect 1.13.3 4.0.0
TTMap 1.9.0 4.0.0
TTR 0.23-6 4.0.0
TurboNorm 1.35.0 4.0.0
turner 0.1.7 4.0.0
TVTB 1.13.0 4.0.0
tweeDEseq 1.33.0 4.0.0
tweeDEseqCountData 1.25.0 4.0.0
tweedie 2.3.2 4.0.0
tweenr 1.0.1 4.0.0
twilight 1.63.0 4.0.0
twoddpcr 1.11.0 4.0.0
TxDb.Athaliana.BioMart.plantsmart22 3.0.1 4.0.0
TxDb.Celegans.UCSC.ce6.ensGene 3.2.2 4.0.0
TxDb.Dmelanogaster.UCSC.dm3.ensGene 3.2.2 4.0.0
TxDb.Dmelanogaster.UCSC.dm6.ensGene 3.4.6 4.0.0
TxDb.Drerio.UCSC.danRer10.refGene 3.4.6 4.0.0
TxDb.Ggallus.UCSC.galGal5.refGene 3.10.0 4.0.0
TxDb.Hsapiens.UCSC.hg18.knownGene 3.2.2 4.0.0
TxDb.Hsapiens.UCSC.hg19.knownGene 3.2.2 4.0.0
TxDb.Hsapiens.UCSC.hg19.lincRNAsTranscripts 3.2.2 4.0.0
TxDb.Hsapiens.UCSC.hg38.knownGene 3.10.0 4.0.0
TxDb.Mmusculus.UCSC.mm10.ensGene 3.4.0 4.0.0
TxDb.Mmusculus.UCSC.mm10.knownGene 3.10.0 4.0.0
TxDb.Mmusculus.UCSC.mm9.knownGene 3.2.2 4.0.0
TxDb.Rnorvegicus.UCSC.rn4.ensGene 3.2.2 4.0.0
TxDb.Rnorvegicus.UCSC.rn5.refGene 3.10.0 4.0.0
TxDb.Rnorvegicus.UCSC.rn6.refGene 3.4.6 4.0.0
tximeta 1.5.16 4.0.0
tximport 1.15.6 4.0.0
tximportData 1.15.0 4.0.0
TxRegInfra 1.7.0 4.0.0
TypeInfo 1.53.0 4.0.0
ucminf 1.1-4 4.0.0
Ularcirc 1.5.0 4.0.0
umap 0.2.4.1 4.0.0
UNDO 1.29.0 4.0.0
unifiedWMWqPCR 1.23.0 4.0.0
UniProt.ws 2.27.0 4.0.0
uniqtag 1.0 4.0.0
Uniquorn 2.7.0 4.0.0
units 0.6-5 3.6.0
universalmotif 1.5.13 4.0.0
UpSetR 1.4.0 4.0.0
urca 1.3-0 4.0.0
urltools 1.7.3 4.0.0
usethis 1.5.1 4.0.0
uSORT 1.13.0 4.0.0
utf8 1.1.4 4.0.0
utils 4.0.0 4.0.0
uuid 0.1-2 4.0.0
uwot 0.1.5 4.0.0
V8 2.3 3.6.0
VanillaICE 1.49.0 4.0.0
varhandle 2.0.4 4.0.0
variancePartition 1.17.1 4.0.0
VariantAnnotation 1.33.0 4.0.0
VariantExperiment 1.1.0 4.0.0
VariantFiltering 1.23.0 4.0.0
VariantTools 1.29.0 4.0.0
varSelRF 0.7-8 4.0.0
vbmp 1.55.0 4.0.0
vbsr 0.0.5 4.0.0
vcd 1.4-5 4.0.0
VCFArray 1.3.0 4.0.0
vcfR 1.9.0 4.0.0
vctrs 0.2.1 4.0.0
vdiffr 0.3.1 4.0.0
Vega 1.35.0 4.0.0
VegaMC 3.25.0 4.0.0
vegan 2.5-6 4.0.0
venn 1.9 4.0.0
VennDetail 1.3.0 4.0.0
VennDiagram 1.6.20 4.0.0
VGAM 1.1-2 4.0.0
vidger 1.7.0 4.0.0
VIM 4.8.0 4.0.0
vioplot 0.3.4 4.0.0
viper 1.21.0 4.0.0
vipor 0.4.5 4.0.0
viridis 0.5.1 4.0.0
viridisLite 0.3.0 4.0.0
ViSEAGO 1.1.3 4.0.0
visNetwork 2.0.9 4.0.0
vroom 1.2.0 4.0.0
vsn 3.55.0 4.0.0
vtpnet 0.27.0 4.0.0
vulcan 1.9.0 4.0.0
vulcandata 1.9.0 4.0.0
waddR 1.1.1 4.0.0
waffle 0.7.0 4.0.0
wateRmelon 1.31.0 4.0.0
wavClusteR 2.21.0 4.0.0
waveslim 1.7.5.1 4.0.0
wavethresh 4.6.8 4.0.0
waveTilingData 1.23.0 4.0.0
weaver 1.53.0 4.0.0
webbioc 1.59.0 4.0.0
webdriver 1.0.5 4.0.0
webshot 0.5.2 4.0.0
webutils 1.0 4.0.0
WES.1KG.WUGSC 1.19.0 4.0.0
wesanderson 0.3.6 4.0.0
WGCNA 1.68 4.0.0
wheatmap 0.1.0 4.0.0
whisker 0.4 4.0.0
widgetTools 1.65.0 4.0.0
wiggleplotr 1.11.1 4.0.0
withr 2.1.2 4.0.0
wmtsa 2.0-3 4.0.0
wordcloud 2.6 4.0.0
Wrench 1.5.0 4.0.0
writexl 1.2 4.0.0
WriteXLS 5.0.0 4.0.0
XBSeq 1.19.0 4.0.0
XCIR 1.1.0 4.0.0
xcms 3.9.2 4.0.0
XDE 2.33.0 4.0.0
Xeva 1.3.0 4.0.0
xfun 0.12 4.0.0
xgboost 0.90.0.2 4.0.0
XGR 1.1.7 4.0.0
XINA 1.5.0 4.0.0
xlsx 0.6.1 4.0.0
xlsxjars 0.6.1 4.0.0
xmapbridge 1.45.0 4.0.0
XML 3.98-1.20 4.0.0
xml2 1.2.2 4.0.0
xmlparsedata 1.0.3 4.0.0
xopen 1.0.0 4.0.0
xps 1.47.0 4.0.0
xptr 1.1.2 4.0.0
xtable 1.8-4 4.0.0
XtraSNPlocs.Hsapiens.dbSNP144.GRCh37 0.99.12 4.0.0
XtraSNPlocs.Hsapiens.dbSNP144.GRCh38 0.99.12 4.0.0
xts 0.11-2 4.0.0
XVector 0.27.0 4.0.0
yaml 2.2.0 4.0.0
yamss 1.13.0 4.0.0
YAPSA 1.13.3 4.0.0
yaqcaffy 1.47.0 4.0.0
yarn 1.13.0 4.0.0
yeast2.db 3.2.3 4.0.0
yeastCC 1.27.0 4.0.0
yeastExpData 0.33.0 4.0.0
yeastNagalakshmi 1.23.0 4.0.0
yeastRNASeq 0.25.0 4.0.0
zCompositions 1.3.3-1 4.0.0
zeallot 0.1.0 4.0.0
zebrafishRNASeq 1.7.0 4.0.0
zFPKM 1.9.0 4.0.0
zinbwave 1.9.1 4.0.0
zip 2.0.4 4.0.0
zlibbioc 1.33.0 4.0.0
zoo 1.8-7 4.0.0