| Back to Multiple platform build/check report for BioC 3.11 | 
  | 
This page was generated on 2020-10-17 11:57:42 -0400 (Sat, 17 Oct 2020).
| TO THE DEVELOPERS/MAINTAINERS OF THE RSVSim PACKAGE: Please make sure to use the following settings in order to reproduce any error or warning you see on this page. | 
| Package 1544/1905 | Hostname | OS / Arch | INSTALL | BUILD | CHECK | BUILD BIN | ||||||
| RSVSim 1.28.0 Christoph Bartenhagen 
  | malbec2 | Linux (Ubuntu 18.04.4 LTS) / x86_64 | OK | OK | OK | |||||||
| tokay2 | Windows Server 2012 R2 Standard / x64 | OK | OK | OK | [ OK ] | |||||||
| machv2 | macOS 10.14.6 Mojave / x86_64 | OK | OK | OK | OK | 
| Package: RSVSim | 
| Version: 1.28.0 | 
| Command: rm -rf RSVSim.buildbin-libdir && mkdir RSVSim.buildbin-libdir && C:\Users\biocbuild\bbs-3.11-bioc\R\bin\R.exe CMD INSTALL --merge-multiarch --build --library=RSVSim.buildbin-libdir RSVSim_1.28.0.tar.gz | 
| StartedAt: 2020-10-17 11:32:40 -0400 (Sat, 17 Oct 2020) | 
| EndedAt: 2020-10-17 11:33:23 -0400 (Sat, 17 Oct 2020) | 
| EllapsedTime: 42.9 seconds | 
| RetCode: 0 | 
| Status: OK | 
| PackageFile: RSVSim_1.28.0.zip | 
| PackageFileSize: 686.8 KiB | 
##############################################################################
##############################################################################
###
### Running command:
###
###   rm -rf RSVSim.buildbin-libdir && mkdir RSVSim.buildbin-libdir && C:\Users\biocbuild\bbs-3.11-bioc\R\bin\R.exe CMD INSTALL --merge-multiarch --build --library=RSVSim.buildbin-libdir RSVSim_1.28.0.tar.gz
###
##############################################################################
##############################################################################
install for i386
* installing *source* package 'RSVSim' ...
** using staged installation
** R
** data
** inst
** byte-compile and prepare package for lazy loading
** help
*** installing help indices
  converting help for package 'RSVSim'
    finding HTML links ... done
    compareSVs                              html  
    estimateSVSizes                         html  
    segmentalDuplications                   html  
    simulateSV                              html  
    weightsMechanisms                       html  
    weightsRepeats                          html  
** building package indices
** installing vignettes
** testing if installed package can be loaded from temporary location
** testing if installed package can be loaded from final location
** testing if installed package keeps a record of temporary installation path
install for x64
* installing *source* package 'RSVSim' ...
** testing if installed package can be loaded
* MD5 sums
packaged installation of 'RSVSim' as RSVSim_1.28.0.zip
* DONE (RSVSim)