| Back to Multiple platform build/check report for BioC 3.11 |
|
This page was generated on 2020-10-17 11:54:41 -0400 (Sat, 17 Oct 2020).
| TO THE DEVELOPERS/MAINTAINERS OF THE DNAcopy PACKAGE: Please make sure to use the following settings in order to reproduce any error or warning you see on this page. |
| Package 495/1905 | Hostname | OS / Arch | INSTALL | BUILD | CHECK | BUILD BIN | ||||||
| DNAcopy 1.62.0 Venkatraman E. Seshan
| malbec2 | Linux (Ubuntu 18.04.4 LTS) / x86_64 | [ OK ] | OK | OK | |||||||
| tokay2 | Windows Server 2012 R2 Standard / x64 | OK | OK | OK | OK | |||||||
| machv2 | macOS 10.14.6 Mojave / x86_64 | OK | OK | OK | OK |
| Package: DNAcopy |
| Version: 1.62.0 |
| Command: /home/biocbuild/bbs-3.11-bioc/R/bin/R CMD INSTALL DNAcopy |
| StartedAt: 2020-10-16 16:03:41 -0400 (Fri, 16 Oct 2020) |
| EndedAt: 2020-10-16 16:03:47 -0400 (Fri, 16 Oct 2020) |
| EllapsedTime: 5.3 seconds |
| RetCode: 0 |
| Status: OK |
##############################################################################
##############################################################################
###
### Running command:
###
### /home/biocbuild/bbs-3.11-bioc/R/bin/R CMD INSTALL DNAcopy
###
##############################################################################
##############################################################################
* installing to library ‘/home/biocbuild/bbs-3.11-bioc/R/library’
* installing *source* package ‘DNAcopy’ ...
** using staged installation
** libs
gfortran -fno-optimize-sibling-calls -fpic -g -O2 -Wall -c cbsWtstats.f -o cbsWtstats.o
cbsWtstats.f:283:0:
iseg(2) = tmaxj
Warning: ‘tmaxj’ may be used uninitialized in this function [-Wmaybe-uninitialized]
cbsWtstats.f:282:0:
iseg(1) = tmaxi
Warning: ‘tmaxi’ may be used uninitialized in this function [-Wmaybe-uninitialized]
gfortran -fno-optimize-sibling-calls -fpic -g -O2 -Wall -c cbststats.f -o cbststats.o
cbststats.f:258:0:
tmaxj = sxmxi + i2j
Warning: ‘sxmxi’ may be used uninitialized in this function [-Wmaybe-uninitialized]
gfortran -fno-optimize-sibling-calls -fpic -g -O2 -Wall -c changepoints-wtd.f -o changepoints-wtd.o
gfortran -fno-optimize-sibling-calls -fpic -g -O2 -Wall -c changepoints.f -o changepoints.o
gfortran -fno-optimize-sibling-calls -fpic -g -O2 -Wall -c esegment.f -o esegment.o
gcc -I"/home/biocbuild/bbs-3.11-bioc/R/include" -DNDEBUG -I/usr/local/include -fpic -g -O2 -Wall -c flchoose.c -o flchoose.o
gcc -I"/home/biocbuild/bbs-3.11-bioc/R/include" -DNDEBUG -I/usr/local/include -fpic -g -O2 -Wall -c fphyper.c -o fphyper.o
gcc -I"/home/biocbuild/bbs-3.11-bioc/R/include" -DNDEBUG -I/usr/local/include -fpic -g -O2 -Wall -c fpnorm.c -o fpnorm.o
gfortran -fno-optimize-sibling-calls -fpic -g -O2 -Wall -c getbdry.f -o getbdry.o
gfortran -fno-optimize-sibling-calls -fpic -g -O2 -Wall -c prune.f -o prune.o
gcc -I"/home/biocbuild/bbs-3.11-bioc/R/include" -DNDEBUG -I/usr/local/include -fpic -g -O2 -Wall -c rshared.c -o rshared.o
gfortran -fno-optimize-sibling-calls -fpic -g -O2 -Wall -c segmentp.f -o segmentp.o
gfortran -fno-optimize-sibling-calls -fpic -g -O2 -Wall -c smoothCNA.f -o smoothCNA.o
gfortran -fno-optimize-sibling-calls -fpic -g -O2 -Wall -c tailprobs.f -o tailprobs.o
gcc -shared -L/home/biocbuild/bbs-3.11-bioc/R/lib -L/usr/local/lib -o DNAcopy.so cbsWtstats.o cbststats.o changepoints-wtd.o changepoints.o esegment.o flchoose.o fphyper.o fpnorm.o getbdry.o prune.o rshared.o segmentp.o smoothCNA.o tailprobs.o -lgfortran -lm -lquadmath -L/home/biocbuild/bbs-3.11-bioc/R/lib -lR
installing to /home/biocbuild/bbs-3.11-bioc/R/library/00LOCK-DNAcopy/00new/DNAcopy/libs
** R
** data
*** moving datasets to lazyload DB
** demo
** inst
** byte-compile and prepare package for lazy loading
** help
*** installing help indices
** building package indices
** installing vignettes
** testing if installed package can be loaded from temporary location
** checking absolute paths in shared objects and dynamic libraries
** testing if installed package can be loaded from final location
** testing if installed package keeps a record of temporary installation path
* DONE (DNAcopy)