| Back to Multiple platform build/check report for BioC 3.11 |
|
This page was generated on 2020-10-17 11:56:15 -0400 (Sat, 17 Oct 2020).
| TO THE DEVELOPERS/MAINTAINERS OF THE ChIPQC PACKAGE: Please make sure to use the following settings in order to reproduce any error or warning you see on this page. |
| Package 283/1905 | Hostname | OS / Arch | INSTALL | BUILD | CHECK | BUILD BIN | ||||||
| ChIPQC 1.24.1 Tom Carroll
| malbec2 | Linux (Ubuntu 18.04.4 LTS) / x86_64 | OK | OK | WARNINGS | |||||||
| tokay2 | Windows Server 2012 R2 Standard / x64 | OK | OK | WARNINGS | [ OK ] | |||||||
| machv2 | macOS 10.14.6 Mojave / x86_64 | OK | OK | WARNINGS | OK |
| Package: ChIPQC |
| Version: 1.24.1 |
| Command: rm -rf ChIPQC.buildbin-libdir && mkdir ChIPQC.buildbin-libdir && C:\Users\biocbuild\bbs-3.11-bioc\R\bin\R.exe CMD INSTALL --merge-multiarch --build --library=ChIPQC.buildbin-libdir ChIPQC_1.24.1.tar.gz |
| StartedAt: 2020-10-17 10:05:23 -0400 (Sat, 17 Oct 2020) |
| EndedAt: 2020-10-17 10:07:28 -0400 (Sat, 17 Oct 2020) |
| EllapsedTime: 125.0 seconds |
| RetCode: 0 |
| Status: OK |
| PackageFile: ChIPQC_1.24.1.zip |
| PackageFileSize: 2.134 MiB |
##############################################################################
##############################################################################
###
### Running command:
###
### rm -rf ChIPQC.buildbin-libdir && mkdir ChIPQC.buildbin-libdir && C:\Users\biocbuild\bbs-3.11-bioc\R\bin\R.exe CMD INSTALL --merge-multiarch --build --library=ChIPQC.buildbin-libdir ChIPQC_1.24.1.tar.gz
###
##############################################################################
##############################################################################
install for i386
* installing *source* package 'ChIPQC' ...
** using staged installation
** R
** data
** inst
** byte-compile and prepare package for lazy loading
** help
*** installing help indices
converting help for package 'ChIPQC'
finding HTML links ... done
ChIPQC-data html
finding level-2 HTML links ... done
ChIPQC-package html
ChIPQC html
ChIPQCexperiment-class html
ChIPQCreport html
ChIPQCsample-class html
FragmentLengthCrossCoverage-methods html
Normalisedaveragepeaksignal-methods html
QCannotation-methods html
QCcontrol-methods html
QCdba-methods html
QCmetadata-methods html
QCmetrics-methods html
QCsample-methods html
ReadLengthCrossCoverage-methods html
RelativeCrossCoverage-methods html
averagepeaksignal-methods html
coveragehistogram-methods html
crosscoverage-methods html
duplicateRate-methods html
duplicates-methods html
flagtagcounts-methods html
fragmentlength-methods html
frip-methods html
mapped-methods html
peaks-methods html
plotCC-methods html
plotCorHeatmap-methods html
plotCoverageHist-methods html
plotFribl-methods html
plotFrip-methods html
plotPeakProfile-methods html
plotPrincomp-methods html
plotRap-methods html
plotRegi-methods html
plotSSD-methods html
readlength-methods html
reads-methods html
regi-methods html
ribl-methods html
rip-methods html
ssd-methods html
** building package indices
** installing vignettes
** testing if installed package can be loaded from temporary location
** testing if installed package can be loaded from final location
** testing if installed package keeps a record of temporary installation path
install for x64
* installing *source* package 'ChIPQC' ...
** testing if installed package can be loaded
* MD5 sums
packaged installation of 'ChIPQC' as ChIPQC_1.24.1.zip
* DONE (ChIPQC)